Workbook
Name agrupada: Criterios!$D$13
Name agrupada: Criterios!$D$13
Name Año: Criterios!$B$5
Name Año: Criterios!$B$5
Name boletin: Criterios!$A$8
Name boletin: Criterios!$A$8
Name D_I: Criterios!$B$14
Name D_I: Criterios!$B$14
Name factor_trimestre: Criterios!$R$8
Name factor_trimestre: Criterios!$R$8
Name J_V: Criterios!$B$13
Name J_V: Criterios!$B$13
Name jurisdiccion: Criterios!$E$8
Name jurisdiccion: Criterios!$E$8
Name Monitorios: Criterios!#REF!
Name Monitorios: Criterios!#REF!
Name salto: Criterios!$Q$10
Name salto: Criterios!$Q$10
Name TrimFin: Criterios!$D$6
Name TrimFin: Criterios!$D$6
Name TrimIni: Criterios!$D$5
Name TrimIni: Criterios!$D$5
Name ULTIMODIA: Criterios!$Q$14
Name ultimoDiaTrim: Criterios!$Q$12
Name ultimoDiaTrim: Criterios!$Q$12

Sheet Criterios
Q2: Factor normalización dedicación magistrados por trimestre
A3: ACTIVIDAD POR JURISDICCIÓN | Q3: 1 | R3: 3 | S3: =AND(Q3>=TrimIni,Q3<=TrimFin) -> FALSE
A4: Fecha Informe: 06 oct. 2026 | Q4: 2 | R4: 3 | S4: =AND(Q4>=TrimIni,Q4<=TrimFin) -> TRUE
A5: Año: | B5: 2026 | C5: Trimestre desde | D5: 2 | Q5: 3 | R5: 2 | S5: =AND(Q5>=TrimIni,Q5<=TrimFin) -> FALSE
C6: Trimestre hasta | D6: 2 | Q6: 4 | R6: 3 | S6: =AND(Q6>=TrimIni,Q6<=TrimFin) -> FALSE
R8: =11/SUMIF(S3:S6,TRUE,R3:R6) -> 3.6666667
A9: Tribunales de Justicia | B9: ANDALUCIA
A10: Provincias | B10: GRANADA | Q10: 0
A11: Resumenes por Partidos Judiciales | B11: SANTA FE
A13: Excluir Jurisdicción Voluntaria: | B13: NO | C13: Agrupada: | D13: NO
A14: Excluir Diligencias Indeterminadas: | B14: SI | Q14: =DATE(B5,D6*3+1,0)+547 -> 46750

Sheet NºAsuntos
B2: =Criterios!A9 &" "&Criterios!B9 -> Tribunales de Justicia ANDALUCIA
A3: Nº de Asuntos | B3: =Criterios!A10 &" "&Criterios!B10 -> Provincias GRANADA
B4: =Criterios!A11 &" "&Criterios!B11 -> Resumenes por Partidos Judiciales SANTA FE
A5: ="Año: " &Criterios!B5 & " Trimestre " &Criterios!D5 & " al " &Criterios!D6 -> Año: 2026 Trimestre 2 al 2 | B5: Órganos | C5: En Tramite Al Inicio Del Periodo | E5: Ingresados | G5: Resueltos | I5: En Tramite Al Final Del Periodo | K5: Módulo Entrada 2018 | L5: % Módulo Entrada 2018 | M5: Módulo Resolución 2018 | N5: Módulo Pendencia 2018
A7: COMPETENCIAS | B7: Nº | C7: Nº Asuntos | D7: Media x Órgano | E7: Nº Asuntos | F7: Media x Órgano | G7: Nº Asuntos | H7: Media x Órgano | I7: Nº Asuntos | J7: Media x Órgano
A8: =Datos!A8 -> Jurisdicción Civil ( 1 ):
A9: =Datos!A9 -> Sección Civil del T.I | B9: =Datos!AO9 -> 0 | C9: =IF(ISNUMBER(IF(J_V="SI",Datos!I9,Datos!I9+Datos!Y9)),IF(J_V="SI",Datos!I9,Datos!I9+Datos!Y9)," - ") -> - | D9: =IF(ISNUMBER(C9/Datos!BH9),C9/Datos!BH9," - ") -> - | E9: =IF(ISNUMBER(IF(J_V="SI",Datos!J9,Datos!J9+Datos!Z9)),IF(J_V="SI",Datos!J9,Datos!J9+Datos!Z9)," - ") -> - | F9: =IF(ISNUMBER(E9/B9),E9/B9," - ") -> - | G9: =IF(ISNUMBER(IF(J_V="SI",Datos!K9,Datos!K9+Datos!AA9)),IF(J_V="SI",Datos!K9,Datos!K9+Datos!AA9)," - ") -> - | H9: =IF(ISNUMBER(G9/B9),G9/B9," - ") -> - | I9: =IF(ISNUMBER(IF(J_V="SI",Datos!L9,Datos!L9+Datos!AB9)),IF(J_V="SI",Datos!L9,Datos!L9+Datos!AB9)," - ") -> - | J9: =IF(ISNUMBER(I9/B9),I9/B9," - ") -> - | K9: =IF(ISNUMBER(Datos!EO9),Datos!EO9," - ") -> - | L9: =K9*factor_trimestre/Datos!ER9 -> #VALUE! | M9: =IF(ISNUMBER(Datos!EP9),Datos!EP9," - ") -> - | N9: =IF(ISNUMBER(Datos!EQ9),Datos!EQ9," - ") -> - | BQ9: =Datos!EZ9 -> 0
A10: =Datos!A10 -> Sección De Violencia sobre la Mujer del TI | B10: =Datos!AO10 -> 1 | C10: =IF(ISNUMBER(Datos!I10),Datos!I10," - ") -> 0 | D10: =IF(ISNUMBER(C10/Datos!BH10),C10/Datos!BH10," - ") -> 0 | E10: =IF(ISNUMBER(Datos!J10),Datos!J10," - ") -> 0 | F10: =IF(ISNUMBER(E10/B10),E10/B10," - ") -> 0 | G10: =IF(ISNUMBER(Datos!K10),Datos!K10," - ") -> 0 | H10: =IF(ISNUMBER(G10/B10),G10/B10," - ") -> 0 | I10: =IF(ISNUMBER(Datos!L10),Datos!L10," - ") -> 0 | J10: =IF(ISNUMBER(I10/B10),I10/B10," - ") -> 0 | K10: =IF(ISNUMBER(Datos!EO10),Datos!EO10," - ") -> - | L10: =K10*factor_trimestre/Datos!ER10 -> #VALUE! | M10: =IF(ISNUMBER(Datos!EP10),Datos!EP10," - ") -> - | N10: =IF(ISNUMBER(Datos!EQ10),Datos!EQ10," - ") -> - | BQ10: =Datos!EZ10 -> 0
A11: =Datos!A11 -> Sección de Familia, infancia y capacidad del TI | B11: =Datos!AO11 -> 0 | C11: =IF(ISNUMBER(IF(J_V="SI",Datos!I11,Datos!I11+Datos!Y11)),IF(J_V="SI",Datos!I11,Datos!I11+Datos!Y11)," - ") -> - | D11: =IF(ISNUMBER(C11/Datos!BH11),C11/Datos!BH11," - ") -> - | E11: =IF(ISNUMBER(IF(J_V="SI",Datos!J11,Datos!J11+Datos!Z11)),IF(J_V="SI",Datos!J11,Datos!J11+Datos!Z11)," - ") -> - | F11: =IF(ISNUMBER(E11/B11),E11/B11," - ") -> - | G11: =IF(ISNUMBER(IF(J_V="SI",Datos!K11,Datos!K11+Datos!AA11)),IF(J_V="SI",Datos!K11,Datos!K11+Datos!AA11)," - ") -> - | H11: =IF(ISNUMBER(G11/B11),G11/B11," - ") -> - | I11: =IF(ISNUMBER(IF(J_V="SI",Datos!L11,Datos!L11+Datos!AB11)),IF(J_V="SI",Datos!L11,Datos!L11+Datos!AB11)," - ") -> - | J11: =IF(ISNUMBER(I11/B11),I11/B11," - ") -> - | K11: =IF(ISNUMBER(Datos!EO11),Datos!EO11," - ") -> - | L11: =K11*factor_trimestre/Datos!ER11 -> #VALUE! | M11: =IF(ISNUMBER(Datos!EP11),Datos!EP11," - ") -> - | N11: =IF(ISNUMBER(Datos!EQ11),Datos!EQ11," - ") -> - | BQ11: =Datos!EZ11 -> 0
A12: =Datos!A12 -> Sección Civil y de Instrucción del T.I. | B12: =Datos!AO12 -> 4 | C12: =IF(ISNUMBER(IF(J_V="SI",Datos!I12,Datos!I12+Datos!Y12)),IF(J_V="SI",Datos!I12,Datos!I12+Datos!Y12)," - ") -> 4633 | D12: =IF(ISNUMBER(C12/Datos!BH12),C12/Datos!BH12," - ") -> 1158.25 | E12: =IF(ISNUMBER(IF(J_V="SI",Datos!J12,Datos!J12+Datos!Z12)),IF(J_V="SI",Datos!J12,Datos!J12+Datos!Z12)," - ") -> 1206 | F12: =IF(ISNUMBER(E12/B12),E12/B12," - ") -> 301.5 | G12: =IF(ISNUMBER(IF(J_V="SI",Datos!K12,Datos!K12+Datos!AA12)),IF(J_V="SI",Datos!K12,Datos!K12+Datos!AA12)," - ") -> 1411 | H12: =IF(ISNUMBER(G12/B12),G12/B12," - ") -> 352.75 | I12: =IF(ISNUMBER(IF(J_V="SI",Datos!L12,Datos!L12+Datos!AB12)),IF(J_V="SI",Datos!L12,Datos!L12+Datos!AB12)," - ") -> 4428 | J12: =IF(ISNUMBER(I12/B12),I12/B12," - ") -> 1107 | K12: =IF(ISNUMBER(Datos!EO12),Datos!EO12," - ") -> - | L12: =K12*factor_trimestre/Datos!ER12 -> #VALUE! | M12: =IF(ISNUMBER(Datos!EP12),Datos!EP12," - ") -> - | N12: =IF(ISNUMBER(Datos!EQ12),Datos!EQ12," - ") -> - | BQ12: =Datos!EZ12 -> 0
A13: =Datos!A13 -> TOTAL | B13: =Datos!AP13 -> 4 | C13: =SUBTOTAL(9,C8:C12) -> 4633 | D13: =IF(ISNUMBER(C13/Datos!BI13),C13/Datos!BI13," - ") -> - | E13: =SUBTOTAL(9,E8:E12) -> 1206 | F13: =IF(ISNUMBER(E13/B13),E13/B13," - ") -> 301.5 | G13: =SUBTOTAL(9,G8:G12) -> 1411 | H13: =IF(ISNUMBER(G13/B13),G13/B13," - ") -> 352.75 | I13: =SUBTOTAL(9,I8:I12) -> 4428 | J13: =IF(ISNUMBER(I13/B13),I13/B13," - ") -> 1107 | K13: =SUBTOTAL(9,K8:K12) -> 0 | M13: =SUBTOTAL(9,M8:M12) -> 0 | N13: =SUBTOTAL(9,N8:N12) -> 0
A14: =Datos!A14 -> Jurisdicción Penal ( 2 ): | BQ14: =Datos!EZ14 -> 0
A15: =Datos!A15 -> Seccion Instruccion Del T.I. | B15: =Datos!AO15 -> 0 | C15: =IF(ISNUMBER(IF(D_I="SI",Datos!I15,Datos!I15+Datos!AC15)),IF(D_I="SI",Datos!I15,Datos!I15+Datos!AC15)," - ") -> - | D15: =IF(ISNUMBER(C15/Datos!BH15),C15/Datos!BH15," - ") -> - | E15: =IF(ISNUMBER(IF(D_I="SI",Datos!J15,Datos!J15+Datos!AD15)),IF(D_I="SI",Datos!J15,Datos!J15+Datos!AD15)," - ") -> - | F15: =IF(ISNUMBER(E15/B15),E15/B15," - ") -> - | G15: =IF(ISNUMBER(IF(D_I="SI",Datos!K15,Datos!K15+Datos!AE15)),IF(D_I="SI",Datos!K15,Datos!K15+Datos!AE15)," - ") -> - | H15: =IF(ISNUMBER(G15/B15),G15/B15," - ") -> - | I15: =IF(ISNUMBER(IF(D_I="SI",Datos!L15,Datos!L15+Datos!AF15)),IF(D_I="SI",Datos!L15,Datos!L15+Datos!AF15)," - ") -> - | J15: =IF(ISNUMBER(I15/B15),I15/B15," - ") -> - | K15: =IF(ISNUMBER(Datos!EO15),Datos!EO15," - ") -> - | L15: =K15*factor_trimestre/Datos!ER15 -> #VALUE! | M15: =IF(ISNUMBER(Datos!EP15),Datos!EP15," - ") -> - | N15: =IF(ISNUMBER(Datos!EQ15),Datos!EQ15," - ") -> - | BQ15: =Datos!EZ15 -> 0
A16: =Datos!A16 -> Seccion de Violencia contra la infancia y la adol. | B16: =Datos!AO16 -> 0 | C16: =IF(ISNUMBER(IF(D_I="SI",Datos!I16,Datos!I16+Datos!AC16)),IF(D_I="SI",Datos!I16,Datos!I16+Datos!AC16)," - ") -> - | D16: =IF(ISNUMBER(C16/Datos!BH16),C16/Datos!BH16," - ") -> - | E16: =IF(ISNUMBER(IF(D_I="SI",Datos!J16,Datos!J16+Datos!AD16)),IF(D_I="SI",Datos!J16,Datos!J16+Datos!AD16)," - ") -> - | F16: =IF(ISNUMBER(E16/B16),E16/B16," - ") -> - | G16: =IF(ISNUMBER(IF(D_I="SI",Datos!K16,Datos!K16+Datos!AE16)),IF(D_I="SI",Datos!K16,Datos!K16+Datos!AE16)," - ") -> - | H16: =IF(ISNUMBER(G16/B16),G16/B16," - ") -> - | I16: =IF(ISNUMBER(IF(D_I="SI",Datos!L16,Datos!L16+Datos!AF16)),IF(D_I="SI",Datos!L16,Datos!L16+Datos!AF16)," - ") -> - | J16: =IF(ISNUMBER(I16/B16),I16/B16," - ") -> - | K16: =IF(ISNUMBER(Datos!EO16),Datos!EO16," - ") -> - | L16: =K16*factor_trimestre/Datos!ER16 -> #VALUE! | M16: =IF(ISNUMBER(Datos!EP16),Datos!EP16," - ") -> - | N16: =IF(ISNUMBER(Datos!EQ16),Datos!EQ16," - ") -> - | BQ16: =Datos!EZ16 -> 0
A17: =Datos!A17 -> Sección Civil y de Inst. TI | B17: =Datos!AO17 -> 4 | C17: =IF(ISNUMBER(IF(D_I="SI",Datos!I17,Datos!I17+Datos!AC17)),IF(D_I="SI",Datos!I17,Datos!I17+Datos!AC17)," - ") -> 1564 | D17: =IF(ISNUMBER(C17/Datos!BH17),C17/Datos!BH17," - ") -> 391 | E17: =IF(ISNUMBER(IF(D_I="SI",Datos!J17,Datos!J17+Datos!AD17)),IF(D_I="SI",Datos!J17,Datos!J17+Datos!AD17)," - ") -> 1185 | F17: =IF(ISNUMBER(E17/B17),E17/B17," - ") -> 296.25 | G17: =IF(ISNUMBER(IF(D_I="SI",Datos!K17,Datos!K17+Datos!AE17)),IF(D_I="SI",Datos!K17,Datos!K17+Datos!AE17)," - ") -> 1203 | H17: =IF(ISNUMBER(G17/B17),G17/B17," - ") -> 300.75 | I17: =IF(ISNUMBER(IF(D_I="SI",Datos!L17,Datos!L17+Datos!AF17)),IF(D_I="SI",Datos!L17,Datos!L17+Datos!AF17)," - ") -> 1616 | J17: =IF(ISNUMBER(I17/B17),I17/B17," - ") -> 404 | K17: =IF(ISNUMBER(Datos!EO17),Datos!EO17," - ") -> - | L17: =K17*factor_trimestre/Datos!ER17 -> #VALUE! | M17: =IF(ISNUMBER(Datos!EP17),Datos!EP17," - ") -> - | N17: =IF(ISNUMBER(Datos!EQ17),Datos!EQ17," - ") -> - | BQ17: =Datos!EZ17 -> 0
A18: =Datos!A18 -> Sección De Violencia sobre la Mujer del TI | B18: =Datos!AO18 -> 1 | C18: =IF(ISNUMBER(IF(D_I="SI",Datos!I18,Datos!I18+Datos!AC18)),IF(D_I="SI",Datos!I18,Datos!I18+Datos!AC18)," - ") -> 73 | D18: =IF(ISNUMBER(C18/Datos!BH18),C18/Datos!BH18," - ") -> 73 | E18: =IF(ISNUMBER(IF(D_I="SI",Datos!J18,Datos!J18+Datos!AD18)),IF(D_I="SI",Datos!J18,Datos!J18+Datos!AD18)," - ") -> 0 | F18: =IF(ISNUMBER(E18/B18),E18/B18," - ") -> 0 | G18: =IF(ISNUMBER(IF(D_I="SI",Datos!K18,Datos!K18+Datos!AE18)),IF(D_I="SI",Datos!K18,Datos!K18+Datos!AE18)," - ") -> 3 | H18: =IF(ISNUMBER(G18/B18),G18/B18," - ") -> 3 | I18: =IF(ISNUMBER(IF(D_I="SI",Datos!L18,Datos!L18+Datos!AF18)),IF(D_I="SI",Datos!L18,Datos!L18+Datos!AF18)," - ") -> 70 | J18: =IF(ISNUMBER(I18/B18),I18/B18," - ") -> 70 | K18: =IF(ISNUMBER(Datos!EO18),Datos!EO18," - ") -> - | L18: =K18*factor_trimestre/Datos!ER18 -> #VALUE! | M18: =IF(ISNUMBER(Datos!EP18),Datos!EP18," - ") -> - | N18: =IF(ISNUMBER(Datos!EQ18),Datos!EQ18," - ") -> - | BQ18: =Datos!EZ18 -> 0
A19: =Datos!A19 -> TOTAL | B19: =Datos!AP19 -> 4 | C19: =SUBTOTAL(9,C14:C18) -> 1637 | D19: =IF(ISNUMBER(C19/Datos!BI19),C19/Datos!BI19," - ") -> - | E19: =SUBTOTAL(9,E14:E18) -> 1185 | F19: =IF(ISNUMBER(E19/B19),E19/B19," - ") -> 296.25 | G19: =SUBTOTAL(9,G14:G18) -> 1206 | H19: =IF(ISNUMBER(G19/B19),G19/B19," - ") -> 301.5 | I19: =SUBTOTAL(9,I14:I18) -> 1686 | J19: =IF(ISNUMBER(I19/B19),I19/B19," - ") -> 421.5 | K19: =SUBTOTAL(9,K14:K18) -> 0 | M19: =SUBTOTAL(9,M14:M18) -> 0 | N19: =SUBTOTAL(9,N14:N18) -> 0
A20: =Datos!A20 -> TOTAL JURISDICCIONES | B20: =Datos!AP20 -> 4 | C20: =SUBTOTAL(9,C9:C19) -> 6270 | D20: =IF(ISNUMBER(C20/Datos!BI20),C20/Datos!BI20," - ") -> - | E20: =SUBTOTAL(9,E9:E19) -> 2391 | F20: =IF(ISNUMBER(E20/B20),E20/B20," - ") -> 597.75 | G20: =SUBTOTAL(9,G9:G19) -> 2617 | H20: =IF(ISNUMBER(G20/B20),G20/B20," - ") -> 654.25 | I20: =SUBTOTAL(9,I9:I19) -> 6114 | J20: =IF(ISNUMBER(I20/B20),I20/B20," - ") -> 1528.5 | K20: =SUBTOTAL(9,K9:K19) -> 0 | M20: =SUBTOTAL(9,M9:M19) -> 0 | N20: =SUBTOTAL(9,N9:N19) -> 0
A21: =IF(J_V="NO","(1) Incluida Jurisdicción Voluntaria","(1) Excluída Jurisdicción Voluntaria") -> (1) Incluida Jurisdicción Voluntaria
A22: =IF(D_I="NO","(2) Incluídas Diligencias Indeterminadas","(2) Excluídas Diligencias Indeterminadas") -> (2) Excluídas Diligencias Indeterminadas
A24: =Criterios!A4 -> Fecha Informe: 06 oct. 2026

Sheet Modulos
B2: =Criterios!A9 &" "&Criterios!B9 -> Tribunales de Justicia ANDALUCIA
A3: Carga de trabajo por localidades | B3: =Criterios!A10 &" "&Criterios!B10 -> Provincias GRANADA
B4: =Criterios!A11 &" "&Criterios!B11 -> Resumenes por Partidos Judiciales SANTA FE
A5: ="Año: " &Criterios!B5 -> Año: 2026 | B5: Nº jueces/ magistrados | D5: Nº jueces/ magistrados (que graban) | G5: Entrada Total | I5: Entrada por juzgado/ magistrado | K5: Entrada en relación al Módulo teórico
A7: =Datos!A7 -> COMPETENCIAS | B7: Año Anterior | C7: Año Actual | D7: Año Anterior | E7: Año Actual | F7: Media x Órgano | G7: Año Anterior | H7: Año Actual | I7: Año Anterior | J7: Año Actual | K7: Año Anterior | L7: Año Actual | M7: Módulo teórico
A8: =Datos!A8 -> Jurisdicción Civil ( 1 ):
A9: =Datos!A9 -> Sección Civil del T.I | B9: =Datos!BL9 -> 0 | C9: =Datos!AR9 -> 0 | D9: =Datos!BK9 -> 0 | E9: =Datos!AQ9 -> 0 | F9: =IF(ISNUMBER(E9/Datos!BH9),E9/Datos!BH9," - ") -> - | G9: =IF(ISNUMBER(Datos!BJ9),Datos!BJ9," - ") -> - | H9: =IF(ISNUMBER(Datos!AS9),Datos!AS9," - ") -> - | I9: =IF(ISNUMBER(G9/D9),G9/D9," - ") -> - | J9: =IF(ISNUMBER(H9/E9),H9/E9," - ") -> - | K9: =IF(AND(ISNUMBER(I9/Datos!ER9),(G9<>0)),(I9/Datos!ER9)," - ") -> - | L9: =IF(AND(ISNUMBER(J9/Datos!ER9),(H9<>0)),(J9/Datos!ER9)," - ") -> - | M9: =IF(EXACT(Datos!ER9,""),"-",Datos!ER9) -> 1200
A10: =Datos!A10 -> Sección De Violencia sobre la Mujer del TI | B10: =Datos!BL10 -> 0 | C10: =Datos!AR10 -> 0 | D10: =Datos!BK10 -> 0 | E10: =Datos!AQ10 -> 0 | F10: =IF(ISNUMBER(E10/Datos!BH10),E10/Datos!BH10," - ") -> 0 | G10: =IF(ISNUMBER(Datos!BJ10),Datos!BJ10," - ") -> - | H10: =IF(ISNUMBER(Datos!AS10),Datos!AS10," - ") -> - | I10: =IF(ISNUMBER(G10/D10),G10/D10," - ") -> - | J10: =IF(ISNUMBER(H10/E10),H10/E10," - ") -> - | K10: =IF(AND(ISNUMBER(I10/Datos!ER10),(G10<>0)),(I10/Datos!ER10)," - ") -> - | L10: =IF(AND(ISNUMBER(J10/Datos!ER10),(H10<>0)),(J10/Datos!ER10)," - ") -> - | M10: =IF(EXACT(Datos!ER10,""),"-",Datos!ER10) -> 1600
A11: =Datos!A11 -> Sección de Familia, infancia y capacidad del TI | B11: =Datos!BL11 -> 0 | C11: =Datos!AR11 -> 0 | D11: =Datos!BK11 -> 0 | E11: =Datos!AQ11 -> 0 | F11: =IF(ISNUMBER(E11/Datos!BH11),E11/Datos!BH11," - ") -> - | G11: =IF(ISNUMBER(Datos!BJ11),Datos!BJ11," - ") -> - | H11: =IF(ISNUMBER(Datos!AS11),Datos!AS11," - ") -> - | I11: =IF(ISNUMBER(G11/D11),G11/D11," - ") -> - | J11: =IF(ISNUMBER(H11/E11),H11/E11," - ") -> - | K11: =IF(AND(ISNUMBER(I11/Datos!ER11),(G11<>0)),(I11/Datos!ER11)," - ") -> - | L11: =IF(AND(ISNUMBER(J11/Datos!ER11),(H11<>0)),(J11/Datos!ER11)," - ") -> - | M11: =IF(EXACT(Datos!ER11,""),"-",Datos!ER11) -> 1323
A12: =Datos!A12 -> Sección Civil y de Instrucción del T.I. | B12: =Datos!BL12 -> 0 | C12: =Datos!AR12 -> 4 | D12: =Datos!BK12 -> 0 | E12: =Datos!AQ12 -> 4 | F12: =IF(ISNUMBER(E12/Datos!BH12),E12/Datos!BH12," - ") -> 1 | G12: =IF(ISNUMBER(Datos!BJ12),Datos!BJ12," - ") -> - | H12: =IF(ISNUMBER(Datos!AS12),Datos!AS12," - ") -> - | I12: =IF(ISNUMBER(G12/D12),G12/D12," - ") -> - | J12: =IF(ISNUMBER(H12/E12),H12/E12," - ") -> - | K12: =IF(AND(ISNUMBER(I12/Datos!ER12),(G12<>0)),(I12/Datos!ER12)," - ") -> - | L12: =IF(AND(ISNUMBER(J12/Datos!ER12),(H12<>0)),(J12/Datos!ER12)," - ") -> - | M12: =IF(EXACT(Datos!ER12,""),"-",Datos!ER12) -> 680
A14: =Datos!A14 -> Jurisdicción Penal ( 2 ):
A15: =Datos!A15 -> Seccion Instruccion Del T.I. | B15: =Datos!BL15 -> 0 | C15: =Datos!AR15 -> 0 | D15: =Datos!BK15 -> 0 | E15: =Datos!AQ15 -> 0 | F15: =IF(ISNUMBER(E15/Datos!BH15),E15/Datos!BH15," - ") -> - | G15: =IF(ISNUMBER(Datos!BJ15),Datos!BJ15," - ") -> - | H15: =IF(ISNUMBER(Datos!AS15),Datos!AS15," - ") -> - | I15: =IF(ISNUMBER(G15/D15),G15/D15," - ") -> - | J15: =IF(ISNUMBER(H15/E15),H15/E15," - ") -> - | K15: =IF(AND(ISNUMBER(I15/Datos!ER15),(G15<>0)),(I15/Datos!ER15)," - ") -> - | L15: =IF(AND(ISNUMBER(J15/Datos!ER15),(H15<>0)),(J15/Datos!ER15)," - ") -> - | M15: =IF(EXACT(Datos!ER15,""),"-",Datos!ER15) -> 3300
A16: =Datos!A16 -> Seccion de Violencia contra la infancia y la adol. | B16: =Datos!BL16 -> 0 | C16: =Datos!AR16 -> 0 | D16: =Datos!BK16 -> 0 | E16: =Datos!AQ16 -> 0 | F16: =IF(ISNUMBER(E16/Datos!BH16),E16/Datos!BH16," - ") -> - | G16: =IF(ISNUMBER(Datos!BJ16),Datos!BJ16," - ") -> - | H16: =IF(ISNUMBER(Datos!AS16),Datos!AS16," - ") -> - | I16: =IF(ISNUMBER(G16/D16),G16/D16," - ") -> - | J16: =IF(ISNUMBER(H16/E16),H16/E16," - ") -> - | K16: =IF(AND(ISNUMBER(I16/Datos!ER16),(G16<>0)),(I16/Datos!ER16)," - ") -> - | L16: =IF(AND(ISNUMBER(J16/Datos!ER16),(H16<>0)),(J16/Datos!ER16)," - ") -> - | M16: =IF(EXACT(Datos!ER16,""),"-",Datos!ER16) -> 3300
A17: =Datos!A17 -> Sección Civil y de Inst. TI | B17: =Datos!BL17 -> 0 | C17: =Datos!AR17 -> 4 | D17: =Datos!BK17 -> 0 | E17: =Datos!AQ17 -> 4 | F17: =IF(ISNUMBER(E17/Datos!BH17),E17/Datos!BH17," - ") -> 1 | G17: =IF(ISNUMBER(Datos!BJ17),Datos!BJ17," - ") -> - | H17: =IF(ISNUMBER(Datos!AS17),Datos!AS17," - ") -> - | I17: =IF(ISNUMBER(G17/D17),G17/D17," - ") -> - | J17: =IF(ISNUMBER(H17/E17),H17/E17," - ") -> - | K17: =IF(AND(ISNUMBER(I17/Datos!ER17),(G17<>0)),(I17/Datos!ER17)," - ") -> - | L17: =IF(AND(ISNUMBER(J17/Datos!ER17),(H17<>0)),(J17/Datos!ER17)," - ") -> - | M17: =IF(EXACT(Datos!ER17,""),"-",Datos!ER17) -> 1000
A18: =Datos!A18 -> Sección De Violencia sobre la Mujer del TI | B18: =Datos!BL18 -> 0 | C18: =Datos!AR18 -> 0 | D18: =Datos!BK18 -> 0 | E18: =Datos!AQ18 -> 0 | F18: =IF(ISNUMBER(E18/Datos!BH18),E18/Datos!BH18," - ") -> 0 | G18: =IF(ISNUMBER(Datos!BJ18),Datos!BJ18," - ") -> - | H18: =IF(ISNUMBER(Datos!AS18),Datos!AS18," - ") -> - | I18: =IF(ISNUMBER(G18/D18),G18/D18," - ") -> - | J18: =IF(ISNUMBER(H18/E18),H18/E18," - ") -> - | K18: =IF(AND(ISNUMBER(I18/Datos!ER18),(G18<>0)),(I18/Datos!ER18)," - ") -> - | L18: =IF(AND(ISNUMBER(J18/Datos!ER18),(H18<>0)),(J18/Datos!ER18)," - ") -> - | M18: =IF(EXACT(Datos!ER18,""),"-",Datos!ER18) -> 1600
A24: =Criterios!A4 -> Fecha Informe: 06 oct. 2026

Sheet Resol  Asuntos
B2: =Criterios!A9 &" "&Criterios!B9 -> Tribunales de Justicia ANDALUCIA
A3: Resolución de Asuntos | B3: =Criterios!A10 &" "&Criterios!B10 -> Provincias GRANADA
B4: =Criterios!A11 &" "&Criterios!B11 -> Resumenes por Partidos Judiciales SANTA FE
A5: ="Año: " &Criterios!B5 & " Trimestre " &Criterios!D5 & " al " &Criterios!D6 -> Año: 2026 Trimestre 2 al 2 | B5: Órganos | C5: Magistrados, Jueces | D5: SENTENCIAS | F5: AUTOS | H5: DECRETOS
A7: =Datos!A7 -> COMPETENCIAS | B7: Nº | C7: Nº | D7: Nº Sentencias | E7: Media x Órgano | F7: Nº Autos | G7: Media x Órgano | H7: Nº Decretos | I7: Media x Órgano
A8: =Datos!A8 -> Jurisdicción Civil ( 1 ):
A9: =Datos!A9 -> Sección Civil del T.I | B9: =Datos!AO9 -> 0 | C9: =Datos!AQ9 -> 0 | D9: =IF(ISNUMBER(Datos!M9),Datos!M9," - ") -> - | E9: =IF(ISNUMBER(D9/B9),D9/B9," - ") -> - | F9: =IF(ISNUMBER(Datos!N9),Datos!N9," - ") -> - | G9: =IF(ISNUMBER(F9/B9),F9/B9," - ") -> - | H9: =IF(ISNUMBER(Datos!O9),Datos!O9," - ") -> - | I9: =IF(ISNUMBER(H9/B9),H9/B9," - ") -> - | BZ9: =Datos!EZ9 -> 0
A10: =Datos!A10 -> Sección De Violencia sobre la Mujer del TI | B10: =Datos!AO10 -> 1 | C10: =Datos!AQ10 -> 0 | D10: =IF(ISNUMBER(Datos!M10),Datos!M10," - ") -> 0 | E10: =IF(ISNUMBER(D10/B10),D10/B10," - ") -> 0 | F10: =IF(ISNUMBER(Datos!N10),Datos!N10," - ") -> 0 | G10: =IF(ISNUMBER(F10/B10),F10/B10," - ") -> 0 | H10: =IF(ISNUMBER(Datos!O10),Datos!O10," - ") -> 4 | I10: =IF(ISNUMBER(H10/B10),H10/B10," - ") -> 4 | BZ10: =Datos!EZ10 -> 0
A11: =Datos!A11 -> Sección de Familia, infancia y capacidad del TI | B11: =Datos!AO11 -> 0 | C11: =Datos!AQ11 -> 0 | D11: =IF(ISNUMBER(Datos!M11),Datos!M11," - ") -> - | E11: =IF(ISNUMBER(D11/B11),D11/B11," - ") -> - | F11: =IF(ISNUMBER(Datos!N11),Datos!N11," - ") -> - | G11: =IF(ISNUMBER(F11/B11),F11/B11," - ") -> - | H11: =IF(ISNUMBER(Datos!O11),Datos!O11," - ") -> - | I11: =IF(ISNUMBER(H11/B11),H11/B11," - ") -> - | BZ11: =Datos!EZ11 -> 0
A12: =Datos!A12 -> Sección Civil y de Instrucción del T.I. | B12: =Datos!AO12 -> 4 | C12: =Datos!AQ12 -> 4 | D12: =IF(ISNUMBER(Datos!M12),Datos!M12," - ") -> 307 | E12: =IF(ISNUMBER(D12/B12),D12/B12," - ") -> 76.75 | F12: =IF(ISNUMBER(Datos!N12),Datos!N12," - ") -> 625 | G12: =IF(ISNUMBER(F12/B12),F12/B12," - ") -> 156.25 | H12: =IF(ISNUMBER(Datos!O12),Datos!O12," - ") -> 660 | I12: =IF(ISNUMBER(H12/B12),H12/B12," - ") -> 165 | BZ12: =Datos!EZ12 -> 0
A13: =Datos!A13 -> TOTAL | B13: =Datos!AP13 -> 4 | C13: =Datos!AR13 -> 4 | D13: =SUBTOTAL(9,D9:D12) -> 307 | E13: =IF(ISNUMBER(D13/B13),D13/B13," - ") -> 76.75 | F13: =SUBTOTAL(9,F9:F12) -> 625 | G13: =IF(ISNUMBER(F13/B13),F13/B13," - ") -> 156.25 | H13: =SUBTOTAL(9,H9:H12) -> 664 | I13: =IF(ISNUMBER(H13/B13),H13/B13," - ") -> 166
A14: =Datos!A14 -> Jurisdicción Penal ( 2 ): | B14: =Datos!AO14 -> 0 | BZ14: =Datos!EZ14 -> 0
A15: =Datos!A15 -> Seccion Instruccion Del T.I. | B15: =Datos!AO15 -> 0 | C15: =Datos!AQ15 -> 0 | D15: =IF(ISNUMBER(Datos!M15),Datos!M15," - ") -> - | E15: =IF(ISNUMBER(D15/B15),D15/B15," - ") -> - | F15: =IF(ISNUMBER(Datos!N15),Datos!N15," - ") -> - | G15: =IF(ISNUMBER(F15/B15),F15/B15," - ") -> - | H15: =IF(ISNUMBER(Datos!O15),Datos!O15," - ") -> - | I15: =IF(ISNUMBER(H15/B15),H15/B15," - ") -> - | BZ15: =Datos!EZ15 -> 0
A16: =Datos!A16 -> Seccion de Violencia contra la infancia y la adol. | B16: =Datos!AO16 -> 0 | C16: =Datos!AQ16 -> 0 | D16: =IF(ISNUMBER(Datos!M16),Datos!M16," - ") -> - | E16: =IF(ISNUMBER(D16/B16),D16/B16," - ") -> - | F16: =IF(ISNUMBER(Datos!N16),Datos!N16," - ") -> - | G16: =IF(ISNUMBER(F16/B16),F16/B16," - ") -> - | H16: =IF(ISNUMBER(Datos!O16),Datos!O16," - ") -> - | I16: =IF(ISNUMBER(H16/B16),H16/B16," - ") -> - | BZ16: =Datos!EZ16 -> 0
A17: =Datos!A17 -> Sección Civil y de Inst. TI | B17: =Datos!AO17 -> 4 | C17: =Datos!AQ17 -> 4 | D17: =IF(ISNUMBER(Datos!M17),Datos!M17," - ") -> 150 | E17: =IF(ISNUMBER(D17/B17),D17/B17," - ") -> 37.5 | F17: =IF(ISNUMBER(Datos!N17),Datos!N17," - ") -> 716 | G17: =IF(ISNUMBER(F17/B17),F17/B17," - ") -> 179 | H17: =IF(ISNUMBER(Datos!O17),Datos!O17," - ") -> 0 | I17: =IF(ISNUMBER(H17/B17),H17/B17," - ") -> 0 | BZ17: =Datos!EZ17 -> 0
A18: =Datos!A18 -> Sección De Violencia sobre la Mujer del TI | B18: =Datos!AO18 -> 1 | C18: =Datos!AQ18 -> 0 | D18: =IF(ISNUMBER(Datos!M18),Datos!M18," - ") -> 0 | E18: =IF(ISNUMBER(D18/B18),D18/B18," - ") -> 0 | F18: =IF(ISNUMBER(Datos!N18),Datos!N18," - ") -> 3 | G18: =IF(ISNUMBER(F18/B18),F18/B18," - ") -> 3 | H18: =IF(ISNUMBER(Datos!O18),Datos!O18," - ") -> 0 | I18: =IF(ISNUMBER(H18/B18),H18/B18," - ") -> 0 | BZ18: =Datos!EZ18 -> 0
A19: =Datos!A19 -> TOTAL | B19: =Datos!AP19 -> 4 | C19: =Datos!AR19 -> 4 | D19: =SUBTOTAL(9,D15:D18) -> 150 | E19: =IF(ISNUMBER(D19/B19),D19/B19," - ") -> 37.5 | F19: =SUBTOTAL(9,F15:F18) -> 719 | G19: =IF(ISNUMBER(F19/B19),F19/B19," - ") -> 179.75 | H19: =SUBTOTAL(9,H15:H18) -> 0 | I19: =IF(ISNUMBER(H19/B19),H19/B19," - ") -> 0
A20: =Datos!A20 -> TOTAL JURISDICCIONES | B20: =Datos!AP20 -> 4 | C20: =Datos!AR20 -> 4 | D20: =SUBTOTAL(9,D8:D19) -> 457 | E20: =IF(ISNUMBER(D20/B20),D20/B20," - ") -> 114.25 | F20: =SUBTOTAL(9,F8:F19) -> 1344 | G20: =IF(ISNUMBER(F20/B20),F20/B20," - ") -> 336 | H20: =SUBTOTAL(9,H8:H19) -> 664 | I20: =IF(ISNUMBER(H20/B20),H20/B20," - ") -> 166
A23: =Criterios!A4 -> Fecha Informe: 06 oct. 2026

Sheet Ejecu  Sentencias
B2: =Criterios!A9 &" "&Criterios!B9 -> Tribunales de Justicia ANDALUCIA
A3: Ejecución de Sentencias | B3: =Criterios!A10 &" "&Criterios!B10 -> Provincias GRANADA
B4: =Criterios!A11 &" "&Criterios!B11 -> Resumenes por Partidos Judiciales SANTA FE
A5: ="Año: " &Criterios!B5 & " Trimestre " &Criterios!D5 & " al " &Criterios!D6 -> Año: 2026 Trimestre 2 al 2 | B5: Registradas | C5: Resueltas | D5: En Tramite Al Final Del Periodo
A7: =Datos!A7 -> COMPETENCIAS
A8: =Datos!A8 -> Jurisdicción Civil ( 1 ):
A9: =Datos!A9 -> Sección Civil del T.I | B9: =IF(ISNUMBER(Datos!P9),Datos!P9," - ") -> - | C9: =IF(ISNUMBER(Datos!Q9),Datos!Q9," - ") -> - | D9: =IF(ISNUMBER(Datos!R9),Datos!R9," - ") -> -
A10: =Datos!A10 -> Sección De Violencia sobre la Mujer del TI | B10: =IF(ISNUMBER(Datos!P10),Datos!P10," - ") -> 0 | C10: =IF(ISNUMBER(Datos!Q10),Datos!Q10," - ") -> 4 | D10: =IF(ISNUMBER(Datos!R10),Datos!R10," - ") -> 0
A11: =Datos!A11 -> Sección de Familia, infancia y capacidad del TI | B11: =IF(ISNUMBER(Datos!P11),Datos!P11," - ") -> - | C11: =IF(ISNUMBER(Datos!Q11),Datos!Q11," - ") -> - | D11: =IF(ISNUMBER(Datos!R11),Datos!R11," - ") -> -
A12: =Datos!A12 -> Sección Civil y de Instrucción del T.I. | B12: =IF(ISNUMBER(Datos!P12),Datos!P12," - ") -> 283 | C12: =IF(ISNUMBER(Datos!Q12),Datos!Q12," - ") -> 187 | D12: =IF(ISNUMBER(Datos!R12),Datos!R12," - ") -> 6580
A13: =Datos!A13 -> TOTAL | B13: =SUBTOTAL(9,B9:B12) -> 283 | C13: =SUBTOTAL(9,C9:C12) -> 191 | D13: =SUBTOTAL(9,D9:D12) -> 6580
A14: =Datos!A14 -> Jurisdicción Penal ( 2 ):
A15: =Datos!A15 -> Seccion Instruccion Del T.I. | B15: =IF(ISNUMBER(Datos!P15),Datos!P15," - ") -> - | C15: =IF(ISNUMBER(Datos!Q15),Datos!Q15," - ") -> - | D15: =IF(ISNUMBER(Datos!R15),Datos!R15," - ") -> -
A16: =Datos!A16 -> Seccion de Violencia contra la infancia y la adol. | B16: =IF(ISNUMBER(Datos!P16),Datos!P16," - ") -> - | C16: =IF(ISNUMBER(Datos!Q16),Datos!Q16," - ") -> - | D16: =IF(ISNUMBER(Datos!R16),Datos!R16," - ") -> -
A17: =Datos!A17 -> Sección Civil y de Inst. TI | B17: =IF(ISNUMBER(Datos!P17),Datos!P17," - ") -> 58 | C17: =IF(ISNUMBER(Datos!Q17),Datos!Q17," - ") -> 34 | D17: =IF(ISNUMBER(Datos!R17),Datos!R17," - ") -> 392
A18: =Datos!A18 -> Sección De Violencia sobre la Mujer del TI | B18: =IF(ISNUMBER(Datos!P18),Datos!P18," - ") -> 0 | C18: =IF(ISNUMBER(Datos!Q18),Datos!Q18," - ") -> 0 | D18: =IF(ISNUMBER(Datos!R18),Datos!R18," - ") -> 0
A19: =Datos!A19 -> TOTAL | B19: =SUBTOTAL(9,B15:B18) -> 58 | C19: =SUBTOTAL(9,C15:C18) -> 34 | D19: =SUBTOTAL(9,D15:D18) -> 392
A20: =Datos!A20 -> TOTAL JURISDICCIONES | B20: =SUBTOTAL(9,B8:B19) -> 341 | C20: =SUBTOTAL(9,C8:C19) -> 225 | D20: =SUBTOTAL(9,D8:D19) -> 6972
A23: =Criterios!A4 -> Fecha Informe: 06 oct. 2026

Sheet Evolución
B2: =Criterios!A9 &" "&Criterios!B9 -> Tribunales de Justicia ANDALUCIA
A3: Evolución | B3: =Criterios!A10 &" "&Criterios!B10 -> Provincias GRANADA
B4: =Criterios!A11 &" "&Criterios!B11 -> Resumenes por Partidos Judiciales SANTA FE
A5: ="Año: " &Criterios!B5 & " Trimestre " &Criterios!D5 & " al " &Criterios!D6 -> Año: 2026 Trimestre 2 al 2 | B5: En Tramite Al Inicio Del Periodo | C5: Ingresados | D5: Resueltos | E5: En Tramite Al Final Del Periodo | F5: Sentencias | G5: Autos | H5: Tasas Resolución | I5: Tasas Pendencia | J5: Tasas Sentencia | K5: Tasas Congestión
A7: =Datos!A7 -> COMPETENCIAS
A8: =Datos!A8 -> Jurisdicción Civil ( 1 ):
A9: =Datos!A9 -> Sección Civil del T.I | B9: =IF(ISNUMBER( IF(J_V="SI",(Datos!I9-Datos!S9)/Datos!S9,(Datos!I9+Datos!Y9-(Datos!S9+Datos!AG9))/(Datos!S9+Datos!AG9)) ),IF(J_V="SI",(Datos!I9-Datos!S9)/Datos!S9,(Datos!I9+Datos!Y9-(Datos!S9+Datos!AG9))/(Datos!S9+Datos!AG9))," - ") -> - | C9: =IF(ISNUMBER( IF(J_V="SI",(Datos!J9-Datos!T9)/Datos!T9,(Datos!J9+Datos!Z9-(Datos!T9+Datos!AH9))/(Datos!T9+Datos!AH9)) ),IF(J_V="SI",(Datos!J9-Datos!T9)/Datos!T9,(Datos!J9+Datos!Z9-(Datos!T9+Datos!AH9))/(Datos!T9+Datos!AH9))," - ") -> - | D9: =IF(ISNUMBER( IF(J_V="SI",(Datos!K9-Datos!U9)/Datos!U9,(Datos!K9+Datos!AA9-(Datos!U9+Datos!AI9))/(Datos!U9+Datos!AI9)) ),IF(J_V="SI",(Datos!K9-Datos!U9)/Datos!U9,(Datos!K9+Datos!AA9-(Datos!U9+Datos!AI9))/(Datos!U9+Datos!AI9))," - ") -> - | E9: =IF(ISNUMBER( IF(J_V="SI",(Datos!L9-Datos!V9)/Datos!V9,(Datos!L9+Datos!AB9-(Datos!V9+Datos!AJ9))/(Datos!V9+Datos!AJ9)) ),IF(J_V="SI",(Datos!L9-Datos!V9)/Datos!V9,(Datos!L9+Datos!AB9-(Datos!V9+Datos!AJ9))/(Datos!V9+Datos!AJ9))," - ") -> - | F9: =IF(ISNUMBER((Datos!M9-Datos!W9)/Datos!W9),(Datos!M9-Datos!W9)/Datos!W9," - ") -> - | G9: =IF(ISNUMBER((Datos!N9-Datos!X9)/Datos!X9),(Datos!N9-Datos!X9)/Datos!X9," - ") -> - | H9: =IF(ISNUMBER(((NºAsuntos!G9/NºAsuntos!E9)-Datos!BD9)/Datos!BD9),((NºAsuntos!G9/NºAsuntos!E9)-Datos!BD9)/Datos!BD9," - ") -> - | I9: =IF(ISNUMBER(((NºAsuntos!I9/NºAsuntos!G9)-Datos!BE9)/Datos!BE9),((NºAsuntos!I9/NºAsuntos!G9)-Datos!BE9)/Datos!BE9," - ") -> - | J9: =IF(ISNUMBER((('Resol Asuntos'!D9/NºAsuntos!G9)-Datos!BF9)/Datos!BF9),(('Resol Asuntos'!D9/NºAsuntos!G9)-Datos!BF9)/Datos!BF9," - ") -> - | K9: =IF(ISNUMBER((((NºAsuntos!C9+NºAsuntos!E9)/NºAsuntos!G9)-Datos!BG9)/Datos!BG9),(((NºAsuntos!C9+NºAsuntos!E9)/NºAsuntos!G9)-Datos!BG9)/Datos!BG9," - ") -> -
A10: =Datos!A10 -> Sección De Violencia sobre la Mujer del TI | B10: =IF(ISNUMBER((Datos!I10-Datos!S10)/Datos!S10),(Datos!I10-Datos!S10)/Datos!S10," - ") -> -1 | C10: =IF(ISNUMBER((Datos!J10-Datos!T10)/Datos!T10),(Datos!J10-Datos!T10)/Datos!T10," - ") -> - | D10: =IF(ISNUMBER((Datos!K10-Datos!U10)/Datos!U10),(Datos!K10-Datos!U10)/Datos!U10," - ") -> -1 | E10: =IF(ISNUMBER((Datos!L10-Datos!V10)/Datos!V10),(Datos!L10-Datos!V10)/Datos!V10," - ") -> -1 | F10: =IF(ISNUMBER((Datos!M10-Datos!W10)/Datos!W10),(Datos!M10-Datos!W10)/Datos!W10," - ") -> -1 | G10: =IF(ISNUMBER((Datos!N10-Datos!X10)/Datos!X10),(Datos!N10-Datos!X10)/Datos!X10," - ") -> -1 | H10: =IF(ISNUMBER(((NºAsuntos!G10/NºAsuntos!E10)-Datos!BD10)/Datos!BD10),((NºAsuntos!G10/NºAsuntos!E10)-Datos!BD10)/Datos!BD10," - ") -> - | I10: =IF(ISNUMBER(((NºAsuntos!I10/NºAsuntos!G10)-Datos!BE10)/Datos!BE10),((NºAsuntos!I10/NºAsuntos!G10)-Datos!BE10)/Datos!BE10," - ") -> - | J10: =IF(ISNUMBER((('Resol Asuntos'!D10/NºAsuntos!G10)-Datos!BF10)/Datos!BF10),(('Resol Asuntos'!D10/NºAsuntos!G10)-Datos!BF10)/Datos!BF10," - ") -> - | K10: =IF(ISNUMBER((((NºAsuntos!C10+NºAsuntos!E10)/NºAsuntos!G10)-Datos!BG10)/Datos!BG10),(((NºAsuntos!C10+NºAsuntos!E10)/NºAsuntos!G10)-Datos!BG10)/Datos!BG10," - ") -> -
A11: =Datos!A11 -> Sección de Familia, infancia y capacidad del TI | B11: =IF(ISNUMBER( IF(J_V="SI",(Datos!I11-Datos!S11)/Datos!S11,(Datos!I11+Datos!Y11-(Datos!S11+Datos!AG11))/(Datos!S11+Datos!AG11)) ),IF(J_V="SI",(Datos!I11-Datos!S11)/Datos!S11,(Datos!I11+Datos!Y11-(Datos!S11+Datos!AG11))/(Datos!S11+Datos!AG11))," - ") -> - | C11: =IF(ISNUMBER( IF(J_V="SI",(Datos!J11-Datos!T11)/Datos!T11,(Datos!J11+Datos!Z11-(Datos!T11+Datos!AH11))/(Datos!T11+Datos!AH11)) ),IF(J_V="SI",(Datos!J11-Datos!T11)/Datos!T11,(Datos!J11+Datos!Z11-(Datos!T11+Datos!AH11))/(Datos!T11+Datos!AH11))," - ") -> - | D11: =IF(ISNUMBER( IF(J_V="SI",(Datos!K11-Datos!U11)/Datos!U11,(Datos!K11+Datos!AA11-(Datos!U11+Datos!AI11))/(Datos!U11+Datos!AI11)) ),IF(J_V="SI",(Datos!K11-Datos!U11)/Datos!U11,(Datos!K11+Datos!AA11-(Datos!U11+Datos!AI11))/(Datos!U11+Datos!AI11))," - ") -> - | E11: =IF(ISNUMBER( IF(J_V="SI",(Datos!L11-Datos!V11)/Datos!V11,(Datos!L11+Datos!AB11-(Datos!V11+Datos!AJ11))/(Datos!V11+Datos!AJ11)) ),IF(J_V="SI",(Datos!L11-Datos!V11)/Datos!V11,(Datos!L11+Datos!AB11-(Datos!V11+Datos!AJ11))/(Datos!V11+Datos!AJ11))," - ") -> - | F11: =IF(ISNUMBER((Datos!M11-Datos!W11)/Datos!W11),(Datos!M11-Datos!W11)/Datos!W11," - ") -> - | G11: =IF(ISNUMBER((Datos!N11-Datos!X11)/Datos!X11),(Datos!N11-Datos!X11)/Datos!X11," - ") -> - | H11: =IF(ISNUMBER(((NºAsuntos!G11/NºAsuntos!E11)-Datos!BD11)/Datos!BD11),((NºAsuntos!G11/NºAsuntos!E11)-Datos!BD11)/Datos!BD11," - ") -> - | I11: =IF(ISNUMBER(((NºAsuntos!I11/NºAsuntos!G11)-Datos!BE11)/Datos!BE11),((NºAsuntos!I11/NºAsuntos!G11)-Datos!BE11)/Datos!BE11," - ") -> - | J11: =IF(ISNUMBER((('Resol Asuntos'!D11/NºAsuntos!G11)-Datos!BF11)/Datos!BF11),(('Resol Asuntos'!D11/NºAsuntos!G11)-Datos!BF11)/Datos!BF11," - ") -> - | K11: =IF(ISNUMBER((((NºAsuntos!C11+NºAsuntos!E11)/NºAsuntos!G11)-Datos!BG11)/Datos!BG11),(((NºAsuntos!C11+NºAsuntos!E11)/NºAsuntos!G11)-Datos!BG11)/Datos!BG11," - ") -> -
A12: =Datos!A12 -> Sección Civil y de Instrucción del T.I. | B12: =IF(ISNUMBER( IF(J_V="SI",(Datos!I12-Datos!S12)/Datos!S12,(Datos!I12+Datos!Y12-(Datos!S12+Datos!AG12))/(Datos!S12+Datos!AG12)) ),IF(J_V="SI",(Datos!I12-Datos!S12)/Datos!S12,(Datos!I12+Datos!Y12-(Datos!S12+Datos!AG12))/(Datos!S12+Datos!AG12))," - ") -> -0.039991712 | C12: =IF(ISNUMBER( IF(J_V="SI",(Datos!J12-Datos!T12)/Datos!T12,(Datos!J12+Datos!Z12-(Datos!T12+Datos!AH12))/(Datos!T12+Datos!AH12)) ),IF(J_V="SI",(Datos!J12-Datos!T12)/Datos!T12,(Datos!J12+Datos!Z12-(Datos!T12+Datos!AH12))/(Datos!T12+Datos!AH12))," - ") -> 0.35050392 | D12: =IF(ISNUMBER( IF(J_V="SI",(Datos!K12-Datos!U12)/Datos!U12,(Datos!K12+Datos!AA12-(Datos!U12+Datos!AI12))/(Datos!U12+Datos!AI12)) ),IF(J_V="SI",(Datos!K12-Datos!U12)/Datos!U12,(Datos!K12+Datos!AA12-(Datos!U12+Datos!AI12))/(Datos!U12+Datos!AI12))," - ") -> 0.074638233 | E12: =IF(ISNUMBER( IF(J_V="SI",(Datos!L12-Datos!V12)/Datos!V12,(Datos!L12+Datos!AB12-(Datos!V12+Datos!AJ12))/(Datos!V12+Datos!AJ12)) ),IF(J_V="SI",(Datos!L12-Datos!V12)/Datos!V12,(Datos!L12+Datos!AB12-(Datos!V12+Datos!AJ12))/(Datos!V12+Datos!AJ12))," - ") -> 0.0065924074 | F12: =IF(ISNUMBER((Datos!M12-Datos!W12)/Datos!W12),(Datos!M12-Datos!W12)/Datos!W12," - ") -> 0.09252669 | G12: =IF(ISNUMBER((Datos!N12-Datos!X12)/Datos!X12),(Datos!N12-Datos!X12)/Datos!X12," - ") -> 0.22070312 | H12: =IF(ISNUMBER(((NºAsuntos!G12/NºAsuntos!E12)-Datos!BD12)/Datos!BD12),((NºAsuntos!G12/NºAsuntos!E12)-Datos!BD12)/Datos!BD12," - ") -> -0.2042687 | I12: =IF(ISNUMBER(((NºAsuntos!I12/NºAsuntos!G12)-Datos!BE12)/Datos!BE12),((NºAsuntos!I12/NºAsuntos!G12)-Datos!BE12)/Datos!BE12," - ") -> -0.063319751 | J12: =IF(ISNUMBER((('Resol Asuntos'!D12/NºAsuntos!G12)-Datos!BF12)/Datos!BF12),(('Resol Asuntos'!D12/NºAsuntos!G12)-Datos!BF12)/Datos!BF12," - ") -> -0.44203607 | K12: =IF(ISNUMBER((((NºAsuntos!C12+NºAsuntos!E12)/NºAsuntos!G12)-Datos!BG12)/Datos!BG12),(((NºAsuntos!C12+NºAsuntos!E12)/NºAsuntos!G12)-Datos!BG12)/Datos!BG12," - ") -> -0.049928936
A13: =Datos!A13 -> TOTAL | B13: =IF(ISNUMBER( IF(J_V="SI",(Datos!I13-Datos!S13)/Datos!S13,(Datos!I13+Datos!Y13-(Datos!S13+Datos!AG13))/(Datos!S13+Datos!AG13)) ),IF(J_V="SI",(Datos!I13-Datos!S13)/Datos!S13,(Datos!I13+Datos!Y13-(Datos!S13+Datos!AG13))/(Datos!S13+Datos!AG13))," - ") -> -0.04375645 | C13: =IF(ISNUMBER( IF(J_V="SI",(Datos!J13-Datos!T13)/Datos!T13,(Datos!J13+Datos!Z13-(Datos!T13+Datos!AH13))/(Datos!T13+Datos!AH13)) ),IF(J_V="SI",(Datos!J13-Datos!T13)/Datos!T13,(Datos!J13+Datos!Z13-(Datos!T13+Datos!AH13))/(Datos!T13+Datos!AH13))," - ") -> 0.35050392 | D13: =IF(ISNUMBER( IF(J_V="SI",(Datos!K13-Datos!U13)/Datos!U13,(Datos!K13+Datos!AA13-(Datos!U13+Datos!AI13))/(Datos!U13+Datos!AI13)) ),IF(J_V="SI",(Datos!K13-Datos!U13)/Datos!U13,(Datos!K13+Datos!AA13-(Datos!U13+Datos!AI13))/(Datos!U13+Datos!AI13))," - ") -> 0.070561457 | E13: =IF(ISNUMBER( IF(J_V="SI",(Datos!L13-Datos!V13)/Datos!V13,(Datos!L13+Datos!AB13-(Datos!V13+Datos!AJ13))/(Datos!V13+Datos!AJ13)) ),IF(J_V="SI",(Datos!L13-Datos!V13)/Datos!V13,(Datos!L13+Datos!AB13-(Datos!V13+Datos!AJ13))/(Datos!V13+Datos!AJ13))," - ") -> 0.0033990483 | F13: =IF(ISNUMBER((Datos!M13-Datos!W13)/Datos!W13),(Datos!M13-Datos!W13)/Datos!W13," - ") -> 0.088652482 | G13: =IF(ISNUMBER((Datos!N13-Datos!X13)/Datos!X13),(Datos!N13-Datos!X13)/Datos!X13," - ") -> 0.21595331 | H13: =IF(ISNUMBER(((NºAsuntos!G13/NºAsuntos!E13)-Datos!BD13)/Datos!BD13),((NºAsuntos!G13/NºAsuntos!E13)-Datos!BD13)/Datos!BD13," - ") -> -0.20728741 | I13: =IF(ISNUMBER(((NºAsuntos!I13/NºAsuntos!G13)-Datos!BE13)/Datos!BE13),((NºAsuntos!I13/NºAsuntos!G13)-Datos!BE13)/Datos!BE13," - ") -> -0.062735687 | J13: =IF(ISNUMBER((('Resol Asuntos'!D13/NºAsuntos!G13)-Datos!BF13)/Datos!BF13),(('Resol Asuntos'!D13/NºAsuntos!G13)-Datos!BF13)/Datos!BF13," - ") -> -0.44100309 | K13: =IF(ISNUMBER((((NºAsuntos!C13+NºAsuntos!E13)/NºAsuntos!G13)-Datos!BG13)/Datos!BG13),(((NºAsuntos!C13+NºAsuntos!E13)/NºAsuntos!G13)-Datos!BG13)/Datos!BG13," - ") -> -0.049468907
A14: =Datos!A14 -> Jurisdicción Penal ( 2 ):
A15: =Datos!A15 -> Seccion Instruccion Del T.I. | B15: =IF(ISNUMBER( IF(D_I="SI",(Datos!I15-Datos!S15)/Datos!S15,(Datos!I15+Datos!AC15-(Datos!S15+Datos!AK15))/(Datos!S15+Datos!AK15)) ),IF(D_I="SI",(Datos!I15-Datos!S15)/Datos!S15,(Datos!I15+Datos!AC15-(Datos!S15+Datos!AK15))/(Datos!S15+Datos!AK15))," - ") -> - | C15: =IF(ISNUMBER( IF(D_I="SI",(Datos!J15-Datos!T15)/Datos!T15,(Datos!J15+Datos!AD15-(Datos!T15+Datos!AL15))/(Datos!T15+Datos!AL15)) ),IF(D_I="SI",(Datos!J15-Datos!T15)/Datos!T15,(Datos!J15+Datos!AD15-(Datos!T15+Datos!AL15))/(Datos!T15+Datos!AL15))," - ") -> - | D15: =IF(ISNUMBER( IF(D_I="SI",(Datos!K15-Datos!U15)/Datos!U15,(Datos!K15+Datos!AE15-(Datos!U15+Datos!AM15))/(Datos!U15+Datos!AM15)) ),IF(D_I="SI",(Datos!K15-Datos!U15)/Datos!U15,(Datos!K15+Datos!AE15-(Datos!U15+Datos!AM15))/(Datos!U15+Datos!AM15))," - ") -> - | E15: =IF(ISNUMBER( IF(D_I="SI",(Datos!L15-Datos!V15)/Datos!V15,(Datos!L15+Datos!AF15-(Datos!V15+Datos!AN15))/(Datos!V15+Datos!AN15)) ),IF(D_I="SI",(Datos!L15-Datos!V15)/Datos!V15,(Datos!L15+Datos!AF15-(Datos!V15+Datos!AN15))/(Datos!V15+Datos!AN15))," - ") -> - | F15: =IF(ISNUMBER((Datos!M15-Datos!W15)/Datos!W15),(Datos!M15-Datos!W15)/Datos!W15," - ") -> - | G15: =IF(ISNUMBER((Datos!N15-Datos!X15)/Datos!X15),(Datos!N15-Datos!X15)/Datos!X15," - ") -> - | H15: =IF(ISNUMBER(((NºAsuntos!G15/NºAsuntos!E15)-Datos!BD15)/Datos!BD15),((NºAsuntos!G15/NºAsuntos!E15)-Datos!BD15)/Datos!BD15," - ") -> - | I15: =IF(ISNUMBER(((NºAsuntos!I15/NºAsuntos!G15)-Datos!BE15)/Datos!BE15),((NºAsuntos!I15/NºAsuntos!G15)-Datos!BE15)/Datos!BE15," - ") -> - | J15: =IF(ISNUMBER((('Resol Asuntos'!D15/NºAsuntos!G15)-Datos!BF15)/Datos!BF15),(('Resol Asuntos'!D15/NºAsuntos!G15)-Datos!BF15)/Datos!BF15," - ") -> - | K15: =IF(ISNUMBER((((NºAsuntos!C15+NºAsuntos!E15)/NºAsuntos!G15)-Datos!BG15)/Datos!BG15),(((NºAsuntos!C15+NºAsuntos!E15)/NºAsuntos!G15)-Datos!BG15)/Datos!BG15," - ") -> -
A16: =Datos!A16 -> Seccion de Violencia contra la infancia y la adol. | B16: =IF(ISNUMBER( IF(D_I="SI",(Datos!I16-Datos!S16)/Datos!S16,(Datos!I16+Datos!AC16-(Datos!S16+Datos!AK16))/(Datos!S16+Datos!AK16)) ),IF(D_I="SI",(Datos!I16-Datos!S16)/Datos!S16,(Datos!I16+Datos!AC16-(Datos!S16+Datos!AK16))/(Datos!S16+Datos!AK16))," - ") -> - | C16: =IF(ISNUMBER( IF(D_I="SI",(Datos!J16-Datos!T16)/Datos!T16,(Datos!J16+Datos!AD16-(Datos!T16+Datos!AL16))/(Datos!T16+Datos!AL16)) ),IF(D_I="SI",(Datos!J16-Datos!T16)/Datos!T16,(Datos!J16+Datos!AD16-(Datos!T16+Datos!AL16))/(Datos!T16+Datos!AL16))," - ") -> - | D16: =IF(ISNUMBER( IF(D_I="SI",(Datos!K16-Datos!U16)/Datos!U16,(Datos!K16+Datos!AE16-(Datos!U16+Datos!AM16))/(Datos!U16+Datos!AM16)) ),IF(D_I="SI",(Datos!K16-Datos!U16)/Datos!U16,(Datos!K16+Datos!AE16-(Datos!U16+Datos!AM16))/(Datos!U16+Datos!AM16))," - ") -> - | E16: =IF(ISNUMBER( IF(D_I="SI",(Datos!L16-Datos!V16)/Datos!V16,(Datos!L16+Datos!AF16-(Datos!V16+Datos!AN16))/(Datos!V16+Datos!AN16)) ),IF(D_I="SI",(Datos!L16-Datos!V16)/Datos!V16,(Datos!L16+Datos!AF16-(Datos!V16+Datos!AN16))/(Datos!V16+Datos!AN16))," - ") -> - | F16: =IF(ISNUMBER((Datos!M16-Datos!W16)/Datos!W16),(Datos!M16-Datos!W16)/Datos!W16," - ") -> - | G16: =IF(ISNUMBER((Datos!N16-Datos!X16)/Datos!X16),(Datos!N16-Datos!X16)/Datos!X16," - ") -> - | H16: =IF(ISNUMBER(((NºAsuntos!G16/NºAsuntos!E16)-Datos!BD16)/Datos!BD16),((NºAsuntos!G16/NºAsuntos!E16)-Datos!BD16)/Datos!BD16," - ") -> - | I16: =IF(ISNUMBER(((NºAsuntos!I16/NºAsuntos!G16)-Datos!BE16)/Datos!BE16),((NºAsuntos!I16/NºAsuntos!G16)-Datos!BE16)/Datos!BE16," - ") -> - | J16: =IF(ISNUMBER((('Resol Asuntos'!D16/NºAsuntos!G16)-Datos!BF16)/Datos!BF16),(('Resol Asuntos'!D16/NºAsuntos!G16)-Datos!BF16)/Datos!BF16," - ") -> - | K16: =IF(ISNUMBER((((NºAsuntos!C16+NºAsuntos!E16)/NºAsuntos!G16)-Datos!BG16)/Datos!BG16),(((NºAsuntos!C16+NºAsuntos!E16)/NºAsuntos!G16)-Datos!BG16)/Datos!BG16," - ") -> -
A17: =Datos!A17 -> Sección Civil y de Inst. TI | B17: =IF(ISNUMBER( IF(D_I="SI",(Datos!I17-Datos!S17)/Datos!S17,(Datos!I17+Datos!AC17-(Datos!S17+Datos!AK17))/(Datos!S17+Datos!AK17)) ),IF(D_I="SI",(Datos!I17-Datos!S17)/Datos!S17,(Datos!I17+Datos!AC17-(Datos!S17+Datos!AK17))/(Datos!S17+Datos!AK17))," - ") -> -0.28844404 | C17: =IF(ISNUMBER( IF(D_I="SI",(Datos!J17-Datos!T17)/Datos!T17,(Datos!J17+Datos!AD17-(Datos!T17+Datos!AL17))/(Datos!T17+Datos!AL17)) ),IF(D_I="SI",(Datos!J17-Datos!T17)/Datos!T17,(Datos!J17+Datos!AD17-(Datos!T17+Datos!AL17))/(Datos!T17+Datos!AL17))," - ") -> -0.07421875 | D17: =IF(ISNUMBER( IF(D_I="SI",(Datos!K17-Datos!U17)/Datos!U17,(Datos!K17+Datos!AE17-(Datos!U17+Datos!AM17))/(Datos!U17+Datos!AM17)) ),IF(D_I="SI",(Datos!K17-Datos!U17)/Datos!U17,(Datos!K17+Datos!AE17-(Datos!U17+Datos!AM17))/(Datos!U17+Datos!AM17))," - ") -> -0.14132762 | E17: =IF(ISNUMBER( IF(D_I="SI",(Datos!L17-Datos!V17)/Datos!V17,(Datos!L17+Datos!AF17-(Datos!V17+Datos!AN17))/(Datos!V17+Datos!AN17)) ),IF(D_I="SI",(Datos!L17-Datos!V17)/Datos!V17,(Datos!L17+Datos!AF17-(Datos!V17+Datos!AN17))/(Datos!V17+Datos!AN17))," - ") -> -0.1626943 | F17: =IF(ISNUMBER((Datos!M17-Datos!W17)/Datos!W17),(Datos!M17-Datos!W17)/Datos!W17," - ") -> 0.2605042 | G17: =IF(ISNUMBER((Datos!N17-Datos!X17)/Datos!X17),(Datos!N17-Datos!X17)/Datos!X17," - ") -> -0.17983963 | H17: =IF(ISNUMBER(((NºAsuntos!G17/NºAsuntos!E17)-Datos!BD17)/Datos!BD17),((NºAsuntos!G17/NºAsuntos!E17)-Datos!BD17)/Datos!BD17," - ") -> -0.072488909 | I17: =IF(ISNUMBER(((NºAsuntos!I17/NºAsuntos!G17)-Datos!BE17)/Datos!BE17),((NºAsuntos!I17/NºAsuntos!G17)-Datos!BE17)/Datos!BE17," - ") -> -0.024883387 | J17: =IF(ISNUMBER((('Resol Asuntos'!D17/NºAsuntos!G17)-Datos!BF17)/Datos!BF17),(('Resol Asuntos'!D17/NºAsuntos!G17)-Datos!BF17)/Datos!BF17," - ") -> 0.46796873 | K17: =IF(ISNUMBER((((NºAsuntos!C17+NºAsuntos!E17)/NºAsuntos!G17)-Datos!BG17)/Datos!BG17),(((NºAsuntos!C17+NºAsuntos!E17)/NºAsuntos!G17)-Datos!BG17)/Datos!BG17," - ") -> -0.079512977
A18: =Datos!A18 -> Sección De Violencia sobre la Mujer del TI | B18: =IF(ISNUMBER( IF(D_I="SI",(Datos!I18-Datos!S18)/Datos!S18,(Datos!I18+Datos!AC18-(Datos!S18+Datos!AK18))/(Datos!S18+Datos!AK18)) ),IF(D_I="SI",(Datos!I18-Datos!S18)/Datos!S18,(Datos!I18+Datos!AC18-(Datos!S18+Datos!AK18))/(Datos!S18+Datos!AK18))," - ") -> -0.33027523 | C18: =IF(ISNUMBER( IF(D_I="SI",(Datos!J18-Datos!T18)/Datos!T18,(Datos!J18+Datos!AD18-(Datos!T18+Datos!AL18))/(Datos!T18+Datos!AL18)) ),IF(D_I="SI",(Datos!J18-Datos!T18)/Datos!T18,(Datos!J18+Datos!AD18-(Datos!T18+Datos!AL18))/(Datos!T18+Datos!AL18))," - ") -> -1 | D18: =IF(ISNUMBER( IF(D_I="SI",(Datos!K18-Datos!U18)/Datos!U18,(Datos!K18+Datos!AE18-(Datos!U18+Datos!AM18))/(Datos!U18+Datos!AM18)) ),IF(D_I="SI",(Datos!K18-Datos!U18)/Datos!U18,(Datos!K18+Datos!AE18-(Datos!U18+Datos!AM18))/(Datos!U18+Datos!AM18))," - ") -> -0.93333333 | E18: =IF(ISNUMBER( IF(D_I="SI",(Datos!L18-Datos!V18)/Datos!V18,(Datos!L18+Datos!AF18-(Datos!V18+Datos!AN18))/(Datos!V18+Datos!AN18)) ),IF(D_I="SI",(Datos!L18-Datos!V18)/Datos!V18,(Datos!L18+Datos!AF18-(Datos!V18+Datos!AN18))/(Datos!V18+Datos!AN18))," - ") -> -0.44444444 | F18: =IF(ISNUMBER((Datos!M18-Datos!W18)/Datos!W18),(Datos!M18-Datos!W18)/Datos!W18," - ") -> -1 | G18: =IF(ISNUMBER((Datos!N18-Datos!X18)/Datos!X18),(Datos!N18-Datos!X18)/Datos!X18," - ") -> -0.8 | H18: =IF(ISNUMBER(((NºAsuntos!G18/NºAsuntos!E18)-Datos!BD18)/Datos!BD18),((NºAsuntos!G18/NºAsuntos!E18)-Datos!BD18)/Datos!BD18," - ") -> - | I18: =IF(ISNUMBER(((NºAsuntos!I18/NºAsuntos!G18)-Datos!BE18)/Datos!BE18),((NºAsuntos!I18/NºAsuntos!G18)-Datos!BE18)/Datos!BE18," - ") -> 7.3333333 | J18: =IF(ISNUMBER((('Resol Asuntos'!D18/NºAsuntos!G18)-Datos!BF18)/Datos!BF18),(('Resol Asuntos'!D18/NºAsuntos!G18)-Datos!BF18)/Datos!BF18," - ") -> -1 | K18: =IF(ISNUMBER((((NºAsuntos!C18+NºAsuntos!E18)/NºAsuntos!G18)-Datos!BG18)/Datos!BG18),(((NºAsuntos!C18+NºAsuntos!E18)/NºAsuntos!G18)-Datos!BG18)/Datos!BG18," - ") -> 7.9754098
A19: =Datos!A19 -> TOTAL | B19: =IF(ISNUMBER( IF(Criterios!B14="SI",(Datos!I19-Datos!S19)/Datos!S19,(Datos!I19+Datos!AC19-(Datos!S19+Datos!AK19))/(Datos!S19+Datos!AK19)) ),IF(Criterios!B14="SI",(Datos!I19-Datos!S19)/Datos!S19,(Datos!I19+Datos!AC19-(Datos!S19+Datos!AK19))/(Datos!S19+Datos!AK19))," - ") -> -0.29042046 | C19: =IF(ISNUMBER( IF(Criterios!B14="SI",(Datos!J19-Datos!T19)/Datos!T19,(Datos!J19+Datos!AD19-(Datos!T19+Datos!AL19))/(Datos!T19+Datos!AL19)) ),IF(Criterios!B14="SI",(Datos!J19-Datos!T19)/Datos!T19,(Datos!J19+Datos!AD19-(Datos!T19+Datos!AL19))/(Datos!T19+Datos!AL19))," - ") -> -0.083526682 | D19: =IF(ISNUMBER( IF(Criterios!B14="SI",(Datos!K19-Datos!U19)/Datos!U19,(Datos!K19+Datos!AE19-(Datos!U19+Datos!AM19))/(Datos!U19+Datos!AM19)) ),IF(Criterios!B14="SI",(Datos!K19-Datos!U19)/Datos!U19,(Datos!K19+Datos!AE19-(Datos!U19+Datos!AM19))/(Datos!U19+Datos!AM19))," - ") -> -0.1659751 | E19: =IF(ISNUMBER( IF(Criterios!B14="SI",(Datos!L19-Datos!V19)/Datos!V19,(Datos!L19+Datos!AF19-(Datos!V19+Datos!AN19))/(Datos!V19+Datos!AN19)) ),IF(Criterios!B14="SI",(Datos!L19-Datos!V19)/Datos!V19,(Datos!L19+Datos!AF19-(Datos!V19+Datos!AN19))/(Datos!V19+Datos!AN19))," - ") -> -0.17996109 | F19: =IF(ISNUMBER((Datos!M19-Datos!W19)/Datos!W19),(Datos!M19-Datos!W19)/Datos!W19," - ") -> 0.2195122 | G19: =IF(ISNUMBER((Datos!N19-Datos!X19)/Datos!X19),(Datos!N19-Datos!X19)/Datos!X19," - ") -> -0.19031532 | H19: =IF(ISNUMBER(((NºAsuntos!G19/NºAsuntos!E19)-Datos!BD19)/Datos!BD19),((NºAsuntos!G19/NºAsuntos!E19)-Datos!BD19)/Datos!BD19," - ") -> -0.089962708 | I19: =IF(ISNUMBER(((NºAsuntos!I19/NºAsuntos!G19)-Datos!BE19)/Datos!BE19),((NºAsuntos!I19/NºAsuntos!G19)-Datos!BE19)/Datos!BE19," - ") -> -0.016769267 | J19: =IF(ISNUMBER((('Resol Asuntos'!D19/NºAsuntos!G19)-Datos!BF19)/Datos!BF19),(('Resol Asuntos'!D19/NºAsuntos!G19)-Datos!BF19)/Datos!BF19," - ") -> 0.46220119 | K19: =IF(ISNUMBER((((NºAsuntos!C19+NºAsuntos!E19)/NºAsuntos!G19)-Datos!BG19)/Datos!BG19),(((NºAsuntos!C19+NºAsuntos!E19)/NºAsuntos!G19)-Datos!BG19)/Datos!BG19," - ") -> -0.060113322
A20: =Datos!A20 -> TOTAL JURISDICCIONES | B20: =IF(ISNUMBER( IF(J_V="SI",(Datos!I20-Datos!S20)/Datos!S20,(Datos!I20+Datos!Y20-(Datos!S20+Datos!AG20))/(Datos!S20+Datos!AG20)) ),IF(J_V="SI",(Datos!I20-Datos!S20)/Datos!S20,(Datos!I20+Datos!Y20-(Datos!S20+Datos!AG20))/(Datos!S20+Datos!AG20))," - ") -> -0.12332215 | C20: =IF(ISNUMBER( IF(J_V="SI",(Datos!J20-Datos!T20)/Datos!T20,(Datos!J20+Datos!Z20-(Datos!T20+Datos!AH20))/(Datos!T20+Datos!AH20)) ),IF(J_V="SI",(Datos!J20-Datos!T20)/Datos!T20,(Datos!J20+Datos!Z20-(Datos!T20+Datos!AH20))/(Datos!T20+Datos!AH20))," - ") -> 0.093778591 | D20: =IF(ISNUMBER( IF(J_V="SI",(Datos!K20-Datos!U20)/Datos!U20,(Datos!K20+Datos!AA20-(Datos!U20+Datos!AI20))/(Datos!U20+Datos!AI20)) ),IF(J_V="SI",(Datos!K20-Datos!U20)/Datos!U20,(Datos!K20+Datos!AA20-(Datos!U20+Datos!AI20))/(Datos!U20+Datos!AI20))," - ") -> -0.053183792 | E20: =IF(ISNUMBER( IF(J_V="SI",(Datos!L20-Datos!V20)/Datos!V20,(Datos!L20+Datos!AB20-(Datos!V20+Datos!AJ20))/(Datos!V20+Datos!AJ20)) ),IF(J_V="SI",(Datos!L20-Datos!V20)/Datos!V20,(Datos!L20+Datos!AB20-(Datos!V20+Datos!AJ20))/(Datos!V20+Datos!AJ20))," - ") -> -0.054877106 | F20: =IF(ISNUMBER((Datos!M20-Datos!W20)/Datos!W20),(Datos!M20-Datos!W20)/Datos!W20," - ") -> 0.12839506 | G20: =IF(ISNUMBER((Datos!N20-Datos!X20)/Datos!X20),(Datos!N20-Datos!X20)/Datos!X20," - ") -> -0.041369472 | H20: =IF(ISNUMBER((Tasas!B20-Datos!BD20)/Datos!BD20),(Tasas!B20-Datos!BD20)/Datos!BD20," - ") -> -0.13436209 | I20: =IF(ISNUMBER((Tasas!C20-Datos!BE20)/Datos!BE20),(Tasas!C20-Datos!BE20)/Datos!BE20," - ") -> -0.0017884301 | J20: =IF(ISNUMBER((Tasas!D20-Datos!BF20)/Datos!BF20),(Tasas!D20-Datos!BF20)/Datos!BF20," - ") -> -0.24108454 | K20: =IF(ISNUMBER((Tasas!E20-Datos!BG20)/Datos!BG20),(Tasas!E20-Datos!BG20)/Datos!BG20," - ") -> -0.020400657
A22: NOTA ACLARATORIA: En el año 2007 se ha pasado a recoger, por primera vez, el dato de número de autos finales en los órganos de la jurisdicción penal. Por este motivo el dato de la evolución de los autos, en los órganos de esta jurisdicción, respecto al mismo periodo del año anterior carece de significación
A24: =Criterios!A4 -> Fecha Informe: 06 oct. 2026

Sheet Tasas
B2: =Criterios!A9 &" "&Criterios!B9 -> Tribunales de Justicia ANDALUCIA
A3: Tasas | B3: =Criterios!A10 &" "&Criterios!B10 -> Provincias GRANADA
B4: =Criterios!A11 &" "&Criterios!B11 -> Resumenes por Partidos Judiciales SANTA FE
A5: ="Año: " &Criterios!B5 & " Trimestre " &Criterios!D5 & " al " &Criterios!D6 -> Año: 2026 Trimestre 2 al 2 | B5: Resolución | C5: Pendencia | D5: Sentencia | E5: Congestión
A7: =Datos!A7 -> COMPETENCIAS
A8: =Datos!A8 -> Jurisdicción Civil ( 1 ):
A9: =Datos!A9 -> Sección Civil del T.I | B9: =IF(ISNUMBER(NºAsuntos!G9/NºAsuntos!E9),NºAsuntos!G9/NºAsuntos!E9," - ") -> - | C9: =IF(ISNUMBER(NºAsuntos!I9/NºAsuntos!G9),NºAsuntos!I9/NºAsuntos!G9," - ") -> - | D9: =IF(ISNUMBER('Resol Asuntos'!D9/NºAsuntos!G9),'Resol Asuntos'!D9/NºAsuntos!G9," - ") -> - | E9: =IF(ISNUMBER((NºAsuntos!C9+NºAsuntos!E9)/NºAsuntos!G9),(NºAsuntos!C9+NºAsuntos!E9)/NºAsuntos!G9," - ") -> -
A10: =Datos!A10 -> Sección De Violencia sobre la Mujer del TI | B10: =IF(ISNUMBER(NºAsuntos!G10/NºAsuntos!E10),NºAsuntos!G10/NºAsuntos!E10," - ") -> - | C10: =IF(ISNUMBER(NºAsuntos!I10/NºAsuntos!G10),NºAsuntos!I10/NºAsuntos!G10," - ") -> - | D10: =IF(ISNUMBER('Resol Asuntos'!D10/NºAsuntos!G10),'Resol Asuntos'!D10/NºAsuntos!G10," - ") -> - | E10: =IF(ISNUMBER((NºAsuntos!C10+NºAsuntos!E10)/NºAsuntos!G10),(NºAsuntos!C10+NºAsuntos!E10)/NºAsuntos!G10," - ") -> -
A11: =Datos!A11 -> Sección de Familia, infancia y capacidad del TI | B11: =IF(ISNUMBER(NºAsuntos!G11/NºAsuntos!E11),NºAsuntos!G11/NºAsuntos!E11," - ") -> - | C11: =IF(ISNUMBER(NºAsuntos!I11/NºAsuntos!G11),NºAsuntos!I11/NºAsuntos!G11," - ") -> - | D11: =IF(ISNUMBER('Resol Asuntos'!D11/NºAsuntos!G11),'Resol Asuntos'!D11/NºAsuntos!G11," - ") -> - | E11: =IF(ISNUMBER((NºAsuntos!C11+NºAsuntos!E11)/NºAsuntos!G11),(NºAsuntos!C11+NºAsuntos!E11)/NºAsuntos!G11," - ") -> -
A12: =Datos!A12 -> Sección Civil y de Instrucción del T.I. | B12: =IF(ISNUMBER(NºAsuntos!G12/NºAsuntos!E12),NºAsuntos!G12/NºAsuntos!E12," - ") -> 1.1699834 | C12: =IF(ISNUMBER(NºAsuntos!I12/NºAsuntos!G12),NºAsuntos!I12/NºAsuntos!G12," - ") -> 3.1381999 | D12: =IF(ISNUMBER('Resol Asuntos'!D12/NºAsuntos!G12),'Resol Asuntos'!D12/NºAsuntos!G12," - ") -> 0.21757619 | E12: =IF(ISNUMBER((NºAsuntos!C12+NºAsuntos!E12)/NºAsuntos!G12),(NºAsuntos!C12+NºAsuntos!E12)/NºAsuntos!G12," - ") -> 4.1381999
A13: =Datos!A13 -> TOTAL | B13: =IF(ISNUMBER(NºAsuntos!G13/NºAsuntos!E13),NºAsuntos!G13/NºAsuntos!E13," - ") -> 1.1699834 | C13: =IF(ISNUMBER(NºAsuntos!I13/NºAsuntos!G13),NºAsuntos!I13/NºAsuntos!G13," - ") -> 3.1381999 | D13: =IF(ISNUMBER('Resol Asuntos'!D13/NºAsuntos!G13),'Resol Asuntos'!D13/NºAsuntos!G13," - ") -> 0.21757619 | E13: =IF(ISNUMBER((NºAsuntos!C13+NºAsuntos!E13)/NºAsuntos!G13),(NºAsuntos!C13+NºAsuntos!E13)/NºAsuntos!G13," - ") -> 4.1381999
A14: =Datos!A14 -> Jurisdicción Penal ( 2 ):
A15: =Datos!A15 -> Seccion Instruccion Del T.I. | B15: =IF(ISNUMBER(NºAsuntos!G15/NºAsuntos!E15),NºAsuntos!G15/NºAsuntos!E15," - ") -> - | C15: =IF(ISNUMBER(NºAsuntos!I15/NºAsuntos!G15),NºAsuntos!I15/NºAsuntos!G15," - ") -> - | D15: =IF(ISNUMBER('Resol Asuntos'!D15/NºAsuntos!G15),'Resol Asuntos'!D15/NºAsuntos!G15," - ") -> - | E15: =IF(ISNUMBER((NºAsuntos!C15+NºAsuntos!E15)/NºAsuntos!G15),(NºAsuntos!C15+NºAsuntos!E15)/NºAsuntos!G15," - ") -> -
A16: =Datos!A16 -> Seccion de Violencia contra la infancia y la adol. | B16: =IF(ISNUMBER(NºAsuntos!G16/NºAsuntos!E16),NºAsuntos!G16/NºAsuntos!E16," - ") -> - | C16: =IF(ISNUMBER(NºAsuntos!I16/NºAsuntos!G16),NºAsuntos!I16/NºAsuntos!G16," - ") -> - | D16: =IF(ISNUMBER('Resol Asuntos'!D16/NºAsuntos!G16),'Resol Asuntos'!D16/NºAsuntos!G16," - ") -> - | E16: =IF(ISNUMBER((NºAsuntos!C16+NºAsuntos!E16)/NºAsuntos!G16),(NºAsuntos!C16+NºAsuntos!E16)/NºAsuntos!G16," - ") -> -
A17: =Datos!A17 -> Sección Civil y de Inst. TI | B17: =IF(ISNUMBER(NºAsuntos!G17/NºAsuntos!E17),NºAsuntos!G17/NºAsuntos!E17," - ") -> 1.0151899 | C17: =IF(ISNUMBER(NºAsuntos!I17/NºAsuntos!G17),NºAsuntos!I17/NºAsuntos!G17," - ") -> 1.3433084 | D17: =IF(ISNUMBER('Resol Asuntos'!D17/NºAsuntos!G17),'Resol Asuntos'!D17/NºAsuntos!G17," - ") -> 0.12468828 | E17: =IF(ISNUMBER((NºAsuntos!C17+NºAsuntos!E17)/NºAsuntos!G17),(NºAsuntos!C17+NºAsuntos!E17)/NºAsuntos!G17," - ") -> 2.2851205
A18: =Datos!A18 -> Sección De Violencia sobre la Mujer del TI | B18: =IF(ISNUMBER(NºAsuntos!G18/NºAsuntos!E18),NºAsuntos!G18/NºAsuntos!E18," - ") -> - | C18: =IF(ISNUMBER(NºAsuntos!I18/NºAsuntos!G18),NºAsuntos!I18/NºAsuntos!G18," - ") -> 23.333333 | D18: =IF(ISNUMBER('Resol Asuntos'!D18/NºAsuntos!G18),'Resol Asuntos'!D18/NºAsuntos!G18," - ") -> 0 | E18: =IF(ISNUMBER((NºAsuntos!C18+NºAsuntos!E18)/NºAsuntos!G18),(NºAsuntos!C18+NºAsuntos!E18)/NºAsuntos!G18," - ") -> 24.333333
A19: =Datos!A19 -> TOTAL | B19: =IF(ISNUMBER(NºAsuntos!G19/NºAsuntos!E19),NºAsuntos!G19/NºAsuntos!E19," - ") -> 1.0177215 | C19: =IF(ISNUMBER(NºAsuntos!I19/NºAsuntos!G19),NºAsuntos!I19/NºAsuntos!G19," - ") -> 1.39801 | D19: =IF(ISNUMBER('Resol Asuntos'!D19/NºAsuntos!G19),'Resol Asuntos'!D19/NºAsuntos!G19," - ") -> 0.12437811 | E19: =IF(ISNUMBER((NºAsuntos!C19+NºAsuntos!E19)/NºAsuntos!G19),(NºAsuntos!C19+NºAsuntos!E19)/NºAsuntos!G19," - ") -> 2.3399668
A20: =Datos!A20 -> TOTAL JURISDICCIONES | B20: =IF(ISNUMBER(NºAsuntos!G20/NºAsuntos!E20),NºAsuntos!G20/NºAsuntos!E20," - ") -> 1.0945211 | C20: =IF(ISNUMBER(NºAsuntos!I20/NºAsuntos!G20),NºAsuntos!I20/NºAsuntos!G20," - ") -> 2.3362629 | D20: =IF(ISNUMBER('Resol Asuntos'!D20/NºAsuntos!G20),'Resol Asuntos'!D20/NºAsuntos!G20," - ") -> 0.17462744 | E20: =IF(ISNUMBER((NºAsuntos!C20+NºAsuntos!E20)/NºAsuntos!G20),(NºAsuntos!C20+NºAsuntos!E20)/NºAsuntos!G20," - ") -> 3.3095147
A24: =Criterios!A4 -> Fecha Informe: 06 oct. 2026

Sheet Indicadores
F2: =Criterios!A9 &" "&Criterios!B9 -> Tribunales de Justicia ANDALUCIA | L2: =Criterios!A10 &" "&Criterios!B10 -> Provincias GRANADA | N2: =Criterios!A11 &" "&Criterios!B11 -> Resumenes por Partidos Judiciales SANTA FE
A5: Código de órgano | C5: ="Año: " &Criterios!B$5 & " Trimestre " &Criterios!D$5 & " al " &Criterios!D$6 -> Año: 2026 Trimestre 2 al 2 | D5: Otra comp. | E5: Número de magistrados | F5: En Tramite Al Inicio Del Periodo (Regularizado) | G5: En Tramite Al Inicio Del Periodo | H5: A ASUNTOS ingresados | I5: A ASUNTOS ingresados 2 | J5: A ASUNTOS ingresados 3 | K5: Asuntos reabiertos | L5: Ejecuciones ingresadas | M5: Ejecuciones reiniciadas | N5: INGRESO COMPUTABLE (A+B) | O5: INGRESO COMPUTABLE (Civil + Penal) | P5: % Ingreso Computable | Q5: % Ingreso Computable total | R5: SOLO Monitorios ingresados | S5: RESOLUCIONNº H/P | T5: % S/INDICADOR DE RESOLUCION (Horas punto) | U5: TOTAL RESOLUCIONNº H/P | V5: % S/INDICADOR DE RESOLUCIÓN TOTAL (CIVIL Y PENAL) | W5: Resolución ingresados A | X5: Resolución ejecuciones B | Y5: Resolución TOTAL C | Z5: Resolución Monitorios | AA5: Pendencia A | AB5: Pendencia B | AC5: Pendencia A+B | AD5: Pendencia Monitorios | AE5: Nº TOTAL Sentencias Pendientes | AF5: Nª Sentencias menos 3 m | AG5: Nª sentencias entre 3 y 6m | AH5: Nª Sentencias más de 6m | AI5: Nº TOTAL Sentencias dictadas | AJ5: Escritos pendientes hasta 30 días | AK5: Escritos pendientes mas de 30 días | AL5: Tasa Resolución | AM5: Tiempo de respuesta | AN5: Tasa Sentencia | AO5: Tasa Congestión | AP5: % Señalamientos suspendidos | AQ5: Variación de Pendientes A | AR5: Variación de Pendientes B | AS5: Procedimeintos abreviados elevados | AT5: Suspendidos | AU5: Señalados | AV5: Asuntos Pendientes de Incoar | AW5: Asuntos Repartidos Pendientes de Aceptar | AX5: Fecha señalamiento más alejada en el tiempo | AY5: Módulo entrada 2018 | AZ5: % Módulo entrada 2018 | BF5: M. TeórIco 1 | BH5: M. TeórIco 2 | BJ5: M. TeórIco 3 | BL5: M. TeórIco Tot
BF6: Inferior | BG6: Superior | BH6: Inferior | BI6: Superior | BJ6: Inferior | BK6: Superior | BL6: Inferior | BM6: Superior
C7: =Datos!A7 -> COMPETENCIAS
C8: =Datos!A8 -> Jurisdicción Civil ( 1 ):
A9: =Datos!AO9 -> 0 | B9: C | C9: =Datos!A9 -> Sección Civil del T.I | E9: =IF(ISNUMBER(Datos!AQ9),Datos!AQ9," - ") -> 0 | F9: =IF(ISNUMBER(AA9+W9-I9-K9),AA9+W9-I9-K9," - ") -> - | G9: =IF(ISNUMBER(IF(J_V="SI",Datos!I9,Datos!I9+Datos!Y9)-IF(Monitorios="SI",Datos!CA9,0)), IF(J_V="SI",Datos!I9,Datos!I9+Datos!Y9)-IF(Monitorios="SI",Datos!CA9,0), " - ") -> - | H9: =IF(ISNUMBER(Datos!DB9),Datos!DB9," - ") -> - | I9: =IF(ISNUMBER(Datos!DC9),Datos!DC9," - ") -> - | J9: =IF(ISNUMBER(Datos!DD9),Datos!DD9," - ") -> - | K9: =IF(ISNUMBER(Datos!DF9),Datos!DF9,0) -> 0 | L9: =IF(ISNUMBER(Datos!P9),Datos!P9,0) -> 0 | M9: =IF(ISNUMBER(Datos!DE9),Datos!DE9," - ") -> - | N9: =IF(ISNUMBER(H9+L9),H9+L9," - ") -> - | P9: =IF(ISNUMBER((N9)/((BL9+BM9)/2)),(N9)/((BL9+BM9)/2)," - ") -> - | Q9: =IF(ISNUMBER((N9)/((BL9+BM9)/2)),(N9)/((BL9+BM9)/2)," - ") -> - | R9: =IF(ISNUMBER(Datos!CB9),Datos!CB9," - ") -> - | S9: =IF(ISNUMBER(Datos!BY9+Datos!BZ9*0.86),Datos!BY9+Datos!BZ9*0.86," - ") -> 0 | T9: =IF(ISNUMBER((S9*factor_trimestre)/DatosB!CN9),(S9*factor_trimestre)/DatosB!CN9,"-") -> 0 | V9: =IF(ISNUMBER((U9*factor_trimestre)/DatosB!CN9),(U9*factor_trimestre)/DatosB!CN9,"-") -> 0 | W9: =IF(ISNUMBER(IF(J_V="SI",Datos!K9,Datos!K9+Datos!AA9)-IF(Monitorios="SI",Datos!CC9,0)), IF(J_V="SI",Datos!K9,Datos!K9+Datos!AA9)-IF(Monitorios="SI",Datos!CC9,0), " - ") -> - | X9: =IF(ISNUMBER(Datos!Q9),Datos!Q9," - ") -> - | Y9: =SUM(W9:X9) -> 0 | Z9: =IF(ISNUMBER(Datos!CC9),Datos!CC9," - ") -> - | AA9: =IF(ISNUMBER(IF(J_V="SI",Datos!L9,Datos!L9+Datos!AB9)-IF(Monitorios="SI",Datos!CD9,0)), IF(J_V="SI",Datos!L9,Datos!L9+Datos!AB9)-IF(Monitorios="SI",Datos!CD9,0), " - ") -> - | AB9: =IF(ISNUMBER(Datos!R9),Datos!R9," - ") -> - | AC9: =IF(ISNUMBER(AA9+AB9),AA9+AB9," - ") -> - | AD9: =IF(ISNUMBER(Datos!CD9),Datos!CD9," - ") -> - | AE9: =IF(ISNUMBER(Datos!BV9),Datos!BV9," - ") -> - | AF9: =IF(ISNUMBER(Datos!CK9),Datos!CK9," - ") -> - | AG9: =IF(ISNUMBER(Datos!CL9),Datos!CL9," - ") -> - | AH9: =IF(ISNUMBER(Datos!CM9),Datos!CM9," - ") -> - | AI9: =IF(ISNUMBER(Datos!M9),Datos!M9," - ") -> - | AJ9: =IF(ISNUMBER(Datos!BW9),Datos!BW9," - ") -> - | AK9: =IF(ISNUMBER(Datos!BX9),Datos!BX9," - ") -> - | AL9: =IF(ISNUMBER(NºAsuntos!G9/NºAsuntos!E9),NºAsuntos!G9/NºAsuntos!E9," - ") -> - | AM9: =IF(ISNUMBER(((NºAsuntos!I9/NºAsuntos!G9)*11)/factor_trimestre),((NºAsuntos!I9/NºAsuntos!G9)*11)/factor_trimestre," - ") -> - | AN9: =IF(ISNUMBER('Resol Asuntos'!D9/NºAsuntos!G9),'Resol Asuntos'!D9/NºAsuntos!G9," - ") -> - | AO9: =IF(ISNUMBER((NºAsuntos!C9+NºAsuntos!E9)/NºAsuntos!G9),(NºAsuntos!C9+NºAsuntos!E9)/NºAsuntos!G9," - ") -> - | AP9: =IF(ISNUMBER(AT9/AU9),AT9/AU9," - ") -> - | AQ9: =IF(ISNUMBER((I9-W9+K9)/(F9)),(I9-W9+K9)/(F9)," - ") -> - | AR9: =IF(ISNUMBER((Datos!P9-Datos!Q9+M9)/(Datos!R9-Datos!P9+Datos!Q9-M9)),(Datos!P9-Datos!Q9+M9)/(Datos!R9-Datos!P9+Datos!Q9-M9)," - ") -> - | AS9: =IF(ISNUMBER(Datos!CS9),Datos!CS9," - ") -> - | AT9: =IF(ISNUMBER(Datos!CI9),Datos!CI9," - ") -> - | AU9: =IF(ISNUMBER(Datos!CJ9),Datos!CJ9," - ") -> - | AV9: =IF(ISNUMBER(Datos!CW9),Datos!CW9," - ") -> - | AW9: =IF(ISNUMBER(Datos!EV9),Datos!EV9," - ") -> - | AX9: =IF(ISNUMBER(Datos!CX9)," - ",Datos!CX9) -> 0 | AY9: =IF(ISNUMBER(Datos!ET9),Datos!ET9," - ") -> - | AZ9: =(AY9/Datos!ER9)*factor_trimestre -> #VALUE! | BF9: =Datos!BN9/factor_trimestre -> 0 | BG9: =Datos!BO9/factor_trimestre -> 0 | BH9: =Datos!BP9/factor_trimestre -> 0 | BI9: =Datos!BQ9/factor_trimestre -> 0 | BJ9: =Datos!BR9/factor_trimestre -> 0 | BK9: =Datos!BS9/factor_trimestre -> 0 | BL9: =Datos!BT9/factor_trimestre -> 0 | BM9: =Datos!BU9/factor_trimestre -> 0
