Workbook
Name agrupada: Criterios!$D$13
Name agrupada: Criterios!$D$13
Name Año: Criterios!$B$5
Name Año: Criterios!$B$5
Name boletin: Criterios!$A$8
Name boletin: Criterios!$A$8
Name D_I: Criterios!$B$14
Name D_I: Criterios!$B$14
Name factor_trimestre: Criterios!$R$8
Name factor_trimestre: Criterios!$R$8
Name J_V: Criterios!$B$13
Name J_V: Criterios!$B$13
Name jurisdiccion: Criterios!$E$8
Name jurisdiccion: Criterios!$E$8
Name Monitorios: Criterios!#REF!
Name Monitorios: Criterios!#REF!
Name salto: Criterios!$Q$10
Name salto: Criterios!$Q$10
Name TrimFin: Criterios!$D$6
Name TrimFin: Criterios!$D$6
Name TrimIni: Criterios!$D$5
Name TrimIni: Criterios!$D$5
Name ULTIMODIA: Criterios!$Q$14
Name ultimoDiaTrim: Criterios!$Q$12
Name ultimoDiaTrim: Criterios!$Q$12

Sheet Criterios
Q2: Factor normalización dedicación magistrados por trimestre
A3: ACTIVIDAD POR JURISDICCIÓN | Q3: 1 | R3: 3 | S3: =AND(Q3>=TrimIni,Q3<=TrimFin) -> FALSE
A4: Fecha Informe: 06 oct. 2026 | Q4: 2 | R4: 3 | S4: =AND(Q4>=TrimIni,Q4<=TrimFin) -> TRUE
A5: Año: | B5: 2026 | C5: Trimestre desde | D5: 2 | Q5: 3 | R5: 2 | S5: =AND(Q5>=TrimIni,Q5<=TrimFin) -> FALSE
C6: Trimestre hasta | D6: 2 | Q6: 4 | R6: 3 | S6: =AND(Q6>=TrimIni,Q6<=TrimFin) -> FALSE
R8: =11/SUMIF(S3:S6,TRUE,R3:R6) -> 3.6666667
A9: Tribunales de Justicia | B9: ANDALUCIA
A10: Provincias | B10: GRANADA | Q10: 0
A11: Resumenes por Partidos Judiciales | B11: SANTA FE
A13: Excluir Jurisdicción Voluntaria: | B13: NO | C13: Agrupada: | D13: NO
A14: Excluir Diligencias Indeterminadas: | B14: SI | Q14: =DATE(B5,D6*3+1,0)+547 -> 46750

Sheet NºAsuntos
B2: =Criterios!A9 &" "&Criterios!B9 -> Tribunales de Justicia ANDALUCIA
A3: Nº de Asuntos | B3: =Criterios!A10 &" "&Criterios!B10 -> Provincias GRANADA
B4: =Criterios!A11 &" "&Criterios!B11 -> Resumenes por Partidos Judiciales SANTA FE
A5: ="Año: " &Criterios!B5 & " Trimestre " &Criterios!D5 & " al " &Criterios!D6 -> Año: 2026 Trimestre 2 al 2 | B5: Órganos | C5: En Tramite Al Inicio Del Periodo | E5: Ingresados | G5: Resueltos | I5: En Tramite Al Final Del Periodo | K5: Módulo Entrada 2018 | L5: % Módulo Entrada 2018 | M5: Módulo Resolución 2018 | N5: Módulo Pendencia 2018
A7: COMPETENCIAS | B7: Nº | C7: Nº Asuntos | D7: Media x Órgano | E7: Nº Asuntos | F7: Media x Órgano | G7: Nº Asuntos | H7: Media x Órgano | I7: Nº Asuntos | J7: Media x Órgano
A8: =Datos!A8 -> Jurisdicción Civil ( 1 ):
A9: =Datos!A9 -> Sección Civil del T.I | B9: =Datos!AO9 -> 0 | C9: =IF(ISNUMBER(IF(J_V="SI",Datos!I9,Datos!I9+Datos!Y9)),IF(J_V="SI",Datos!I9,Datos!I9+Datos!Y9)," - ") -> - | D9: =IF(ISNUMBER(C9/Datos!BH9),C9/Datos!BH9," - ") -> - | E9: =IF(ISNUMBER(IF(J_V="SI",Datos!J9,Datos!J9+Datos!Z9)),IF(J_V="SI",Datos!J9,Datos!J9+Datos!Z9)," - ") -> - | F9: =IF(ISNUMBER(E9/B9),E9/B9," - ") -> - | G9: =IF(ISNUMBER(IF(J_V="SI",Datos!K9,Datos!K9+Datos!AA9)),IF(J_V="SI",Datos!K9,Datos!K9+Datos!AA9)," - ") -> - | H9: =IF(ISNUMBER(G9/B9),G9/B9," - ") -> - | I9: =IF(ISNUMBER(IF(J_V="SI",Datos!L9,Datos!L9+Datos!AB9)),IF(J_V="SI",Datos!L9,Datos!L9+Datos!AB9)," - ") -> - | J9: =IF(ISNUMBER(I9/B9),I9/B9," - ") -> - | K9: =IF(ISNUMBER(Datos!EO9),Datos!EO9," - ") -> - | L9: =K9*factor_trimestre/Datos!ER9 -> #VALUE! | M9: =IF(ISNUMBER(Datos!EP9),Datos!EP9," - ") -> - | N9: =IF(ISNUMBER(Datos!EQ9),Datos!EQ9," - ") -> - | BQ9: =Datos!EZ9 -> 0
A10: =Datos!A10 -> Sección De Violencia sobre la Mujer del TI | B10: =Datos!AO10 -> 1 | C10: =IF(ISNUMBER(Datos!I10),Datos!I10," - ") -> 0 | D10: =IF(ISNUMBER(C10/Datos!BH10),C10/Datos!BH10," - ") -> 0 | E10: =IF(ISNUMBER(Datos!J10),Datos!J10," - ") -> 0 | F10: =IF(ISNUMBER(E10/B10),E10/B10," - ") -> 0 | G10: =IF(ISNUMBER(Datos!K10),Datos!K10," - ") -> 0 | H10: =IF(ISNUMBER(G10/B10),G10/B10," - ") -> 0 | I10: =IF(ISNUMBER(Datos!L10),Datos!L10," - ") -> 0 | J10: =IF(ISNUMBER(I10/B10),I10/B10," - ") -> 0 | K10: =IF(ISNUMBER(Datos!EO10),Datos!EO10," - ") -> - | L10: =K10*factor_trimestre/Datos!ER10 -> #VALUE! | M10: =IF(ISNUMBER(Datos!EP10),Datos!EP10," - ") -> - | N10: =IF(ISNUMBER(Datos!EQ10),Datos!EQ10," - ") -> - | BQ10: =Datos!EZ10 -> 0
A11: =Datos!A11 -> Sección de Familia, infancia y capacidad del TI | B11: =Datos!AO11 -> 0 | C11: =IF(ISNUMBER(IF(J_V="SI",Datos!I11,Datos!I11+Datos!Y11)),IF(J_V="SI",Datos!I11,Datos!I11+Datos!Y11)," - ") -> - | D11: =IF(ISNUMBER(C11/Datos!BH11),C11/Datos!BH11," - ") -> - | E11: =IF(ISNUMBER(IF(J_V="SI",Datos!J11,Datos!J11+Datos!Z11)),IF(J_V="SI",Datos!J11,Datos!J11+Datos!Z11)," - ") -> - | F11: =IF(ISNUMBER(E11/B11),E11/B11," - ") -> - | G11: =IF(ISNUMBER(IF(J_V="SI",Datos!K11,Datos!K11+Datos!AA11)),IF(J_V="SI",Datos!K11,Datos!K11+Datos!AA11)," - ") -> - | H11: =IF(ISNUMBER(G11/B11),G11/B11," - ") -> - | I11: =IF(ISNUMBER(IF(J_V="SI",Datos!L11,Datos!L11+Datos!AB11)),IF(J_V="SI",Datos!L11,Datos!L11+Datos!AB11)," - ") -> - | J11: =IF(ISNUMBER(I11/B11),I11/B11," - ") -> - | K11: =IF(ISNUMBER(Datos!EO11),Datos!EO11," - ") -> - | L11: =K11*factor_trimestre/Datos!ER11 -> #VALUE! | M11: =IF(ISNUMBER(Datos!EP11),Datos!EP11," - ") -> - | N11: =IF(ISNUMBER(Datos!EQ11),Datos!EQ11," - ") -> - | BQ11: =Datos!EZ11 -> 0
A12: =Datos!A12 -> Sección Civil y de Instrucción del T.I. | B12: =Datos!AO12 -> 4 | C12: =IF(ISNUMBER(IF(J_V="SI",Datos!I12,Datos!I12+Datos!Y12)),IF(J_V="SI",Datos!I12,Datos!I12+Datos!Y12)," - ") -> 4633 | D12: =IF(ISNUMBER(C12/Datos!BH12),C12/Datos!BH12," - ") -> 1158.25 | E12: =IF(ISNUMBER(IF(J_V="SI",Datos!J12,Datos!J12+Datos!Z12)),IF(J_V="SI",Datos!J12,Datos!J12+Datos!Z12)," - ") -> 1206 | F12: =IF(ISNUMBER(E12/B12),E12/B12," - ") -> 301.5 | G12: =IF(ISNUMBER(IF(J_V="SI",Datos!K12,Datos!K12+Datos!AA12)),IF(J_V="SI",Datos!K12,Datos!K12+Datos!AA12)," - ") -> 1411 | H12: =IF(ISNUMBER(G12/B12),G12/B12," - ") -> 352.75 | I12: =IF(ISNUMBER(IF(J_V="SI",Datos!L12,Datos!L12+Datos!AB12)),IF(J_V="SI",Datos!L12,Datos!L12+Datos!AB12)," - ") -> 4428 | J12: =IF(ISNUMBER(I12/B12),I12/B12," - ") -> 1107 | K12: =IF(ISNUMBER(Datos!EO12),Datos!EO12," - ") -> - | L12: =K12*factor_trimestre/Datos!ER12 -> #VALUE! | M12: =IF(ISNUMBER(Datos!EP12),Datos!EP12," - ") -> - | N12: =IF(ISNUMBER(Datos!EQ12),Datos!EQ12," - ") -> - | BQ12: =Datos!EZ12 -> 0
A13: =Datos!A13 -> TOTAL | B13: =Datos!AP13 -> 4 | C13: =SUBTOTAL(9,C8:C12) -> 4633 | D13: =IF(ISNUMBER(C13/Datos!BI13),C13/Datos!BI13," - ") -> - | E13: =SUBTOTAL(9,E8:E12) -> 1206 | F13: =IF(ISNUMBER(E13/B13),E13/B13," - ") -> 301.5 | G13: =SUBTOTAL(9,G8:G12) -> 1411 | H13: =IF(ISNUMBER(G13/B13),G13/B13," - ") -> 352.75 | I13: =SUBTOTAL(9,I8:I12) -> 4428 | J13: =IF(ISNUMBER(I13/B13),I13/B13," - ") -> 1107 | K13: =SUBTOTAL(9,K8:K12) -> 0 | M13: =SUBTOTAL(9,M8:M12) -> 0 | N13: =SUBTOTAL(9,N8:N12) -> 0
A14: =Datos!A14 -> Jurisdicción Penal ( 2 ): | BQ14: =Datos!EZ14 -> 0
A15: =Datos!A15 -> Seccion Instruccion Del T.I. | B15: =Datos!AO15 -> 0 | C15: =IF(ISNUMBER(IF(D_I="SI",Datos!I15,Datos!I15+Datos!AC15)),IF(D_I="SI",Datos!I15,Datos!I15+Datos!AC15)," - ") -> - | D15: =IF(ISNUMBER(C15/Datos!BH15),C15/Datos!BH15," - ") -> - | E15: =IF(ISNUMBER(IF(D_I="SI",Datos!J15,Datos!J15+Datos!AD15)),IF(D_I="SI",Datos!J15,Datos!J15+Datos!AD15)," - ") -> - | F15: =IF(ISNUMBER(E15/B15),E15/B15," - ") -> - | G15: =IF(ISNUMBER(IF(D_I="SI",Datos!K15,Datos!K15+Datos!AE15)),IF(D_I="SI",Datos!K15,Datos!K15+Datos!AE15)," - ") -> - | H15: =IF(ISNUMBER(G15/B15),G15/B15," - ") -> - | I15: =IF(ISNUMBER(IF(D_I="SI",Datos!L15,Datos!L15+Datos!AF15)),IF(D_I="SI",Datos!L15,Datos!L15+Datos!AF15)," - ") -> - | J15: =IF(ISNUMBER(I15/B15),I15/B15," - ") -> - | K15: =IF(ISNUMBER(Datos!EO15),Datos!EO15," - ") -> - | L15: =K15*factor_trimestre/Datos!ER15 -> #VALUE! | M15: =IF(ISNUMBER(Datos!EP15),Datos!EP15," - ") -> - | N15: =IF(ISNUMBER(Datos!EQ15),Datos!EQ15," - ") -> - | BQ15: =Datos!EZ15 -> 0
A16: =Datos!A16 -> Seccion de Violencia contra la infancia y la adol. | B16: =Datos!AO16 -> 0 | C16: =IF(ISNUMBER(IF(D_I="SI",Datos!I16,Datos!I16+Datos!AC16)),IF(D_I="SI",Datos!I16,Datos!I16+Datos!AC16)," - ") -> - | D16: =IF(ISNUMBER(C16/Datos!BH16),C16/Datos!BH16," - ") -> - | E16: =IF(ISNUMBER(IF(D_I="SI",Datos!J16,Datos!J16+Datos!AD16)),IF(D_I="SI",Datos!J16,Datos!J16+Datos!AD16)," - ") -> - | F16: =IF(ISNUMBER(E16/B16),E16/B16," - ") -> - | G16: =IF(ISNUMBER(IF(D_I="SI",Datos!K16,Datos!K16+Datos!AE16)),IF(D_I="SI",Datos!K16,Datos!K16+Datos!AE16)," - ") -> - | H16: =IF(ISNUMBER(G16/B16),G16/B16," - ") -> - | I16: =IF(ISNUMBER(IF(D_I="SI",Datos!L16,Datos!L16+Datos!AF16)),IF(D_I="SI",Datos!L16,Datos!L16+Datos!AF16)," - ") -> - | J16: =IF(ISNUMBER(I16/B16),I16/B16," - ") -> - | K16: =IF(ISNUMBER(Datos!EO16),Datos!EO16," - ") -> - | L16: =K16*factor_trimestre/Datos!ER16 -> #VALUE! | M16: =IF(ISNUMBER(Datos!EP16),Datos!EP16," - ") -> - | N16: =IF(ISNUMBER(Datos!EQ16),Datos!EQ16," - ") -> - | BQ16: =Datos!EZ16 -> 0
A17: =Datos!A17 -> Sección Civil y de Inst. TI | B17: =Datos!AO17 -> 4 | C17: =IF(ISNUMBER(IF(D_I="SI",Datos!I17,Datos!I17+Datos!AC17)),IF(D_I="SI",Datos!I17,Datos!I17+Datos!AC17)," - ") -> 1564 | D17: =IF(ISNUMBER(C17/Datos!BH17),C17/Datos!BH17," - ") -> 391 | E17: =IF(ISNUMBER(IF(D_I="SI",Datos!J17,Datos!J17+Datos!AD17)),IF(D_I="SI",Datos!J17,Datos!J17+Datos!AD17)," - ") -> 1185 | F17: =IF(ISNUMBER(E17/B17),E17/B17," - ") -> 296.25 | G17: =IF(ISNUMBER(IF(D_I="SI",Datos!K17,Datos!K17+Datos!AE17)),IF(D_I="SI",Datos!K17,Datos!K17+Datos!AE17)," - ") -> 1203 | H17: =IF(ISNUMBER(G17/B17),G17/B17," - ") -> 300.75 | I17: =IF(ISNUMBER(IF(D_I="SI",Datos!L17,Datos!L17+Datos!AF17)),IF(D_I="SI",Datos!L17,Datos!L17+Datos!AF17)," - ") -> 1616 | J17: =IF(ISNUMBER(I17/B17),I17/B17," - ") -> 404 | K17: =IF(ISNUMBER(Datos!EO17),Datos!EO17," - ") -> - | L17: =K17*factor_trimestre/Datos!ER17 -> #VALUE! | M17: =IF(ISNUMBER(Datos!EP17),Datos!EP17," - ") -> - | N17: =IF(ISNUMBER(Datos!EQ17),Datos!EQ17," - ") -> - | BQ17: =Datos!EZ17 -> 0
A18: =Datos!A18 -> Sección De Violencia sobre la Mujer del TI | B18: =Datos!AO18 -> 1 | C18: =IF(ISNUMBER(IF(D_I="SI",Datos!I18,Datos!I18+Datos!AC18)),IF(D_I="SI",Datos!I18,Datos!I18+Datos!AC18)," - ") -> 73 | D18: =IF(ISNUMBER(C18/Datos!BH18),C18/Datos!BH18," - ") -> 73 | E18: =IF(ISNUMBER(IF(D_I="SI",Datos!J18,Datos!J18+Datos!AD18)),IF(D_I="SI",Datos!J18,Datos!J18+Datos!AD18)," - ") -> 0 | F18: =IF(ISNUMBER(E18/B18),E18/B18," - ") -> 0 | G18: =IF(ISNUMBER(IF(D_I="SI",Datos!K18,Datos!K18+Datos!AE18)),IF(D_I="SI",Datos!K18,Datos!K18+Datos!AE18)," - ") -> 3 | H18: =IF(ISNUMBER(G18/B18),G18/B18," - ") -> 3 | I18: =IF(ISNUMBER(IF(D_I="SI",Datos!L18,Datos!L18+Datos!AF18)),IF(D_I="SI",Datos!L18,Datos!L18+Datos!AF18)," - ") -> 70 | J18: =IF(ISNUMBER(I18/B18),I18/B18," - ") -> 70 | K18: =IF(ISNUMBER(Datos!EO18),Datos!EO18," - ") -> - | L18: =K18*factor_trimestre/Datos!ER18 -> #VALUE! | M18: =IF(ISNUMBER(Datos!EP18),Datos!EP18," - ") -> - | N18: =IF(ISNUMBER(Datos!EQ18),Datos!EQ18," - ") -> - | BQ18: =Datos!EZ18 -> 0
A19: =Datos!A19 -> TOTAL | B19: =Datos!AP19 -> 4 | C19: =SUBTOTAL(9,C14:C18) -> 1637 | D19: =IF(ISNUMBER(C19/Datos!BI19),C19/Datos!BI19," - ") -> - | E19: =SUBTOTAL(9,E14:E18) -> 1185 | F19: =IF(ISNUMBER(E19/B19),E19/B19," - ") -> 296.25 | G19: =SUBTOTAL(9,G14:G18) -> 1206 | H19: =IF(ISNUMBER(G19/B19),G19/B19," - ") -> 301.5 | I19: =SUBTOTAL(9,I14:I18) -> 1686 | J19: =IF(ISNUMBER(I19/B19),I19/B19," - ") -> 421.5 | K19: =SUBTOTAL(9,K14:K18) -> 0 | M19: =SUBTOTAL(9,M14:M18) -> 0 | N19: =SUBTOTAL(9,N14:N18) -> 0
A20: =Datos!A20 -> TOTAL JURISDICCIONES | B20: =Datos!AP20 -> 4 | C20: =SUBTOTAL(9,C9:C19) -> 6270 | D20: =IF(ISNUMBER(C20/Datos!BI20),C20/Datos!BI20," - ") -> - | E20: =SUBTOTAL(9,E9:E19) -> 2391 | F20: =IF(ISNUMBER(E20/B20),E20/B20," - ") -> 597.75 | G20: =SUBTOTAL(9,G9:G19) -> 2617 | H20: =IF(ISNUMBER(G20/B20),G20/B20," - ") -> 654.25 | I20: =SUBTOTAL(9,I9:I19) -> 6114 | J20: =IF(ISNUMBER(I20/B20),I20/B20," - ") -> 1528.5 | K20: =SUBTOTAL(9,K9:K19) -> 0 | M20: =SUBTOTAL(9,M9:M19) -> 0 | N20: =SUBTOTAL(9,N9:N19) -> 0
A21: =IF(J_V="NO","(1) Incluida Jurisdicción Voluntaria","(1) Excluída Jurisdicción Voluntaria") -> (1) Incluida Jurisdicción Voluntaria
A22: =IF(D_I="NO","(2) Incluídas Diligencias Indeterminadas","(2) Excluídas Diligencias Indeterminadas") -> (2) Excluídas Diligencias Indeterminadas
A24: =Criterios!A4 -> Fecha Informe: 06 oct. 2026

Sheet Modulos
B2: =Criterios!A9 &" "&Criterios!B9 -> Tribunales de Justicia ANDALUCIA
A3: Carga de trabajo por localidades | B3: =Criterios!A10 &" "&Criterios!B10 -> Provincias GRANADA
B4: =Criterios!A11 &" "&Criterios!B11 -> Resumenes por Partidos Judiciales SANTA FE
A5: ="Año: " &Criterios!B5 -> Año: 2026 | B5: Nº jueces/ magistrados | D5: Nº jueces/ magistrados (que graban) | G5: Entrada Total | I5: Entrada por juzgado/ magistrado | K5: Entrada en relación al Módulo teórico
A7: =Datos!A7 -> COMPETENCIAS | B7: Año Anterior | C7: Año Actual | D7: Año Anterior | E7: Año Actual | F7: Media x Órgano | G7: Año Anterior | H7: Año Actual | I7: Año Anterior | J7: Año Actual | K7: Año Anterior | L7: Año Actual | M7: Módulo teórico
A8: =Datos!A8 -> Jurisdicción Civil ( 1 ):
A9: =Datos!A9 -> Sección Civil del T.I | B9: =Datos!BL9 -> 0 | C9: =Datos!AR9 -> 0 | D9: =Datos!BK9 -> 0 | E9: =Datos!AQ9 -> 0 | F9: =IF(ISNUMBER(E9/Datos!BH9),E9/Datos!BH9," - ") -> - | G9: =IF(ISNUMBER(Datos!BJ9),Datos!BJ9," - ") -> - | H9: =IF(ISNUMBER(Datos!AS9),Datos!AS9," - ") -> - | I9: =IF(ISNUMBER(G9/D9),G9/D9," - ") -> - | J9: =IF(ISNUMBER(H9/E9),H9/E9," - ") -> - | K9: =IF(AND(ISNUMBER(I9/Datos!ER9),(G9<>0)),(I9/Datos!ER9)," - ") -> - | L9: =IF(AND(ISNUMBER(J9/Datos!ER9),(H9<>0)),(J9/Datos!ER9)," - ") -> - | M9: =IF(EXACT(Datos!ER9,""),"-",Datos!ER9) -> 1200
A10: =Datos!A10 -> Sección De Violencia sobre la Mujer del TI | B10: =Datos!BL10 -> 0 | C10: =Datos!AR10 -> 0 | D10: =Datos!BK10 -> 0 | E10: =Datos!AQ10 -> 0 | F10: =IF(ISNUMBER(E10/Datos!BH10),E10/Datos!BH10," - ") -> 0 | G10: =IF(ISNUMBER(Datos!BJ10),Datos!BJ10," - ") -> - | H10: =IF(ISNUMBER(Datos!AS10),Datos!AS10," - ") -> - | I10: =IF(ISNUMBER(G10/D10),G10/D10," - ") -> - | J10: =IF(ISNUMBER(H10/E10),H10/E10," - ") -> - | K10: =IF(AND(ISNUMBER(I10/Datos!ER10),(G10<>0)),(I10/Datos!ER10)," - ") -> - | L10: =IF(AND(ISNUMBER(J10/Datos!ER10),(H10<>0)),(J10/Datos!ER10)," - ") -> - | M10: =IF(EXACT(Datos!ER10,""),"-",Datos!ER10) -> 1600
A11: =Datos!A11 -> Sección de Familia, infancia y capacidad del TI | B11: =Datos!BL11 -> 0 | C11: =Datos!AR11 -> 0 | D11: =Datos!BK11 -> 0 | E11: =Datos!AQ11 -> 0 | F11: =IF(ISNUMBER(E11/Datos!BH11),E11/Datos!BH11," - ") -> - | G11: =IF(ISNUMBER(Datos!BJ11),Datos!BJ11," - ") -> - | H11: =IF(ISNUMBER(Datos!AS11),Datos!AS11," - ") -> - | I11: =IF(ISNUMBER(G11/D11),G11/D11," - ") -> - | J11: =IF(ISNUMBER(H11/E11),H11/E11," - ") -> - | K11: =IF(AND(ISNUMBER(I11/Datos!ER11),(G11<>0)),(I11/Datos!ER11)," - ") -> - | L11: =IF(AND(ISNUMBER(J11/Datos!ER11),(H11<>0)),(J11/Datos!ER11)," - ") -> - | M11: =IF(EXACT(Datos!ER11,""),"-",Datos!ER11) -> 1323
A12: =Datos!A12 -> Sección Civil y de Instrucción del T.I. | B12: =Datos!BL12 -> 0 | C12: =Datos!AR12 -> 4 | D12: =Datos!BK12 -> 0 | E12: =Datos!AQ12 -> 4 | F12: =IF(ISNUMBER(E12/Datos!BH12),E12/Datos!BH12," - ") -> 1 | G12: =IF(ISNUMBER(Datos!BJ12),Datos!BJ12," - ") -> - | H12: =IF(ISNUMBER(Datos!AS12),Datos!AS12," - ") -> - | I12: =IF(ISNUMBER(G12/D12),G12/D12," - ") -> - | J12: =IF(ISNUMBER(H12/E12),H12/E12," - ") -> - | K12: =IF(AND(ISNUMBER(I12/Datos!ER12),(G12<>0)),(I12/Datos!ER12)," - ") -> - | L12: =IF(AND(ISNUMBER(J12/Datos!ER12),(H12<>0)),(J12/Datos!ER12)," - ") -> - | M12: =IF(EXACT(Datos!ER12,""),"-",Datos!ER12) -> 680
A14: =Datos!A14 -> Jurisdicción Penal ( 2 ):
A15: =Datos!A15 -> Seccion Instruccion Del T.I. | B15: =Datos!BL15 -> 0 | C15: =Datos!AR15 -> 0 | D15: =Datos!BK15 -> 0 | E15: =Datos!AQ15 -> 0 | F15: =IF(ISNUMBER(E15/Datos!BH15),E15/Datos!BH15," - ") -> - | G15: =IF(ISNUMBER(Datos!BJ15),Datos!BJ15," - ") -> - | H15: =IF(ISNUMBER(Datos!AS15),Datos!AS15," - ") -> - | I15: =IF(ISNUMBER(G15/D15),G15/D15," - ") -> - | J15: =IF(ISNUMBER(H15/E15),H15/E15," - ") -> - | K15: =IF(AND(ISNUMBER(I15/Datos!ER15),(G15<>0)),(I15/Datos!ER15)," - ") -> - | L15: =IF(AND(ISNUMBER(J15/Datos!ER15),(H15<>0)),(J15/Datos!ER15)," - ") -> - | M15: =IF(EXACT(Datos!ER15,""),"-",Datos!ER15) -> 3300
A16: =Datos!A16 -> Seccion de Violencia contra la infancia y la adol. | B16: =Datos!BL16 -> 0 | C16: =Datos!AR16 -> 0 | D16: =Datos!BK16 -> 0 | E16: =Datos!AQ16 -> 0 | F16: =IF(ISNUMBER(E16/Datos!BH16),E16/Datos!BH16," - ") -> - | G16: =IF(ISNUMBER(Datos!BJ16),Datos!BJ16," - ") -> - | H16: =IF(ISNUMBER(Datos!AS16),Datos!AS16," - ") -> - | I16: =IF(ISNUMBER(G16/D16),G16/D16," - ") -> - | J16: =IF(ISNUMBER(H16/E16),H16/E16," - ") -> - | K16: =IF(AND(ISNUMBER(I16/Datos!ER16),(G16<>0)),(I16/Datos!ER16)," - ") -> - | L16: =IF(AND(ISNUMBER(J16/Datos!ER16),(H16<>0)),(J16/Datos!ER16)," - ") -> - | M16: =IF(EXACT(Datos!ER16,""),"-",Datos!ER16) -> 3300
A17: =Datos!A17 -> Sección Civil y de Inst. TI | B17: =Datos!BL17 -> 0 | C17: =Datos!AR17 -> 4 | D17: =Datos!BK17 -> 0 | E17: =Datos!AQ17 -> 4 | F17: =IF(ISNUMBER(E17/Datos!BH17),E17/Datos!BH17," - ") -> 1 | G17: =IF(ISNUMBER(Datos!BJ17),Datos!BJ17," - ") -> - | H17: =IF(ISNUMBER(Datos!AS17),Datos!AS17," - ") -> - | I17: =IF(ISNUMBER(G17/D17),G17/D17," - ") -> - | J17: =IF(ISNUMBER(H17/E17),H17/E17," - ") -> - | K17: =IF(AND(ISNUMBER(I17/Datos!ER17),(G17<>0)),(I17/Datos!ER17)," - ") -> - | L17: =IF(AND(ISNUMBER(J17/Datos!ER17),(H17<>0)),(J17/Datos!ER17)," - ") -> - | M17: =IF(EXACT(Datos!ER17,""),"-",Datos!ER17) -> 1000
A18: =Datos!A18 -> Sección De Violencia sobre la Mujer del TI | B18: =Datos!BL18 -> 0 | C18: =Datos!AR18 -> 0 | D18: =Datos!BK18 -> 0 | E18: =Datos!AQ18 -> 0 | F18: =IF(ISNUMBER(E18/Datos!BH18),E18/Datos!BH18," - ") -> 0 | G18: =IF(ISNUMBER(Datos!BJ18),Datos!BJ18," - ") -> - | H18: =IF(ISNUMBER(Datos!AS18),Datos!AS18," - ") -> - | I18: =IF(ISNUMBER(G18/D18),G18/D18," - ") -> - | J18: =IF(ISNUMBER(H18/E18),H18/E18," - ") -> - | K18: =IF(AND(ISNUMBER(I18/Datos!ER18),(G18<>0)),(I18/Datos!ER18)," - ") -> - | L18: =IF(AND(ISNUMBER(J18/Datos!ER18),(H18<>0)),(J18/Datos!ER18)," - ") -> - | M18: =IF(EXACT(Datos!ER18,""),"-",Datos!ER18) -> 1600
A24: =Criterios!A4 -> Fecha Informe: 06 oct. 2026

Sheet Resol  Asuntos
B2: =Criterios!A9 &" "&Criterios!B9 -> Tribunales de Justicia ANDALUCIA
A3: Resolución de Asuntos | B3: =Criterios!A10 &" "&Criterios!B10 -> Provincias GRANADA
B4: =Criterios!A11 &" "&Criterios!B11 -> Resumenes por Partidos Judiciales SANTA FE
A5: ="Año: " &Criterios!B5 & " Trimestre " &Criterios!D5 & " al " &Criterios!D6 -> Año: 2026 Trimestre 2 al 2 | B5: Órganos | C5: Magistrados, Jueces | D5: SENTENCIAS | F5: AUTOS | H5: DECRETOS
A7: =Datos!A7 -> COMPETENCIAS | B7: Nº | C7: Nº | D7: Nº Sentencias | E7: Media x Órgano | F7: Nº Autos | G7: Media x Órgano | H7: Nº Decretos | I7: Media x Órgano
A8: =Datos!A8 -> Jurisdicción Civil ( 1 ):
A9: =Datos!A9 -> Sección Civil del T.I | B9: =Datos!AO9 -> 0 | C9: =Datos!AQ9 -> 0 | D9: =IF(ISNUMBER(Datos!M9),Datos!M9," - ") -> - | E9: =IF(ISNUMBER(D9/B9),D9/B9," - ") -> - | F9: =IF(ISNUMBER(Datos!N9),Datos!N9," - ") -> - | G9: =IF(ISNUMBER(F9/B9),F9/B9," - ") -> - | H9: =IF(ISNUMBER(Datos!O9),Datos!O9," - ") -> - | I9: =IF(ISNUMBER(H9/B9),H9/B9," - ") -> - | BZ9: =Datos!EZ9 -> 0
A10: =Datos!A10 -> Sección De Violencia sobre la Mujer del TI | B10: =Datos!AO10 -> 1 | C10: =Datos!AQ10 -> 0 | D10: =IF(ISNUMBER(Datos!M10),Datos!M10," - ") -> 0 | E10: =IF(ISNUMBER(D10/B10),D10/B10," - ") -> 0 | F10: =IF(ISNUMBER(Datos!N10),Datos!N10," - ") -> 0 | G10: =IF(ISNUMBER(F10/B10),F10/B10," - ") -> 0 | H10: =IF(ISNUMBER(Datos!O10),Datos!O10," - ") -> 4 | I10: =IF(ISNUMBER(H10/B10),H10/B10," - ") -> 4 | BZ10: =Datos!EZ10 -> 0
A11: =Datos!A11 -> Sección de Familia, infancia y capacidad del TI | B11: =Datos!AO11 -> 0 | C11: =Datos!AQ11 -> 0 | D11: =IF(ISNUMBER(Datos!M11),Datos!M11," - ") -> - | E11: =IF(ISNUMBER(D11/B11),D11/B11," - ") -> - | F11: =IF(ISNUMBER(Datos!N11),Datos!N11," - ") -> - | G11: =IF(ISNUMBER(F11/B11),F11/B11," - ") -> - | H11: =IF(ISNUMBER(Datos!O11),Datos!O11," - ") -> - | I11: =IF(ISNUMBER(H11/B11),H11/B11," - ") -> - | BZ11: =Datos!EZ11 -> 0
A12: =Datos!A12 -> Sección Civil y de Instrucción del T.I. | B12: =Datos!AO12 -> 4 | C12: =Datos!AQ12 -> 4 | D12: =IF(ISNUMBER(Datos!M12),Datos!M12," - ") -> 307 | E12: =IF(ISNUMBER(D12/B12),D12/B12," - ") -> 76.75 | F12: =IF(ISNUMBER(Datos!N12),Datos!N12," - ") -> 625 | G12: =IF(ISNUMBER(F12/B12),F12/B12," - ") -> 156.25 | H12: =IF(ISNUMBER(Datos!O12),Datos!O12," - ") -> 660 | I12: =IF(ISNUMBER(H12/B12),H12/B12," - ") -> 165 | BZ12: =Datos!EZ12 -> 0
A13: =Datos!A13 -> TOTAL | B13: =Datos!AP13 -> 4 | C13: =Datos!AR13 -> 4 | D13: =SUBTOTAL(9,D9:D12) -> 307 | E13: =IF(ISNUMBER(D13/B13),D13/B13," - ") -> 76.75 | F13: =SUBTOTAL(9,F9:F12) -> 625 | G13: =IF(ISNUMBER(F13/B13),F13/B13," - ") -> 156.25 | H13: =SUBTOTAL(9,H9:H12) -> 664 | I13: =IF(ISNUMBER(H13/B13),H13/B13," - ") -> 166
A14: =Datos!A14 -> Jurisdicción Penal ( 2 ): | B14: =Datos!AO14 -> 0 | BZ14: =Datos!EZ14 -> 0
A15: =Datos!A15 -> Seccion Instruccion Del T.I. | B15: =Datos!AO15 -> 0 | C15: =Datos!AQ15 -> 0 | D15: =IF(ISNUMBER(Datos!M15),Datos!M15," - ") -> - | E15: =IF(ISNUMBER(D15/B15),D15/B15," - ") -> - | F15: =IF(ISNUMBER(Datos!N15),Datos!N15," - ") -> - | G15: =IF(ISNUMBER(F15/B15),F15/B15," - ") -> - | H15: =IF(ISNUMBER(Datos!O15),Datos!O15," - ") -> - | I15: =IF(ISNUMBER(H15/B15),H15/B15," - ") -> - | BZ15: =Datos!EZ15 -> 0
A16: =Datos!A16 -> Seccion de Violencia contra la infancia y la adol. | B16: =Datos!AO16 -> 0 | C16: =Datos!AQ16 -> 0 | D16: =IF(ISNUMBER(Datos!M16),Datos!M16," - ") -> - | E16: =IF(ISNUMBER(D16/B16),D16/B16," - ") -> - | F16: =IF(ISNUMBER(Datos!N16),Datos!N16," - ") -> - | G16: =IF(ISNUMBER(F16/B16),F16/B16," - ") -> - | H16: =IF(ISNUMBER(Datos!O16),Datos!O16," - ") -> - | I16: =IF(ISNUMBER(H16/B16),H16/B16," - ") -> - | BZ16: =Datos!EZ16 -> 0
A17: =Datos!A17 -> Sección Civil y de Inst. TI | B17: =Datos!AO17 -> 4 | C17: =Datos!AQ17 -> 4 | D17: =IF(ISNUMBER(Datos!M17),Datos!M17," - ") -> 150 | E17: =IF(ISNUMBER(D17/B17),D17/B17," - ") -> 37.5 | F17: =IF(ISNUMBER(Datos!N17),Datos!N17," - ") -> 716 | G17: =IF(ISNUMBER(F17/B17),F17/B17," - ") -> 179 | H17: =IF(ISNUMBER(Datos!O17),Datos!O17," - ") -> 0 | I17: =IF(ISNUMBER(H17/B17),H17/B17," - ") -> 0 | BZ17: =Datos!EZ17 -> 0
A18: =Datos!A18 -> Sección De Violencia sobre la Mujer del TI | B18: =Datos!AO18 -> 1 | C18: =Datos!AQ18 -> 0 | D18: =IF(ISNUMBER(Datos!M18),Datos!M18," - ") -> 0 | E18: =IF(ISNUMBER(D18/B18),D18/B18," - ") -> 0 | F18: =IF(ISNUMBER(Datos!N18),Datos!N18," - ") -> 3 | G18: =IF(ISNUMBER(F18/B18),F18/B18," - ") -> 3 | H18: =IF(ISNUMBER(Datos!O18),Datos!O18," - ") -> 0 | I18: =IF(ISNUMBER(H18/B18),H18/B18," - ") -> 0 | BZ18: =Datos!EZ18 -> 0
A19: =Datos!A19 -> TOTAL | B19: =Datos!AP19 -> 4 | C19: =Datos!AR19 -> 4 | D19: =SUBTOTAL(9,D15:D18) -> 150 | E19: =IF(ISNUMBER(D19/B19),D19/B19," - ") -> 37.5 | F19: =SUBTOTAL(9,F15:F18) -> 719 | G19: =IF(ISNUMBER(F19/B19),F19/B19," - ") -> 179.75 | H19: =SUBTOTAL(9,H15:H18) -> 0 | I19: =IF(ISNUMBER(H19/B19),H19/B19," - ") -> 0
A20: =Datos!A20 -> TOTAL JURISDICCIONES | B20: =Datos!AP20 -> 4 | C20: =Datos!AR20 -> 4 | D20: =SUBTOTAL(9,D8:D19) -> 457 | E20: =IF(ISNUMBER(D20/B20),D20/B20," - ") -> 114.25 | F20: =SUBTOTAL(9,F8:F19) -> 1344 | G20: =IF(ISNUMBER(F20/B20),F20/B20," - ") -> 336 | H20: =SUBTOTAL(9,H8:H19) -> 664 | I20: =IF(ISNUMBER(H20/B20),H20/B20," - ") -> 166
A23: =Criterios!A4 -> Fecha Informe: 06 oct. 2026

Sheet Ejecu  Sentencias
B2: =Criterios!A9 &" "&Criterios!B9 -> Tribunales de Justicia ANDALUCIA
A3: Ejecución de Sentencias | B3: =Criterios!A10 &" "&Criterios!B10 -> Provincias GRANADA
B4: =Criterios!A11 &" "&Criterios!B11 -> Resumenes por Partidos Judiciales SANTA FE
A5: ="Año: " &Criterios!B5 & " Trimestre " &Criterios!D5 & " al " &Criterios!D6 -> Año: 2026 Trimestre 2 al 2 | B5: Registradas | C5: Resueltas | D5: En Tramite Al Final Del Periodo
A7: =Datos!A7 -> COMPETENCIAS
A8: =Datos!A8 -> Jurisdicción Civil ( 1 ):
A9: =Datos!A9 -> Sección Civil del T.I | B9: =IF(ISNUMBER(Datos!P9),Datos!P9," - ") -> - | C9: =IF(ISNUMBER(Datos!Q9),Datos!Q9," - ") -> - | D9: =IF(ISNUMBER(Datos!R9),Datos!R9," - ") -> -
A10: =Datos!A10 -> Sección De Violencia sobre la Mujer del TI | B10: =IF(ISNUMBER(Datos!P10),Datos!P10," - ") -> 0 | C10: =IF(ISNUMBER(Datos!Q10),Datos!Q10," - ") -> 4 | D10: =IF(ISNUMBER(Datos!R10),Datos!R10," - ") -> 0
A11: =Datos!A11 -> Sección de Familia, infancia y capacidad del TI | B11: =IF(ISNUMBER(Datos!P11),Datos!P11," - ") -> - | C11: =IF(ISNUMBER(Datos!Q11),Datos!Q11," - ") -> - | D11: =IF(ISNUMBER(Datos!R11),Datos!R11," - ") -> -
A12: =Datos!A12 -> Sección Civil y de Instrucción del T.I. | B12: =IF(ISNUMBER(Datos!P12),Datos!P12," - ") -> 283 | C12: =IF(ISNUMBER(Datos!Q12),Datos!Q12," - ") -> 187 | D12: =IF(ISNUMBER(Datos!R12),Datos!R12," - ") -> 6580
A13: =Datos!A13 -> TOTAL | B13: =SUBTOTAL(9,B9:B12) -> 283 | C13: =SUBTOTAL(9,C9:C12) -> 191 | D13: =SUBTOTAL(9,D9:D12) -> 6580
A14: =Datos!A14 -> Jurisdicción Penal ( 2 ):
A15: =Datos!A15 -> Seccion Instruccion Del T.I. | B15: =IF(ISNUMBER(Datos!P15),Datos!P15," - ") -> - | C15: =IF(ISNUMBER(Datos!Q15),Datos!Q15," - ") -> - | D15: =IF(ISNUMBER(Datos!R15),Datos!R15," - ") -> -
A16: =Datos!A16 -> Seccion de Violencia contra la infancia y la adol. | B16: =IF(ISNUMBER(Datos!P16),Datos!P16," - ") -> - | C16: =IF(ISNUMBER(Datos!Q16),Datos!Q16," - ") -> - | D16: =IF(ISNUMBER(Datos!R16),Datos!R16," - ") -> -
A17: =Datos!A17 -> Sección Civil y de Inst. TI | B17: =IF(ISNUMBER(Datos!P17),Datos!P17," - ") -> 58 | C17: =IF(ISNUMBER(Datos!Q17),Datos!Q17," - ") -> 34 | D17: =IF(ISNUMBER(Datos!R17),Datos!R17," - ") -> 392
A18: =Datos!A18 -> Sección De Violencia sobre la Mujer del TI | B18: =IF(ISNUMBER(Datos!P18),Datos!P18," - ") -> 0 | C18: =IF(ISNUMBER(Datos!Q18),Datos!Q18," - ") -> 0 | D18: =IF(ISNUMBER(Datos!R18),Datos!R18," - ") -> 0
A19: =Datos!A19 -> TOTAL | B19: =SUBTOTAL(9,B15:B18) -> 58 | C19: =SUBTOTAL(9,C15:C18) -> 34 | D19: =SUBTOTAL(9,D15:D18) -> 392
A20: =Datos!A20 -> TOTAL JURISDICCIONES | B20: =SUBTOTAL(9,B8:B19) -> 341 | C20: =SUBTOTAL(9,C8:C19) -> 225 | D20: =SUBTOTAL(9,D8:D19) -> 6972
A23: =Criterios!A4 -> Fecha Informe: 06 oct. 2026

Sheet Evolución
B2: =Criterios!A9 &" "&Criterios!B9 -> Tribunales de Justicia ANDALUCIA
A3: Evolución | B3: =Criterios!A10 &" "&Criterios!B10 -> Provincias GRANADA
B4: =Criterios!A11 &" "&Criterios!B11 -> Resumenes por Partidos Judiciales SANTA FE
A5: ="Año: " &Criterios!B5 & " Trimestre " &Criterios!D5 & " al " &Criterios!D6 -> Año: 2026 Trimestre 2 al 2 | B5: En Tramite Al Inicio Del Periodo | C5: Ingresados | D5: Resueltos | E5: En Tramite Al Final Del Periodo | F5: Sentencias | G5: Autos | H5: Tasas Resolución | I5: Tasas Pendencia | J5: Tasas Sentencia | K5: Tasas Congestión
A7: =Datos!A7 -> COMPETENCIAS
A8: =Datos!A8 -> Jurisdicción Civil ( 1 ):
A9: =Datos!A9 -> Sección Civil del T.I | B9: =IF(ISNUMBER( IF(J_V="SI",(Datos!I9-Datos!S9)/Datos!S9,(Datos!I9+Datos!Y9-(Datos!S9+Datos!AG9))/(Datos!S9+Datos!AG9)) ),IF(J_V="SI",(Datos!I9-Datos!S9)/Datos!S9,(Datos!I9+Datos!Y9-(Datos!S9+Datos!AG9))/(Datos!S9+Datos!AG9))," - ") -> - | C9: =IF(ISNUMBER( IF(J_V="SI",(Datos!J9-Datos!T9)/Datos!T9,(Datos!J9+Datos!Z9-(Datos!T9+Datos!AH9))/(Datos!T9+Datos!AH9)) ),IF(J_V="SI",(Datos!J9-Datos!T9)/Datos!T9,(Datos!J9+Datos!Z9-(Datos!T9+Datos!AH9))/(Datos!T9+Datos!AH9))," - ") -> - | D9: =IF(ISNUMBER( IF(J_V="SI",(Datos!K9-Datos!U9)/Datos!U9,(Datos!K9+Datos!AA9-(Datos!U9+Datos!AI9))/(Datos!U9+Datos!AI9)) ),IF(J_V="SI",(Datos!K9-Datos!U9)/Datos!U9,(Datos!K9+Datos!AA9-(Datos!U9+Datos!AI9))/(Datos!U9+Datos!AI9))," - ") -> - | E9: =IF(ISNUMBER( IF(J_V="SI",(Datos!L9-Datos!V9)/Datos!V9,(Datos!L9+Datos!AB9-(Datos!V9+Datos!AJ9))/(Datos!V9+Datos!AJ9)) ),IF(J_V="SI",(Datos!L9-Datos!V9)/Datos!V9,(Datos!L9+Datos!AB9-(Datos!V9+Datos!AJ9))/(Datos!V9+Datos!AJ9))," - ") -> - | F9: =IF(ISNUMBER((Datos!M9-Datos!W9)/Datos!W9),(Datos!M9-Datos!W9)/Datos!W9," - ") -> - | G9: =IF(ISNUMBER((Datos!N9-Datos!X9)/Datos!X9),(Datos!N9-Datos!X9)/Datos!X9," - ") -> - | H9: =IF(ISNUMBER(((NºAsuntos!G9/NºAsuntos!E9)-Datos!BD9)/Datos!BD9),((NºAsuntos!G9/NºAsuntos!E9)-Datos!BD9)/Datos!BD9," - ") -> - | I9: =IF(ISNUMBER(((NºAsuntos!I9/NºAsuntos!G9)-Datos!BE9)/Datos!BE9),((NºAsuntos!I9/NºAsuntos!G9)-Datos!BE9)/Datos!BE9," - ") -> - | J9: =IF(ISNUMBER((('Resol Asuntos'!D9/NºAsuntos!G9)-Datos!BF9)/Datos!BF9),(('Resol Asuntos'!D9/NºAsuntos!G9)-Datos!BF9)/Datos!BF9," - ") -> - | K9: =IF(ISNUMBER((((NºAsuntos!C9+NºAsuntos!E9)/NºAsuntos!G9)-Datos!BG9)/Datos!BG9),(((NºAsuntos!C9+NºAsuntos!E9)/NºAsuntos!G9)-Datos!BG9)/Datos!BG9," - ") -> -
A10: =Datos!A10 -> Sección De Violencia sobre la Mujer del TI | B10: =IF(ISNUMBER((Datos!I10-Datos!S10)/Datos!S10),(Datos!I10-Datos!S10)/Datos!S10," - ") -> -1 | C10: =IF(ISNUMBER((Datos!J10-Datos!T10)/Datos!T10),(Datos!J10-Datos!T10)/Datos!T10," - ") -> - | D10: =IF(ISNUMBER((Datos!K10-Datos!U10)/Datos!U10),(Datos!K10-Datos!U10)/Datos!U10," - ") -> -1 | E10: =IF(ISNUMBER((Datos!L10-Datos!V10)/Datos!V10),(Datos!L10-Datos!V10)/Datos!V10," - ") -> -1 | F10: =IF(ISNUMBER((Datos!M10-Datos!W10)/Datos!W10),(Datos!M10-Datos!W10)/Datos!W10," - ") -> -1 | G10: =IF(ISNUMBER((Datos!N10-Datos!X10)/Datos!X10),(Datos!N10-Datos!X10)/Datos!X10," - ") -> -1 | H10: =IF(ISNUMBER(((NºAsuntos!G10/NºAsuntos!E10)-Datos!BD10)/Datos!BD10),((NºAsuntos!G10/NºAsuntos!E10)-Datos!BD10)/Datos!BD10," - ") -> - | I10: =IF(ISNUMBER(((NºAsuntos!I10/NºAsuntos!G10)-Datos!BE10)/Datos!BE10),((NºAsuntos!I10/NºAsuntos!G10)-Datos!BE10)/Datos!BE10," - ") -> - | J10: =IF(ISNUMBER((('Resol Asuntos'!D10/NºAsuntos!G10)-Datos!BF10)/Datos!BF10),(('Resol Asuntos'!D10/NºAsuntos!G10)-Datos!BF10)/Datos!BF10," - ") -> - | K10: =IF(ISNUMBER((((NºAsuntos!C10+NºAsuntos!E10)/NºAsuntos!G10)-Datos!BG10)/Datos!BG10),(((NºAsuntos!C10+NºAsuntos!E10)/NºAsuntos!G10)-Datos!BG10)/Datos!BG10," - ") -> -
A11: =Datos!A11 -> Sección de Familia, infancia y capacidad del TI | B11: =IF(ISNUMBER( IF(J_V="SI",(Datos!I11-Datos!S11)/Datos!S11,(Datos!I11+Datos!Y11-(Datos!S11+Datos!AG11))/(Datos!S11+Datos!AG11)) ),IF(J_V="SI",(Datos!I11-Datos!S11)/Datos!S11,(Datos!I11+Datos!Y11-(Datos!S11+Datos!AG11))/(Datos!S11+Datos!AG11))," - ") -> - | C11: =IF(ISNUMBER( IF(J_V="SI",(Datos!J11-Datos!T11)/Datos!T11,(Datos!J11+Datos!Z11-(Datos!T11+Datos!AH11))/(Datos!T11+Datos!AH11)) ),IF(J_V="SI",(Datos!J11-Datos!T11)/Datos!T11,(Datos!J11+Datos!Z11-(Datos!T11+Datos!AH11))/(Datos!T11+Datos!AH11))," - ") -> - | D11: =IF(ISNUMBER( IF(J_V="SI",(Datos!K11-Datos!U11)/Datos!U11,(Datos!K11+Datos!AA11-(Datos!U11+Datos!AI11))/(Datos!U11+Datos!AI11)) ),IF(J_V="SI",(Datos!K11-Datos!U11)/Datos!U11,(Datos!K11+Datos!AA11-(Datos!U11+Datos!AI11))/(Datos!U11+Datos!AI11))," - ") -> - | E11: =IF(ISNUMBER( IF(J_V="SI",(Datos!L11-Datos!V11)/Datos!V11,(Datos!L11+Datos!AB11-(Datos!V11+Datos!AJ11))/(Datos!V11+Datos!AJ11)) ),IF(J_V="SI",(Datos!L11-Datos!V11)/Datos!V11,(Datos!L11+Datos!AB11-(Datos!V11+Datos!AJ11))/(Datos!V11+Datos!AJ11))," - ") -> - | F11: =IF(ISNUMBER((Datos!M11-Datos!W11)/Datos!W11),(Datos!M11-Datos!W11)/Datos!W11," - ") -> - | G11: =IF(ISNUMBER((Datos!N11-Datos!X11)/Datos!X11),(Datos!N11-Datos!X11)/Datos!X11," - ") -> - | H11: =IF(ISNUMBER(((NºAsuntos!G11/NºAsuntos!E11)-Datos!BD11)/Datos!BD11),((NºAsuntos!G11/NºAsuntos!E11)-Datos!BD11)/Datos!BD11," - ") -> - | I11: =IF(ISNUMBER(((NºAsuntos!I11/NºAsuntos!G11)-Datos!BE11)/Datos!BE11),((NºAsuntos!I11/NºAsuntos!G11)-Datos!BE11)/Datos!BE11," - ") -> - | J11: =IF(ISNUMBER((('Resol Asuntos'!D11/NºAsuntos!G11)-Datos!BF11)/Datos!BF11),(('Resol Asuntos'!D11/NºAsuntos!G11)-Datos!BF11)/Datos!BF11," - ") -> - | K11: =IF(ISNUMBER((((NºAsuntos!C11+NºAsuntos!E11)/NºAsuntos!G11)-Datos!BG11)/Datos!BG11),(((NºAsuntos!C11+NºAsuntos!E11)/NºAsuntos!G11)-Datos!BG11)/Datos!BG11," - ") -> -
A12: =Datos!A12 -> Sección Civil y de Instrucción del T.I. | B12: =IF(ISNUMBER( IF(J_V="SI",(Datos!I12-Datos!S12)/Datos!S12,(Datos!I12+Datos!Y12-(Datos!S12+Datos!AG12))/(Datos!S12+Datos!AG12)) ),IF(J_V="SI",(Datos!I12-Datos!S12)/Datos!S12,(Datos!I12+Datos!Y12-(Datos!S12+Datos!AG12))/(Datos!S12+Datos!AG12))," - ") -> -0.039991712 | C12: =IF(ISNUMBER( IF(J_V="SI",(Datos!J12-Datos!T12)/Datos!T12,(Datos!J12+Datos!Z12-(Datos!T12+Datos!AH12))/(Datos!T12+Datos!AH12)) ),IF(J_V="SI",(Datos!J12-Datos!T12)/Datos!T12,(Datos!J12+Datos!Z12-(Datos!T12+Datos!AH12))/(Datos!T12+Datos!AH12))," - ") -> 0.35050392 | D12: =IF(ISNUMBER( IF(J_V="SI",(Datos!K12-Datos!U12)/Datos!U12,(Datos!K12+Datos!AA12-(Datos!U12+Datos!AI12))/(Datos!U12+Datos!AI12)) ),IF(J_V="SI",(Datos!K12-Datos!U12)/Datos!U12,(Datos!K12+Datos!AA12-(Datos!U12+Datos!AI12))/(Datos!U12+Datos!AI12))," - ") -> 0.074638233 | E12: =IF(ISNUMBER( IF(J_V="SI",(Datos!L12-Datos!V12)/Datos!V12,(Datos!L12+Datos!AB12-(Datos!V12+Datos!AJ12))/(Datos!V12+Datos!AJ12)) ),IF(J_V="SI",(Datos!L12-Datos!V12)/Datos!V12,(Datos!L12+Datos!AB12-(Datos!V12+Datos!AJ12))/(Datos!V12+Datos!AJ12))," - ") -> 0.0065924074 | F12: =IF(ISNUMBER((Datos!M12-Datos!W12)/Datos!W12),(Datos!M12-Datos!W12)/Datos!W12," - ") -> 0.09252669 | G12: =IF(ISNUMBER((Datos!N12-Datos!X12)/Datos!X12),(Datos!N12-Datos!X12)/Datos!X12," - ") -> 0.22070312 | H12: =IF(ISNUMBER(((NºAsuntos!G12/NºAsuntos!E12)-Datos!BD12)/Datos!BD12),((NºAsuntos!G12/NºAsuntos!E12)-Datos!BD12)/Datos!BD12," - ") -> -0.2042687 | I12: =IF(ISNUMBER(((NºAsuntos!I12/NºAsuntos!G12)-Datos!BE12)/Datos!BE12),((NºAsuntos!I12/NºAsuntos!G12)-Datos!BE12)/Datos!BE12," - ") -> -0.063319751 | J12: =IF(ISNUMBER((('Resol Asuntos'!D12/NºAsuntos!G12)-Datos!BF12)/Datos!BF12),(('Resol Asuntos'!D12/NºAsuntos!G12)-Datos!BF12)/Datos!BF12," - ") -> -0.44203607 | K12: =IF(ISNUMBER((((NºAsuntos!C12+NºAsuntos!E12)/NºAsuntos!G12)-Datos!BG12)/Datos!BG12),(((NºAsuntos!C12+NºAsuntos!E12)/NºAsuntos!G12)-Datos!BG12)/Datos!BG12," - ") -> -0.049928936
A13: =Datos!A13 -> TOTAL | B13: =IF(ISNUMBER( IF(J_V="SI",(Datos!I13-Datos!S13)/Datos!S13,(Datos!I13+Datos!Y13-(Datos!S13+Datos!AG13))/(Datos!S13+Datos!AG13)) ),IF(J_V="SI",(Datos!I13-Datos!S13)/Datos!S13,(Datos!I13+Datos!Y13-(Datos!S13+Datos!AG13))/(Datos!S13+Datos!AG13))," - ") -> -0.04375645 | C13: =IF(ISNUMBER( IF(J_V="SI",(Datos!J13-Datos!T13)/Datos!T13,(Datos!J13+Datos!Z13-(Datos!T13+Datos!AH13))/(Datos!T13+Datos!AH13)) ),IF(J_V="SI",(Datos!J13-Datos!T13)/Datos!T13,(Datos!J13+Datos!Z13-(Datos!T13+Datos!AH13))/(Datos!T13+Datos!AH13))," - ") -> 0.35050392 | D13: =IF(ISNUMBER( IF(J_V="SI",(Datos!K13-Datos!U13)/Datos!U13,(Datos!K13+Datos!AA13-(Datos!U13+Datos!AI13))/(Datos!U13+Datos!AI13)) ),IF(J_V="SI",(Datos!K13-Datos!U13)/Datos!U13,(Datos!K13+Datos!AA13-(Datos!U13+Datos!AI13))/(Datos!U13+Datos!AI13))," - ") -> 0.070561457 | E13: =IF(ISNUMBER( IF(J_V="SI",(Datos!L13-Datos!V13)/Datos!V13,(Datos!L13+Datos!AB13-(Datos!V13+Datos!AJ13))/(Datos!V13+Datos!AJ13)) ),IF(J_V="SI",(Datos!L13-Datos!V13)/Datos!V13,(Datos!L13+Datos!AB13-(Datos!V13+Datos!AJ13))/(Datos!V13+Datos!AJ13))," - ") -> 0.0033990483 | F13: =IF(ISNUMBER((Datos!M13-Datos!W13)/Datos!W13),(Datos!M13-Datos!W13)/Datos!W13," - ") -> 0.088652482 | G13: =IF(ISNUMBER((Datos!N13-Datos!X13)/Datos!X13),(Datos!N13-Datos!X13)/Datos!X13," - ") -> 0.21595331 | H13: =IF(ISNUMBER(((NºAsuntos!G13/NºAsuntos!E13)-Datos!BD13)/Datos!BD13),((NºAsuntos!G13/NºAsuntos!E13)-Datos!BD13)/Datos!BD13," - ") -> -0.20728741 | I13: =IF(ISNUMBER(((NºAsuntos!I13/NºAsuntos!G13)-Datos!BE13)/Datos!BE13),((NºAsuntos!I13/NºAsuntos!G13)-Datos!BE13)/Datos!BE13," - ") -> -0.062735687 | J13: =IF(ISNUMBER((('Resol Asuntos'!D13/NºAsuntos!G13)-Datos!BF13)/Datos!BF13),(('Resol Asuntos'!D13/NºAsuntos!G13)-Datos!BF13)/Datos!BF13," - ") -> -0.44100309 | K13: =IF(ISNUMBER((((NºAsuntos!C13+NºAsuntos!E13)/NºAsuntos!G13)-Datos!BG13)/Datos!BG13),(((NºAsuntos!C13+NºAsuntos!E13)/NºAsuntos!G13)-Datos!BG13)/Datos!BG13," - ") -> -0.049468907
A14: =Datos!A14 -> Jurisdicción Penal ( 2 ):
A15: =Datos!A15 -> Seccion Instruccion Del T.I. | B15: =IF(ISNUMBER( IF(D_I="SI",(Datos!I15-Datos!S15)/Datos!S15,(Datos!I15+Datos!AC15-(Datos!S15+Datos!AK15))/(Datos!S15+Datos!AK15)) ),IF(D_I="SI",(Datos!I15-Datos!S15)/Datos!S15,(Datos!I15+Datos!AC15-(Datos!S15+Datos!AK15))/(Datos!S15+Datos!AK15))," - ") -> - | C15: =IF(ISNUMBER( IF(D_I="SI",(Datos!J15-Datos!T15)/Datos!T15,(Datos!J15+Datos!AD15-(Datos!T15+Datos!AL15))/(Datos!T15+Datos!AL15)) ),IF(D_I="SI",(Datos!J15-Datos!T15)/Datos!T15,(Datos!J15+Datos!AD15-(Datos!T15+Datos!AL15))/(Datos!T15+Datos!AL15))," - ") -> - | D15: =IF(ISNUMBER( IF(D_I="SI",(Datos!K15-Datos!U15)/Datos!U15,(Datos!K15+Datos!AE15-(Datos!U15+Datos!AM15))/(Datos!U15+Datos!AM15)) ),IF(D_I="SI",(Datos!K15-Datos!U15)/Datos!U15,(Datos!K15+Datos!AE15-(Datos!U15+Datos!AM15))/(Datos!U15+Datos!AM15))," - ") -> - | E15: =IF(ISNUMBER( IF(D_I="SI",(Datos!L15-Datos!V15)/Datos!V15,(Datos!L15+Datos!AF15-(Datos!V15+Datos!AN15))/(Datos!V15+Datos!AN15)) ),IF(D_I="SI",(Datos!L15-Datos!V15)/Datos!V15,(Datos!L15+Datos!AF15-(Datos!V15+Datos!AN15))/(Datos!V15+Datos!AN15))," - ") -> - | F15: =IF(ISNUMBER((Datos!M15-Datos!W15)/Datos!W15),(Datos!M15-Datos!W15)/Datos!W15," - ") -> - | G15: =IF(ISNUMBER((Datos!N15-Datos!X15)/Datos!X15),(Datos!N15-Datos!X15)/Datos!X15," - ") -> - | H15: =IF(ISNUMBER(((NºAsuntos!G15/NºAsuntos!E15)-Datos!BD15)/Datos!BD15),((NºAsuntos!G15/NºAsuntos!E15)-Datos!BD15)/Datos!BD15," - ") -> - | I15: =IF(ISNUMBER(((NºAsuntos!I15/NºAsuntos!G15)-Datos!BE15)/Datos!BE15),((NºAsuntos!I15/NºAsuntos!G15)-Datos!BE15)/Datos!BE15," - ") -> - | J15: =IF(ISNUMBER((('Resol Asuntos'!D15/NºAsuntos!G15)-Datos!BF15)/Datos!BF15),(('Resol Asuntos'!D15/NºAsuntos!G15)-Datos!BF15)/Datos!BF15," - ") -> - | K15: =IF(ISNUMBER((((NºAsuntos!C15+NºAsuntos!E15)/NºAsuntos!G15)-Datos!BG15)/Datos!BG15),(((NºAsuntos!C15+NºAsuntos!E15)/NºAsuntos!G15)-Datos!BG15)/Datos!BG15," - ") -> -
A16: =Datos!A16 -> Seccion de Violencia contra la infancia y la adol. | B16: =IF(ISNUMBER( IF(D_I="SI",(Datos!I16-Datos!S16)/Datos!S16,(Datos!I16+Datos!AC16-(Datos!S16+Datos!AK16))/(Datos!S16+Datos!AK16)) ),IF(D_I="SI",(Datos!I16-Datos!S16)/Datos!S16,(Datos!I16+Datos!AC16-(Datos!S16+Datos!AK16))/(Datos!S16+Datos!AK16))," - ") -> - | C16: =IF(ISNUMBER( IF(D_I="SI",(Datos!J16-Datos!T16)/Datos!T16,(Datos!J16+Datos!AD16-(Datos!T16+Datos!AL16))/(Datos!T16+Datos!AL16)) ),IF(D_I="SI",(Datos!J16-Datos!T16)/Datos!T16,(Datos!J16+Datos!AD16-(Datos!T16+Datos!AL16))/(Datos!T16+Datos!AL16))," - ") -> - | D16: =IF(ISNUMBER( IF(D_I="SI",(Datos!K16-Datos!U16)/Datos!U16,(Datos!K16+Datos!AE16-(Datos!U16+Datos!AM16))/(Datos!U16+Datos!AM16)) ),IF(D_I="SI",(Datos!K16-Datos!U16)/Datos!U16,(Datos!K16+Datos!AE16-(Datos!U16+Datos!AM16))/(Datos!U16+Datos!AM16))," - ") -> - | E16: =IF(ISNUMBER( IF(D_I="SI",(Datos!L16-Datos!V16)/Datos!V16,(Datos!L16+Datos!AF16-(Datos!V16+Datos!AN16))/(Datos!V16+Datos!AN16)) ),IF(D_I="SI",(Datos!L16-Datos!V16)/Datos!V16,(Datos!L16+Datos!AF16-(Datos!V16+Datos!AN16))/(Datos!V16+Datos!AN16))," - ") -> - | F16: =IF(ISNUMBER((Datos!M16-Datos!W16)/Datos!W16),(Datos!M16-Datos!W16)/Datos!W16," - ") -> - | G16: =IF(ISNUMBER((Datos!N16-Datos!X16)/Datos!X16),(Datos!N16-Datos!X16)/Datos!X16," - ") -> - | H16: =IF(ISNUMBER(((NºAsuntos!G16/NºAsuntos!E16)-Datos!BD16)/Datos!BD16),((NºAsuntos!G16/NºAsuntos!E16)-Datos!BD16)/Datos!BD16," - ") -> - | I16: =IF(ISNUMBER(((NºAsuntos!I16/NºAsuntos!G16)-Datos!BE16)/Datos!BE16),((NºAsuntos!I16/NºAsuntos!G16)-Datos!BE16)/Datos!BE16," - ") -> - | J16: =IF(ISNUMBER((('Resol Asuntos'!D16/NºAsuntos!G16)-Datos!BF16)/Datos!BF16),(('Resol Asuntos'!D16/NºAsuntos!G16)-Datos!BF16)/Datos!BF16," - ") -> - | K16: =IF(ISNUMBER((((NºAsuntos!C16+NºAsuntos!E16)/NºAsuntos!G16)-Datos!BG16)/Datos!BG16),(((NºAsuntos!C16+NºAsuntos!E16)/NºAsuntos!G16)-Datos!BG16)/Datos!BG16," - ") -> -
A17: =Datos!A17 -> Sección Civil y de Inst. TI | B17: =IF(ISNUMBER( IF(D_I="SI",(Datos!I17-Datos!S17)/Datos!S17,(Datos!I17+Datos!AC17-(Datos!S17+Datos!AK17))/(Datos!S17+Datos!AK17)) ),IF(D_I="SI",(Datos!I17-Datos!S17)/Datos!S17,(Datos!I17+Datos!AC17-(Datos!S17+Datos!AK17))/(Datos!S17+Datos!AK17))," - ") -> -0.28844404 | C17: =IF(ISNUMBER( IF(D_I="SI",(Datos!J17-Datos!T17)/Datos!T17,(Datos!J17+Datos!AD17-(Datos!T17+Datos!AL17))/(Datos!T17+Datos!AL17)) ),IF(D_I="SI",(Datos!J17-Datos!T17)/Datos!T17,(Datos!J17+Datos!AD17-(Datos!T17+Datos!AL17))/(Datos!T17+Datos!AL17))," - ") -> -0.07421875 | D17: =IF(ISNUMBER( IF(D_I="SI",(Datos!K17-Datos!U17)/Datos!U17,(Datos!K17+Datos!AE17-(Datos!U17+Datos!AM17))/(Datos!U17+Datos!AM17)) ),IF(D_I="SI",(Datos!K17-Datos!U17)/Datos!U17,(Datos!K17+Datos!AE17-(Datos!U17+Datos!AM17))/(Datos!U17+Datos!AM17))," - ") -> -0.14132762 | E17: =IF(ISNUMBER( IF(D_I="SI",(Datos!L17-Datos!V17)/Datos!V17,(Datos!L17+Datos!AF17-(Datos!V17+Datos!AN17))/(Datos!V17+Datos!AN17)) ),IF(D_I="SI",(Datos!L17-Datos!V17)/Datos!V17,(Datos!L17+Datos!AF17-(Datos!V17+Datos!AN17))/(Datos!V17+Datos!AN17))," - ") -> -0.1626943 | F17: =IF(ISNUMBER((Datos!M17-Datos!W17)/Datos!W17),(Datos!M17-Datos!W17)/Datos!W17," - ") -> 0.2605042 | G17: =IF(ISNUMBER((Datos!N17-Datos!X17)/Datos!X17),(Datos!N17-Datos!X17)/Datos!X17," - ") -> -0.17983963 | H17: =IF(ISNUMBER(((NºAsuntos!G17/NºAsuntos!E17)-Datos!BD17)/Datos!BD17),((NºAsuntos!G17/NºAsuntos!E17)-Datos!BD17)/Datos!BD17," - ") -> -0.072488909 | I17: =IF(ISNUMBER(((NºAsuntos!I17/NºAsuntos!G17)-Datos!BE17)/Datos!BE17),((NºAsuntos!I17/NºAsuntos!G17)-Datos!BE17)/Datos!BE17," - ") -> -0.024883387 | J17: =IF(ISNUMBER((('Resol Asuntos'!D17/NºAsuntos!G17)-Datos!BF17)/Datos!BF17),(('Resol Asuntos'!D17/NºAsuntos!G17)-Datos!BF17)/Datos!BF17," - ") -> 0.46796873 | K17: =IF(ISNUMBER((((NºAsuntos!C17+NºAsuntos!E17)/NºAsuntos!G17)-Datos!BG17)/Datos!BG17),(((NºAsuntos!C17+NºAsuntos!E17)/NºAsuntos!G17)-Datos!BG17)/Datos!BG17," - ") -> -0.079512977
A18: =Datos!A18 -> Sección De Violencia sobre la Mujer del TI | B18: =IF(ISNUMBER( IF(D_I="SI",(Datos!I18-Datos!S18)/Datos!S18,(Datos!I18+Datos!AC18-(Datos!S18+Datos!AK18))/(Datos!S18+Datos!AK18)) ),IF(D_I="SI",(Datos!I18-Datos!S18)/Datos!S18,(Datos!I18+Datos!AC18-(Datos!S18+Datos!AK18))/(Datos!S18+Datos!AK18))," - ") -> -0.33027523 | C18: =IF(ISNUMBER( IF(D_I="SI",(Datos!J18-Datos!T18)/Datos!T18,(Datos!J18+Datos!AD18-(Datos!T18+Datos!AL18))/(Datos!T18+Datos!AL18)) ),IF(D_I="SI",(Datos!J18-Datos!T18)/Datos!T18,(Datos!J18+Datos!AD18-(Datos!T18+Datos!AL18))/(Datos!T18+Datos!AL18))," - ") -> -1 | D18: =IF(ISNUMBER( IF(D_I="SI",(Datos!K18-Datos!U18)/Datos!U18,(Datos!K18+Datos!AE18-(Datos!U18+Datos!AM18))/(Datos!U18+Datos!AM18)) ),IF(D_I="SI",(Datos!K18-Datos!U18)/Datos!U18,(Datos!K18+Datos!AE18-(Datos!U18+Datos!AM18))/(Datos!U18+Datos!AM18))," - ") -> -0.93333333 | E18: =IF(ISNUMBER( IF(D_I="SI",(Datos!L18-Datos!V18)/Datos!V18,(Datos!L18+Datos!AF18-(Datos!V18+Datos!AN18))/(Datos!V18+Datos!AN18)) ),IF(D_I="SI",(Datos!L18-Datos!V18)/Datos!V18,(Datos!L18+Datos!AF18-(Datos!V18+Datos!AN18))/(Datos!V18+Datos!AN18))," - ") -> -0.44444444 | F18: =IF(ISNUMBER((Datos!M18-Datos!W18)/Datos!W18),(Datos!M18-Datos!W18)/Datos!W18," - ") -> -1 | G18: =IF(ISNUMBER((Datos!N18-Datos!X18)/Datos!X18),(Datos!N18-Datos!X18)/Datos!X18," - ") -> -0.8 | H18: =IF(ISNUMBER(((NºAsuntos!G18/NºAsuntos!E18)-Datos!BD18)/Datos!BD18),((NºAsuntos!G18/NºAsuntos!E18)-Datos!BD18)/Datos!BD18," - ") -> - | I18: =IF(ISNUMBER(((NºAsuntos!I18/NºAsuntos!G18)-Datos!BE18)/Datos!BE18),((NºAsuntos!I18/NºAsuntos!G18)-Datos!BE18)/Datos!BE18," - ") -> 7.3333333 | J18: =IF(ISNUMBER((('Resol Asuntos'!D18/NºAsuntos!G18)-Datos!BF18)/Datos!BF18),(('Resol Asuntos'!D18/NºAsuntos!G18)-Datos!BF18)/Datos!BF18," - ") -> -1 | K18: =IF(ISNUMBER((((NºAsuntos!C18+NºAsuntos!E18)/NºAsuntos!G18)-Datos!BG18)/Datos!BG18),(((NºAsuntos!C18+NºAsuntos!E18)/NºAsuntos!G18)-Datos!BG18)/Datos!BG18," - ") -> 7.9754098
A19: =Datos!A19 -> TOTAL | B19: =IF(ISNUMBER( IF(Criterios!B14="SI",(Datos!I19-Datos!S19)/Datos!S19,(Datos!I19+Datos!AC19-(Datos!S19+Datos!AK19))/(Datos!S19+Datos!AK19)) ),IF(Criterios!B14="SI",(Datos!I19-Datos!S19)/Datos!S19,(Datos!I19+Datos!AC19-(Datos!S19+Datos!AK19))/(Datos!S19+Datos!AK19))," - ") -> -0.29042046 | C19: =IF(ISNUMBER( IF(Criterios!B14="SI",(Datos!J19-Datos!T19)/Datos!T19,(Datos!J19+Datos!AD19-(Datos!T19+Datos!AL19))/(Datos!T19+Datos!AL19)) ),IF(Criterios!B14="SI",(Datos!J19-Datos!T19)/Datos!T19,(Datos!J19+Datos!AD19-(Datos!T19+Datos!AL19))/(Datos!T19+Datos!AL19))," - ") -> -0.083526682 | D19: =IF(ISNUMBER( IF(Criterios!B14="SI",(Datos!K19-Datos!U19)/Datos!U19,(Datos!K19+Datos!AE19-(Datos!U19+Datos!AM19))/(Datos!U19+Datos!AM19)) ),IF(Criterios!B14="SI",(Datos!K19-Datos!U19)/Datos!U19,(Datos!K19+Datos!AE19-(Datos!U19+Datos!AM19))/(Datos!U19+Datos!AM19))," - ") -> -0.1659751 | E19: =IF(ISNUMBER( IF(Criterios!B14="SI",(Datos!L19-Datos!V19)/Datos!V19,(Datos!L19+Datos!AF19-(Datos!V19+Datos!AN19))/(Datos!V19+Datos!AN19)) ),IF(Criterios!B14="SI",(Datos!L19-Datos!V19)/Datos!V19,(Datos!L19+Datos!AF19-(Datos!V19+Datos!AN19))/(Datos!V19+Datos!AN19))," - ") -> -0.17996109 | F19: =IF(ISNUMBER((Datos!M19-Datos!W19)/Datos!W19),(Datos!M19-Datos!W19)/Datos!W19," - ") -> 0.2195122 | G19: =IF(ISNUMBER((Datos!N19-Datos!X19)/Datos!X19),(Datos!N19-Datos!X19)/Datos!X19," - ") -> -0.19031532 | H19: =IF(ISNUMBER(((NºAsuntos!G19/NºAsuntos!E19)-Datos!BD19)/Datos!BD19),((NºAsuntos!G19/NºAsuntos!E19)-Datos!BD19)/Datos!BD19," - ") -> -0.089962708 | I19: =IF(ISNUMBER(((NºAsuntos!I19/NºAsuntos!G19)-Datos!BE19)/Datos!BE19),((NºAsuntos!I19/NºAsuntos!G19)-Datos!BE19)/Datos!BE19," - ") -> -0.016769267 | J19: =IF(ISNUMBER((('Resol Asuntos'!D19/NºAsuntos!G19)-Datos!BF19)/Datos!BF19),(('Resol Asuntos'!D19/NºAsuntos!G19)-Datos!BF19)/Datos!BF19," - ") -> 0.46220119 | K19: =IF(ISNUMBER((((NºAsuntos!C19+NºAsuntos!E19)/NºAsuntos!G19)-Datos!BG19)/Datos!BG19),(((NºAsuntos!C19+NºAsuntos!E19)/NºAsuntos!G19)-Datos!BG19)/Datos!BG19," - ") -> -0.060113322
A20: =Datos!A20 -> TOTAL JURISDICCIONES | B20: =IF(ISNUMBER( IF(J_V="SI",(Datos!I20-Datos!S20)/Datos!S20,(Datos!I20+Datos!Y20-(Datos!S20+Datos!AG20))/(Datos!S20+Datos!AG20)) ),IF(J_V="SI",(Datos!I20-Datos!S20)/Datos!S20,(Datos!I20+Datos!Y20-(Datos!S20+Datos!AG20))/(Datos!S20+Datos!AG20))," - ") -> -0.12332215 | C20: =IF(ISNUMBER( IF(J_V="SI",(Datos!J20-Datos!T20)/Datos!T20,(Datos!J20+Datos!Z20-(Datos!T20+Datos!AH20))/(Datos!T20+Datos!AH20)) ),IF(J_V="SI",(Datos!J20-Datos!T20)/Datos!T20,(Datos!J20+Datos!Z20-(Datos!T20+Datos!AH20))/(Datos!T20+Datos!AH20))," - ") -> 0.093778591 | D20: =IF(ISNUMBER( IF(J_V="SI",(Datos!K20-Datos!U20)/Datos!U20,(Datos!K20+Datos!AA20-(Datos!U20+Datos!AI20))/(Datos!U20+Datos!AI20)) ),IF(J_V="SI",(Datos!K20-Datos!U20)/Datos!U20,(Datos!K20+Datos!AA20-(Datos!U20+Datos!AI20))/(Datos!U20+Datos!AI20))," - ") -> -0.053183792 | E20: =IF(ISNUMBER( IF(J_V="SI",(Datos!L20-Datos!V20)/Datos!V20,(Datos!L20+Datos!AB20-(Datos!V20+Datos!AJ20))/(Datos!V20+Datos!AJ20)) ),IF(J_V="SI",(Datos!L20-Datos!V20)/Datos!V20,(Datos!L20+Datos!AB20-(Datos!V20+Datos!AJ20))/(Datos!V20+Datos!AJ20))," - ") -> -0.054877106 | F20: =IF(ISNUMBER((Datos!M20-Datos!W20)/Datos!W20),(Datos!M20-Datos!W20)/Datos!W20," - ") -> 0.12839506 | G20: =IF(ISNUMBER((Datos!N20-Datos!X20)/Datos!X20),(Datos!N20-Datos!X20)/Datos!X20," - ") -> -0.041369472 | H20: =IF(ISNUMBER((Tasas!B20-Datos!BD20)/Datos!BD20),(Tasas!B20-Datos!BD20)/Datos!BD20," - ") -> -0.13436209 | I20: =IF(ISNUMBER((Tasas!C20-Datos!BE20)/Datos!BE20),(Tasas!C20-Datos!BE20)/Datos!BE20," - ") -> -0.0017884301 | J20: =IF(ISNUMBER((Tasas!D20-Datos!BF20)/Datos!BF20),(Tasas!D20-Datos!BF20)/Datos!BF20," - ") -> -0.24108454 | K20: =IF(ISNUMBER((Tasas!E20-Datos!BG20)/Datos!BG20),(Tasas!E20-Datos!BG20)/Datos!BG20," - ") -> -0.020400657
A22: NOTA ACLARATORIA: En el año 2007 se ha pasado a recoger, por primera vez, el dato de número de autos finales en los órganos de la jurisdicción penal. Por este motivo el dato de la evolución de los autos, en los órganos de esta jurisdicción, respecto al mismo periodo del año anterior carece de significación
A24: =Criterios!A4 -> Fecha Informe: 06 oct. 2026

Sheet Tasas
B2: =Criterios!A9 &" "&Criterios!B9 -> Tribunales de Justicia ANDALUCIA
A3: Tasas | B3: =Criterios!A10 &" "&Criterios!B10 -> Provincias GRANADA
B4: =Criterios!A11 &" "&Criterios!B11 -> Resumenes por Partidos Judiciales SANTA FE
A5: ="Año: " &Criterios!B5 & " Trimestre " &Criterios!D5 & " al " &Criterios!D6 -> Año: 2026 Trimestre 2 al 2 | B5: Resolución | C5: Pendencia | D5: Sentencia | E5: Congestión
A7: =Datos!A7 -> COMPETENCIAS
A8: =Datos!A8 -> Jurisdicción Civil ( 1 ):
A9: =Datos!A9 -> Sección Civil del T.I | B9: =IF(ISNUMBER(NºAsuntos!G9/NºAsuntos!E9),NºAsuntos!G9/NºAsuntos!E9," - ") -> - | C9: =IF(ISNUMBER(NºAsuntos!I9/NºAsuntos!G9),NºAsuntos!I9/NºAsuntos!G9," - ") -> - | D9: =IF(ISNUMBER('Resol Asuntos'!D9/NºAsuntos!G9),'Resol Asuntos'!D9/NºAsuntos!G9," - ") -> - | E9: =IF(ISNUMBER((NºAsuntos!C9+NºAsuntos!E9)/NºAsuntos!G9),(NºAsuntos!C9+NºAsuntos!E9)/NºAsuntos!G9," - ") -> -
A10: =Datos!A10 -> Sección De Violencia sobre la Mujer del TI | B10: =IF(ISNUMBER(NºAsuntos!G10/NºAsuntos!E10),NºAsuntos!G10/NºAsuntos!E10," - ") -> - | C10: =IF(ISNUMBER(NºAsuntos!I10/NºAsuntos!G10),NºAsuntos!I10/NºAsuntos!G10," - ") -> - | D10: =IF(ISNUMBER('Resol Asuntos'!D10/NºAsuntos!G10),'Resol Asuntos'!D10/NºAsuntos!G10," - ") -> - | E10: =IF(ISNUMBER((NºAsuntos!C10+NºAsuntos!E10)/NºAsuntos!G10),(NºAsuntos!C10+NºAsuntos!E10)/NºAsuntos!G10," - ") -> -
A11: =Datos!A11 -> Sección de Familia, infancia y capacidad del TI | B11: =IF(ISNUMBER(NºAsuntos!G11/NºAsuntos!E11),NºAsuntos!G11/NºAsuntos!E11," - ") -> - | C11: =IF(ISNUMBER(NºAsuntos!I11/NºAsuntos!G11),NºAsuntos!I11/NºAsuntos!G11," - ") -> - | D11: =IF(ISNUMBER('Resol Asuntos'!D11/NºAsuntos!G11),'Resol Asuntos'!D11/NºAsuntos!G11," - ") -> - | E11: =IF(ISNUMBER((NºAsuntos!C11+NºAsuntos!E11)/NºAsuntos!G11),(NºAsuntos!C11+NºAsuntos!E11)/NºAsuntos!G11," - ") -> -
A12: =Datos!A12 -> Sección Civil y de Instrucción del T.I. | B12: =IF(ISNUMBER(NºAsuntos!G12/NºAsuntos!E12),NºAsuntos!G12/NºAsuntos!E12," - ") -> 1.1699834 | C12: =IF(ISNUMBER(NºAsuntos!I12/NºAsuntos!G12),NºAsuntos!I12/NºAsuntos!G12," - ") -> 3.1381999 | D12: =IF(ISNUMBER('Resol Asuntos'!D12/NºAsuntos!G12),'Resol Asuntos'!D12/NºAsuntos!G12," - ") -> 0.21757619 | E12: =IF(ISNUMBER((NºAsuntos!C12+NºAsuntos!E12)/NºAsuntos!G12),(NºAsuntos!C12+NºAsuntos!E12)/NºAsuntos!G12," - ") -> 4.1381999
A13: =Datos!A13 -> TOTAL | B13: =IF(ISNUMBER(NºAsuntos!G13/NºAsuntos!E13),NºAsuntos!G13/NºAsuntos!E13," - ") -> 1.1699834 | C13: =IF(ISNUMBER(NºAsuntos!I13/NºAsuntos!G13),NºAsuntos!I13/NºAsuntos!G13," - ") -> 3.1381999 | D13: =IF(ISNUMBER('Resol Asuntos'!D13/NºAsuntos!G13),'Resol Asuntos'!D13/NºAsuntos!G13," - ") -> 0.21757619 | E13: =IF(ISNUMBER((NºAsuntos!C13+NºAsuntos!E13)/NºAsuntos!G13),(NºAsuntos!C13+NºAsuntos!E13)/NºAsuntos!G13," - ") -> 4.1381999
A14: =Datos!A14 -> Jurisdicción Penal ( 2 ):
A15: =Datos!A15 -> Seccion Instruccion Del T.I. | B15: =IF(ISNUMBER(NºAsuntos!G15/NºAsuntos!E15),NºAsuntos!G15/NºAsuntos!E15," - ") -> - | C15: =IF(ISNUMBER(NºAsuntos!I15/NºAsuntos!G15),NºAsuntos!I15/NºAsuntos!G15," - ") -> - | D15: =IF(ISNUMBER('Resol Asuntos'!D15/NºAsuntos!G15),'Resol Asuntos'!D15/NºAsuntos!G15," - ") -> - | E15: =IF(ISNUMBER((NºAsuntos!C15+NºAsuntos!E15)/NºAsuntos!G15),(NºAsuntos!C15+NºAsuntos!E15)/NºAsuntos!G15," - ") -> -
A16: =Datos!A16 -> Seccion de Violencia contra la infancia y la adol. | B16: =IF(ISNUMBER(NºAsuntos!G16/NºAsuntos!E16),NºAsuntos!G16/NºAsuntos!E16," - ") -> - | C16: =IF(ISNUMBER(NºAsuntos!I16/NºAsuntos!G16),NºAsuntos!I16/NºAsuntos!G16," - ") -> - | D16: =IF(ISNUMBER('Resol Asuntos'!D16/NºAsuntos!G16),'Resol Asuntos'!D16/NºAsuntos!G16," - ") -> - | E16: =IF(ISNUMBER((NºAsuntos!C16+NºAsuntos!E16)/NºAsuntos!G16),(NºAsuntos!C16+NºAsuntos!E16)/NºAsuntos!G16," - ") -> -
A17: =Datos!A17 -> Sección Civil y de Inst. TI | B17: =IF(ISNUMBER(NºAsuntos!G17/NºAsuntos!E17),NºAsuntos!G17/NºAsuntos!E17," - ") -> 1.0151899 | C17: =IF(ISNUMBER(NºAsuntos!I17/NºAsuntos!G17),NºAsuntos!I17/NºAsuntos!G17," - ") -> 1.3433084 | D17: =IF(ISNUMBER('Resol Asuntos'!D17/NºAsuntos!G17),'Resol Asuntos'!D17/NºAsuntos!G17," - ") -> 0.12468828 | E17: =IF(ISNUMBER((NºAsuntos!C17+NºAsuntos!E17)/NºAsuntos!G17),(NºAsuntos!C17+NºAsuntos!E17)/NºAsuntos!G17," - ") -> 2.2851205
A18: =Datos!A18 -> Sección De Violencia sobre la Mujer del TI | B18: =IF(ISNUMBER(NºAsuntos!G18/NºAsuntos!E18),NºAsuntos!G18/NºAsuntos!E18," - ") -> - | C18: =IF(ISNUMBER(NºAsuntos!I18/NºAsuntos!G18),NºAsuntos!I18/NºAsuntos!G18," - ") -> 23.333333 | D18: =IF(ISNUMBER('Resol Asuntos'!D18/NºAsuntos!G18),'Resol Asuntos'!D18/NºAsuntos!G18," - ") -> 0 | E18: =IF(ISNUMBER((NºAsuntos!C18+NºAsuntos!E18)/NºAsuntos!G18),(NºAsuntos!C18+NºAsuntos!E18)/NºAsuntos!G18," - ") -> 24.333333
A19: =Datos!A19 -> TOTAL | B19: =IF(ISNUMBER(NºAsuntos!G19/NºAsuntos!E19),NºAsuntos!G19/NºAsuntos!E19," - ") -> 1.0177215 | C19: =IF(ISNUMBER(NºAsuntos!I19/NºAsuntos!G19),NºAsuntos!I19/NºAsuntos!G19," - ") -> 1.39801 | D19: =IF(ISNUMBER('Resol Asuntos'!D19/NºAsuntos!G19),'Resol Asuntos'!D19/NºAsuntos!G19," - ") -> 0.12437811 | E19: =IF(ISNUMBER((NºAsuntos!C19+NºAsuntos!E19)/NºAsuntos!G19),(NºAsuntos!C19+NºAsuntos!E19)/NºAsuntos!G19," - ") -> 2.3399668
A20: =Datos!A20 -> TOTAL JURISDICCIONES | B20: =IF(ISNUMBER(NºAsuntos!G20/NºAsuntos!E20),NºAsuntos!G20/NºAsuntos!E20," - ") -> 1.0945211 | C20: =IF(ISNUMBER(NºAsuntos!I20/NºAsuntos!G20),NºAsuntos!I20/NºAsuntos!G20," - ") -> 2.3362629 | D20: =IF(ISNUMBER('Resol Asuntos'!D20/NºAsuntos!G20),'Resol Asuntos'!D20/NºAsuntos!G20," - ") -> 0.17462744 | E20: =IF(ISNUMBER((NºAsuntos!C20+NºAsuntos!E20)/NºAsuntos!G20),(NºAsuntos!C20+NºAsuntos!E20)/NºAsuntos!G20," - ") -> 3.3095147
A24: =Criterios!A4 -> Fecha Informe: 06 oct. 2026

Sheet Indicadores
F2: =Criterios!A9 &" "&Criterios!B9 -> Tribunales de Justicia ANDALUCIA | L2: =Criterios!A10 &" "&Criterios!B10 -> Provincias GRANADA | N2: =Criterios!A11 &" "&Criterios!B11 -> Resumenes por Partidos Judiciales SANTA FE
A5: Código de órgano | C5: ="Año: " &Criterios!B$5 & " Trimestre " &Criterios!D$5 & " al " &Criterios!D$6 -> Año: 2026 Trimestre 2 al 2 | D5: Otra comp. | E5: Número de magistrados | F5: En Tramite Al Inicio Del Periodo (Regularizado) | G5: En Tramite Al Inicio Del Periodo | H5: A ASUNTOS ingresados | I5: A ASUNTOS ingresados 2 | J5: A ASUNTOS ingresados 3 | K5: Asuntos reabiertos | L5: Ejecuciones ingresadas | M5: Ejecuciones reiniciadas | N5: INGRESO COMPUTABLE (A+B) | O5: INGRESO COMPUTABLE (Civil + Penal) | P5: % Ingreso Computable | Q5: % Ingreso Computable total | R5: SOLO Monitorios ingresados | S5: RESOLUCIONNº H/P | T5: % S/INDICADOR DE RESOLUCION (Horas punto) | U5: TOTAL RESOLUCIONNº H/P | V5: % S/INDICADOR DE RESOLUCIÓN TOTAL (CIVIL Y PENAL) | W5: Resolución ingresados A | X5: Resolución ejecuciones B | Y5: Resolución TOTAL C | Z5: Resolución Monitorios | AA5: Pendencia A | AB5: Pendencia B | AC5: Pendencia A+B | AD5: Pendencia Monitorios | AE5: Nº TOTAL Sentencias Pendientes | AF5: Nª Sentencias menos 3 m | AG5: Nª sentencias entre 3 y 6m | AH5: Nª Sentencias más de 6m | AI5: Nº TOTAL Sentencias dictadas | AJ5: Escritos pendientes hasta 30 días | AK5: Escritos pendientes mas de 30 días | AL5: Tasa Resolución | AM5: Tiempo de respuesta | AN5: Tasa Sentencia | AO5: Tasa Congestión | AP5: % Señalamientos suspendidos | AQ5: Variación de Pendientes A | AR5: Variación de Pendientes B | AS5: Procedimeintos abreviados elevados | AT5: Suspendidos | AU5: Señalados | AV5: Asuntos Pendientes de Incoar | AW5: Asuntos Repartidos Pendientes de Aceptar | AX5: Fecha señalamiento más alejada en el tiempo | AY5: Módulo entrada 2018 | AZ5: % Módulo entrada 2018 | BF5: M. TeórIco 1 | BH5: M. TeórIco 2 | BJ5: M. TeórIco 3 | BL5: M. TeórIco Tot
BF6: Inferior | BG6: Superior | BH6: Inferior | BI6: Superior | BJ6: Inferior | BK6: Superior | BL6: Inferior | BM6: Superior
C7: =Datos!A7 -> COMPETENCIAS
C8: =Datos!A8 -> Jurisdicción Civil ( 1 ):
A9: =Datos!AO9 -> 0 | B9: C | C9: =Datos!A9 -> Sección Civil del T.I | E9: =IF(ISNUMBER(Datos!AQ9),Datos!AQ9," - ") -> 0 | F9: =IF(ISNUMBER(AA9+W9-I9-K9),AA9+W9-I9-K9," - ") -> - | G9: =IF(ISNUMBER(IF(J_V="SI",Datos!I9,Datos!I9+Datos!Y9)-IF(Monitorios="SI",Datos!CA9,0)), IF(J_V="SI",Datos!I9,Datos!I9+Datos!Y9)-IF(Monitorios="SI",Datos!CA9,0), " - ") -> - | H9: =IF(ISNUMBER(Datos!DB9),Datos!DB9," - ") -> - | I9: =IF(ISNUMBER(Datos!DC9),Datos!DC9," - ") -> - | J9: =IF(ISNUMBER(Datos!DD9),Datos!DD9," - ") -> - | K9: =IF(ISNUMBER(Datos!DF9),Datos!DF9,0) -> 0 | L9: =IF(ISNUMBER(Datos!P9),Datos!P9,0) -> 0 | M9: =IF(ISNUMBER(Datos!DE9),Datos!DE9," - ") -> - | N9: =IF(ISNUMBER(H9+L9),H9+L9," - ") -> - | P9: =IF(ISNUMBER((N9)/((BL9+BM9)/2)),(N9)/((BL9+BM9)/2)," - ") -> - | Q9: =IF(ISNUMBER((N9)/((BL9+BM9)/2)),(N9)/((BL9+BM9)/2)," - ") -> - | R9: =IF(ISNUMBER(Datos!CB9),Datos!CB9," - ") -> - | S9: =IF(ISNUMBER(Datos!BY9+Datos!BZ9*0.86),Datos!BY9+Datos!BZ9*0.86," - ") -> 0 | T9: =IF(ISNUMBER((S9*factor_trimestre)/DatosB!CN9),(S9*factor_trimestre)/DatosB!CN9,"-") -> 0 | V9: =IF(ISNUMBER((U9*factor_trimestre)/DatosB!CN9),(U9*factor_trimestre)/DatosB!CN9,"-") -> 0 | W9: =IF(ISNUMBER(IF(J_V="SI",Datos!K9,Datos!K9+Datos!AA9)-IF(Monitorios="SI",Datos!CC9,0)), IF(J_V="SI",Datos!K9,Datos!K9+Datos!AA9)-IF(Monitorios="SI",Datos!CC9,0), " - ") -> - | X9: =IF(ISNUMBER(Datos!Q9),Datos!Q9," - ") -> - | Y9: =SUM(W9:X9) -> 0 | Z9: =IF(ISNUMBER(Datos!CC9),Datos!CC9," - ") -> - | AA9: =IF(ISNUMBER(IF(J_V="SI",Datos!L9,Datos!L9+Datos!AB9)-IF(Monitorios="SI",Datos!CD9,0)), IF(J_V="SI",Datos!L9,Datos!L9+Datos!AB9)-IF(Monitorios="SI",Datos!CD9,0), " - ") -> - | AB9: =IF(ISNUMBER(Datos!R9),Datos!R9," - ") -> - | AC9: =IF(ISNUMBER(AA9+AB9),AA9+AB9," - ") -> - | AD9: =IF(ISNUMBER(Datos!CD9),Datos!CD9," - ") -> - | AE9: =IF(ISNUMBER(Datos!BV9),Datos!BV9," - ") -> - | AF9: =IF(ISNUMBER(Datos!CK9),Datos!CK9," - ") -> - | AG9: =IF(ISNUMBER(Datos!CL9),Datos!CL9," - ") -> - | AH9: =IF(ISNUMBER(Datos!CM9),Datos!CM9," - ") -> - | AI9: =IF(ISNUMBER(Datos!M9),Datos!M9," - ") -> - | AJ9: =IF(ISNUMBER(Datos!BW9),Datos!BW9," - ") -> - | AK9: =IF(ISNUMBER(Datos!BX9),Datos!BX9," - ") -> - | AL9: =IF(ISNUMBER(NºAsuntos!G9/NºAsuntos!E9),NºAsuntos!G9/NºAsuntos!E9," - ") -> - | AM9: =IF(ISNUMBER(((NºAsuntos!I9/NºAsuntos!G9)*11)/factor_trimestre),((NºAsuntos!I9/NºAsuntos!G9)*11)/factor_trimestre," - ") -> - | AN9: =IF(ISNUMBER('Resol Asuntos'!D9/NºAsuntos!G9),'Resol Asuntos'!D9/NºAsuntos!G9," - ") -> - | AO9: =IF(ISNUMBER((NºAsuntos!C9+NºAsuntos!E9)/NºAsuntos!G9),(NºAsuntos!C9+NºAsuntos!E9)/NºAsuntos!G9," - ") -> - | AP9: =IF(ISNUMBER(AT9/AU9),AT9/AU9," - ") -> - | AQ9: =IF(ISNUMBER((I9-W9+K9)/(F9)),(I9-W9+K9)/(F9)," - ") -> - | AR9: =IF(ISNUMBER((Datos!P9-Datos!Q9+M9)/(Datos!R9-Datos!P9+Datos!Q9-M9)),(Datos!P9-Datos!Q9+M9)/(Datos!R9-Datos!P9+Datos!Q9-M9)," - ") -> - | AS9: =IF(ISNUMBER(Datos!CS9),Datos!CS9," - ") -> - | AT9: =IF(ISNUMBER(Datos!CI9),Datos!CI9," - ") -> - | AU9: =IF(ISNUMBER(Datos!CJ9),Datos!CJ9," - ") -> - | AV9: =IF(ISNUMBER(Datos!CW9),Datos!CW9," - ") -> - | AW9: =IF(ISNUMBER(Datos!EV9),Datos!EV9," - ") -> - | AX9: =IF(ISNUMBER(Datos!CX9)," - ",Datos!CX9) -> 0 | AY9: =IF(ISNUMBER(Datos!ET9),Datos!ET9," - ") -> - | AZ9: =(AY9/Datos!ER9)*factor_trimestre -> #VALUE! | BF9: =Datos!BN9/factor_trimestre -> 0 | BG9: =Datos!BO9/factor_trimestre -> 0 | BH9: =Datos!BP9/factor_trimestre -> 0 | BI9: =Datos!BQ9/factor_trimestre -> 0 | BJ9: =Datos!BR9/factor_trimestre -> 0 | BK9: =Datos!BS9/factor_trimestre -> 0 | BL9: =Datos!BT9/factor_trimestre -> 0 | BM9: =Datos!BU9/factor_trimestre -> 0
A10: =Datos!AO10 -> 1 | B10: C | C10: =Datos!A10 -> Sección De Violencia sobre la Mujer del TI | E10: =IF(ISNUMBER(Datos!AQ10),Datos!AQ10," - ") -> 0 | F10: =IF(ISNUMBER(Datos!L10+Datos!K10-Datos!J10-K10),Datos!L10+Datos!K10-Datos!J10-K10," - ") -> 0 | G10: =IF(ISNUMBER(Datos!I10),Datos!I10," - ") -> 0 | H10: =IF(ISNUMBER(Datos!DB10),Datos!DB10," - ") -> - | I10: =IF(ISNUMBER(Datos!DC10),Datos!DC10," - ") -> - | J10: =IF(ISNUMBER(Datos!DD10),Datos!DD10," - ") -> - | K10: =IF(ISNUMBER(Datos!DF10),Datos!DF10,0) -> 0 | L10: =IF(ISNUMBER(Datos!P10),Datos!P10,0) -> 0 | M10: =IF(ISNUMBER(Datos!DE10),Datos!DE10," - ") -> - | N10: =IF(ISNUMBER(H10),H10," - ") -> - | O10: =IF(ISNUMBER(INDIRECT("N"&ROW()+salto-1)),N10+(INDIRECT("N"&ROW()+salto-1)),N10+(INDIRECT("N"&ROW()-salto+1))) -> #VALUE! | P10: =IF(ISNUMBER((N10)/((BL10+BM10)/2)),(N10)/((BL10+BM10)/2)," - ") -> - | Q10: =IF(jurisdiccion="Jurisdicción Civil y Penal",IF(ISNUMBER((O10)/((BL10+BM10)/2)),(O10)/((BL10+BM10)/2)," - "),IF(ISNUMBER((N10)/((BF10+BG10)/2)),(N10)/((BF10+BG10)/2)," - ")) -> - | R10: =IF(ISNUMBER(Datos!CB10),Datos!CB10," - ") -> - | S10: =IF(ISNUMBER(Datos!BY10),Datos!BY10," - ") -> - | T10: =IF(ISNUMBER((S10*factor_trimestre)/DatosB!CN10),(S10*factor_trimestre)/DatosB!CN10,"-") -> - | U10: =IF(ISNUMBER(INDIRECT("S"&ROW()+salto-1)),S10+(INDIRECT("S"&ROW()+salto-1)),S10+(INDIRECT("S"&ROW()-salto+1))) -> #VALUE! | V10: =IF(ISNUMBER((U10*factor_trimestre)/DatosB!CN10),(U10*factor_trimestre)/DatosB!CN10,"-") -> - | W10: =IF(ISNUMBER(Datos!K10),Datos!K10," - ") -> 0 | X10: =IF(ISNUMBER(Datos!Q10),Datos!Q10," - ") -> 4 | Y10: =SUM(W10:X10) -> 4 | Z10: =IF(ISNUMBER(Datos!CC10),Datos!CC10," - ") -> - | AA10: =IF(ISNUMBER(Datos!L10),Datos!L10,"-") -> 0 | AB10: =IF(ISNUMBER(Datos!R10),Datos!R10," - ") -> 0 | AC10: =IF(ISNUMBER(AA10+AB10),AA10+AB10," - ") -> 0 | AD10: =IF(ISNUMBER(Datos!CD10),Datos!CD10," - ") -> - | AE10: =IF(ISNUMBER(Datos!BV10),Datos!BV10," - ") -> - | AF10: =IF(ISNUMBER(Datos!CK10),Datos!CK10," - ") -> - | AG10: =IF(ISNUMBER(Datos!CL10),Datos!CL10," - ") -> - | AH10: =IF(ISNUMBER(Datos!CM10),Datos!CM10," - ") -> - | AI10: =IF(ISNUMBER(Datos!M10),Datos!M10," - ") -> 0 | AJ10: =IF(ISNUMBER(Datos!BW10),Datos!BW10," - ") -> - | AK10: =IF(ISNUMBER(Datos!BX10),Datos!BX10," - ") -> - | AL10: =IF(ISNUMBER(NºAsuntos!G10/NºAsuntos!E10),NºAsuntos!G10/NºAsuntos!E10," - ") -> - | AM10: =IF(ISNUMBER(((NºAsuntos!I10/NºAsuntos!G10)*11)/factor_trimestre),((NºAsuntos!I10/NºAsuntos!G10)*11)/factor_trimestre," - ") -> - | AN10: =IF(ISNUMBER('Resol Asuntos'!D10/NºAsuntos!G10),'Resol Asuntos'!D10/NºAsuntos!G10," - ") -> - | AO10: =IF(ISNUMBER((NºAsuntos!C10+NºAsuntos!E10)/NºAsuntos!G10),(NºAsuntos!C10+NºAsuntos!E10)/NºAsuntos!G10," - ") -> - | AP10: =IF(ISNUMBER(AT10/AU10),AT10/AU10," - ") -> - | AQ10: =IF(ISNUMBER((H10-W10+K10)/(F10)),(H10-W10+K10)/(F10)," - ") -> - | AR10: =IF(ISNUMBER((Datos!P10-Datos!Q10+M10)/(Datos!R10-Datos!P10+Datos!Q10-M10)),(Datos!P10-Datos!Q10+M10)/(Datos!R10-Datos!P10+Datos!Q10-M10)," - ") -> - | AS10: =IF(ISNUMBER(Datos!CS10),Datos!CS10," - ") -> - | AT10: =IF(ISNUMBER(Datos!CI10),Datos!CI10," - ") -> - | AU10: =IF(ISNUMBER(Datos!CJ10),Datos!CJ10," - ") -> - | AV10: =IF(ISNUMBER(Datos!CW10),Datos!CW10," - ") -> - | AW10: =IF(ISNUMBER(Datos!EV10),Datos!EV10," - ") -> - | AX10: =IF(ISNUMBER(Datos!CX10)," - ",Datos!CX10) -> 0 | AY10: =IF(ISNUMBER(Datos!EO10),Datos!EO10," - ") -> - | AZ10: =(AY10/Datos!ER10)*factor_trimestre -> #VALUE! | BF10: =Datos!BN10/factor_trimestre -> 0 | BG10: =Datos!BO10/factor_trimestre -> 0 | BH10: =Datos!BP10/factor_trimestre -> 0 | BI10: =Datos!BQ10/factor_trimestre -> 0 | BJ10: =Datos!BR10/factor_trimestre -> 0 | BK10: =Datos!BS10/factor_trimestre -> 0 | BL10: =Datos!BT10/factor_trimestre -> 0 | BM10: =Datos!BU10/factor_trimestre -> 0
A11: =Datos!AO11 -> 0 | B11: C | C11: =Datos!A11 -> Sección de Familia, infancia y capacidad del TI | E11: =IF(ISNUMBER(Datos!AQ11),Datos!AQ11," - ") -> 0 | F11: =IF(ISNUMBER(AA11+W11-I11-K11),AA11+W11-I11-K11," - ") -> - | G11: =IF(ISNUMBER(IF(J_V="SI",Datos!I11,Datos!I11+Datos!Y11)-IF(Monitorios="SI",Datos!CA11,0)), IF(J_V="SI",Datos!I11,Datos!I11+Datos!Y11)-IF(Monitorios="SI",Datos!CA11,0), " - ") -> - | H11: =IF(ISNUMBER(Datos!DB11),Datos!DB11," - ") -> - | I11: =IF(ISNUMBER(Datos!DC11),Datos!DC11," - ") -> - | J11: =IF(ISNUMBER(Datos!DD11),Datos!DD11," - ") -> - | K11: =IF(ISNUMBER(Datos!DF11),Datos!DF11,0) -> 0 | L11: =IF(ISNUMBER(Datos!P11),Datos!P11,0) -> 0 | M11: =IF(ISNUMBER(Datos!DE11),Datos!DE11," - ") -> - | N11: =IF(ISNUMBER(H11+L11),H11+L11," - ") -> - | P11: =IF(ISNUMBER((N11)/((BL11+BM11)/2)),(N11)/((BL11+BM11)/2)," - ") -> - | Q11: =IF(ISNUMBER((N11)/((BL11+BM11)/2)),(N11)/((BL11+BM11)/2)," - ") -> - | R11: =IF(ISNUMBER(Datos!CB11),Datos!CB11," - ") -> - | S11: =IF(ISNUMBER(Datos!BY11+Datos!BZ11),Datos!BY11+Datos!BZ11," - ") -> 0 | T11: =IF(ISNUMBER((S11*factor_trimestre)/DatosB!CN11),(S11*factor_trimestre)/DatosB!CN11,"-") -> 0 | V11: =IF(ISNUMBER((U11*factor_trimestre)/DatosB!CN11),(U11*factor_trimestre)/DatosB!CN11,"-") -> 0 | W11: =IF(ISNUMBER(IF(J_V="SI",Datos!K11,Datos!K11+Datos!AA11)-IF(Monitorios="SI",Datos!CC11,0)), IF(J_V="SI",Datos!K11,Datos!K11+Datos!AA11)-IF(Monitorios="SI",Datos!CC11,0), " - ") -> - | X11: =IF(ISNUMBER(Datos!Q11),Datos!Q11," - ") -> - | Y11: =SUM(W11:X11) -> 0 | Z11: =IF(ISNUMBER(Datos!CC11),Datos!CC11," - ") -> - | AA11: =IF(ISNUMBER(IF(J_V="SI",Datos!L11,Datos!L11+Datos!AB11)-IF(Monitorios="SI",Datos!CD11,0)), IF(J_V="SI",Datos!L11,Datos!L11+Datos!AB11)-IF(Monitorios="SI",Datos!CD11,0), " - ") -> - | AB11: =IF(ISNUMBER(Datos!R11),Datos!R11," - ") -> - | AC11: =IF(ISNUMBER(AA11+AB11),AA11+AB11," - ") -> - | AD11: =IF(ISNUMBER(Datos!CD11),Datos!CD11," - ") -> - | AE11: =IF(ISNUMBER(Datos!BV11),Datos!BV11," - ") -> - | AF11: =IF(ISNUMBER(Datos!CK11),Datos!CK11," - ") -> - | AG11: =IF(ISNUMBER(Datos!CL11),Datos!CL11," - ") -> - | AH11: =IF(ISNUMBER(Datos!CM11),Datos!CM11," - ") -> - | AI11: =IF(ISNUMBER(Datos!M11),Datos!M11," - ") -> - | AJ11: =IF(ISNUMBER(Datos!BW11),Datos!BW11," - ") -> - | AK11: =IF(ISNUMBER(Datos!BX11),Datos!BX11," - ") -> - | AL11: =IF(ISNUMBER(NºAsuntos!G11/NºAsuntos!E11),NºAsuntos!G11/NºAsuntos!E11," - ") -> - | AM11: =IF(ISNUMBER(((NºAsuntos!I11/NºAsuntos!G11)*11)/factor_trimestre),((NºAsuntos!I11/NºAsuntos!G11)*11)/factor_trimestre," - ") -> - | AN11: =IF(ISNUMBER('Resol Asuntos'!D11/NºAsuntos!G11),'Resol Asuntos'!D11/NºAsuntos!G11," - ") -> - | AO11: =IF(ISNUMBER((NºAsuntos!C11+NºAsuntos!E11)/NºAsuntos!G11),(NºAsuntos!C11+NºAsuntos!E11)/NºAsuntos!G11," - ") -> - | AP11: =IF(ISNUMBER(AT11/AU11),AT11/AU11," - ") -> - | AQ11: =IF(ISNUMBER((I11-W11+K11)/(F11)),(I11-W11+K11)/(F11)," - ") -> - | AR11: =IF(ISNUMBER((Datos!P11-Datos!Q11+M11)/(Datos!R11-Datos!P11+Datos!Q11-M11)),(Datos!P11-Datos!Q11+M11)/(Datos!R11-Datos!P11+Datos!Q11-M11)," - ") -> - | AS11: =IF(ISNUMBER(Datos!CS11),Datos!CS11," - ") -> - | AT11: =IF(ISNUMBER(Datos!CI11),Datos!CI11," - ") -> - | AU11: =IF(ISNUMBER(Datos!CJ11),Datos!CJ11," - ") -> - | AV11: =IF(ISNUMBER(Datos!CW11),Datos!CW11," - ") -> - | AW11: =IF(ISNUMBER(Datos!EV11),Datos!EV11," - ") -> - | AX11: =IF(ISNUMBER(Datos!CX11)," - ",Datos!CX11) -> 0 | AY11: =IF(ISNUMBER(Datos!ET11),Datos!ET11," - ") -> - | AZ11: =(AY11/Datos!ER11)*factor_trimestre -> #VALUE! | BF11: =Datos!BN11/factor_trimestre -> 0 | BG11: =Datos!BO11/factor_trimestre -> 0 | BH11: =Datos!BP11/factor_trimestre -> 0 | BI11: =Datos!BQ11/factor_trimestre -> 0 | BJ11: =Datos!BR11/factor_trimestre -> 0 | BK11: =Datos!BS11/factor_trimestre -> 0 | BL11: =Datos!BT11/factor_trimestre -> 0 | BM11: =Datos!BU11/factor_trimestre -> 0
A12: =Datos!AO12 -> 4 | B12: C | C12: =Datos!A12 -> Sección Civil y de Instrucción del T.I. | E12: =IF(ISNUMBER(Datos!AQ12),Datos!AQ12," - ") -> 4 | F12: =IF(ISNUMBER(AA12+W12-I12-K12),AA12+W12-I12-K12," - ") -> - | G12: =IF(ISNUMBER(IF(J_V="SI",Datos!I12,Datos!I12+Datos!Y12)-IF(Monitorios="SI",Datos!CA12,0)), IF(J_V="SI",Datos!I12,Datos!I12+Datos!Y12)-IF(Monitorios="SI",Datos!CA12,0), " - ") -> - | H12: =IF(ISNUMBER(Datos!DB12),Datos!DB12," - ") -> - | I12: =IF(ISNUMBER(Datos!DC12),Datos!DC12," - ") -> - | J12: =IF(ISNUMBER(Datos!DD12),Datos!DD12," - ") -> - | K12: =IF(ISNUMBER(Datos!DF12),Datos!DF12,0) -> 0 | L12: =IF(ISNUMBER(Datos!P12),Datos!P12,0) -> 283 | M12: =IF(ISNUMBER(Datos!DE12),Datos!DE12," - ") -> - | N12: =IF(ISNUMBER(H12+L12),H12+L12," - ") -> - | O12: =IF(ISNUMBER(INDIRECT("N"&ROW()+salto-1)),N12+(INDIRECT("N"&ROW()+salto-1))/9.15,N12/9.15+(INDIRECT("N"&ROW()-salto+1))) -> #VALUE! | P12: =IF(ISNUMBER((N12)/((BF12+BG12)/2)),(N12)/((BF12+BG12)/2)," - ") -> - | Q12: =IF(jurisdiccion="Jurisdicción Civil y Penal",IF(ISNUMBER((O12)/((BL12+BM12)/2)),(O12)/((BL12+BM12)/2)," - "),IF(ISNUMBER((N12)/((BF12+BG12)/2)),(N12)/((BF12+BG12)/2)," - ")) -> - | R12: =IF(ISNUMBER(Datos!CB12),Datos!CB12," - ") -> - | S12: =IF(ISNUMBER(Datos!BY12),Datos!BY12," - ") -> - | T12: =IF(ISNUMBER((S12*factor_trimestre)/DatosB!CN12),(S12*factor_trimestre)/DatosB!CN12,"-") -> - | U12: =IF(ISNUMBER(INDIRECT("S"&ROW()+salto-1)),S12+(INDIRECT("S"&ROW()+salto-1)),S12+(INDIRECT("S"&ROW()-salto+1))) -> #VALUE! | V12: =IF(ISNUMBER((U12*factor_trimestre)/DatosB!CN12),(U12*factor_trimestre)/DatosB!CN12,"-") -> - | W12: =IF(ISNUMBER(IF(J_V="SI",Datos!K12,Datos!K12+Datos!AA12)-IF(Monitorios="SI",Datos!CC12,0)), IF(J_V="SI",Datos!K12,Datos!K12+Datos!AA12)-IF(Monitorios="SI",Datos!CC12,0), " - ") -> - | X12: =IF(ISNUMBER(Datos!Q12),Datos!Q12," - ") -> 187 | Y12: =SUM(W12:X12) -> 187 | Z12: =IF(ISNUMBER(Datos!CC12),Datos!CC12," - ") -> - | AA12: =IF(ISNUMBER(IF(J_V="SI",Datos!L12,Datos!L12+Datos!AB12)-IF(Monitorios="SI",Datos!CD12,0)), IF(J_V="SI",Datos!L12,Datos!L12+Datos!AB12)-IF(Monitorios="SI",Datos!CD12,0), " - ") -> - | AB12: =IF(ISNUMBER(Datos!R12),Datos!R12," - ") -> 6580 | AC12: =IF(ISNUMBER(AA12+AB12),AA12+AB12," - ") -> - | AD12: =IF(ISNUMBER(Datos!CD12),Datos!CD12," - ") -> - | AE12: =IF(ISNUMBER(Datos!BV12),Datos!BV12," - ") -> - | AF12: =IF(ISNUMBER(Datos!CK12),Datos!CK12," - ") -> - | AG12: =IF(ISNUMBER(Datos!CL12),Datos!CL12," - ") -> - | AH12: =IF(ISNUMBER(Datos!CM12),Datos!CM12," - ") -> - | AI12: =IF(ISNUMBER(Datos!M12),Datos!M12," - ") -> 307 | AJ12: =IF(ISNUMBER(Datos!BW12),Datos!BW12," - ") -> - | AK12: =IF(ISNUMBER(Datos!BX12),Datos!BX12," - ") -> - | AL12: =IF(ISNUMBER(NºAsuntos!G12/NºAsuntos!E12),NºAsuntos!G12/NºAsuntos!E12," - ") -> 1.1699834 | AM12: =IF(ISNUMBER(((NºAsuntos!I12/NºAsuntos!G12)*11)/factor_trimestre),((NºAsuntos!I12/NºAsuntos!G12)*11)/factor_trimestre," - ") -> 9.4145996 | AN12: =IF(ISNUMBER('Resol Asuntos'!D12/NºAsuntos!G12),'Resol Asuntos'!D12/NºAsuntos!G12," - ") -> 0.21757619 | AO12: =IF(ISNUMBER((NºAsuntos!C12+NºAsuntos!E12)/NºAsuntos!G12),(NºAsuntos!C12+NºAsuntos!E12)/NºAsuntos!G12," - ") -> 4.1381999 | AP12: =IF(ISNUMBER(AT12/AU12),AT12/AU12," - ") -> - | AQ12: =IF(ISNUMBER((I12-W12+K12)/(F12)),(I12-W12+K12)/(F12)," - ") -> - | AR12: =IF(ISNUMBER((Datos!P12-Datos!Q12+M12)/(Datos!R12-Datos!P12+Datos!Q12-M12)),(Datos!P12-Datos!Q12+M12)/(Datos!R12-Datos!P12+Datos!Q12-M12)," - ") -> - | AS12: =IF(ISNUMBER(Datos!CS12),Datos!CS12," - ") -> - | AT12: =IF(ISNUMBER(Datos!CI12),Datos!CI12," - ") -> - | AU12: =IF(ISNUMBER(Datos!CJ12),Datos!CJ12," - ") -> - | AV12: =IF(ISNUMBER(Datos!CW12),Datos!CW12," - ") -> - | AW12: =IF(ISNUMBER(Datos!EV12),Datos!EV12," - ") -> - | AX12: =IF(ISNUMBER(Datos!CX12)," - ",Datos!CX12) -> 0 | AY12: =IF(ISNUMBER(Datos!ET12),Datos!ET12," - ") -> - | AZ12: =(AY12/Datos!ER12)*factor_trimestre -> #VALUE! | BF12: =Datos!BN12/factor_trimestre -> 0 | BG12: =Datos!BO12/factor_trimestre -> 0 | BH12: =Datos!BP12/factor_trimestre -> 0 | BI12: =Datos!BQ12/factor_trimestre -> 0 | BJ12: =Datos!BR12/factor_trimestre -> 0 | BK12: =Datos!BS12/factor_trimestre -> 0 | BL12: =Datos!BT12/factor_trimestre -> 0 | BM12: =Datos!BU12/factor_trimestre -> 0
C13: =Datos!A13 -> TOTAL | E13: =SUBTOTAL(9,E8:E12) -> 4 | F13: =SUBTOTAL(9,F8:F12) -> 0 | G13: =SUBTOTAL(9,G8:G12) -> 0 | H13: =SUBTOTAL(9,H8:H12) -> 0 | I13: =SUBTOTAL(9,I8:I12) -> 0 | J13: =SUBTOTAL(9,J8:J12) -> 0 | K13: =SUBTOTAL(9,K8:K12) -> 0 | L13: =SUBTOTAL(9,L8:L12) -> 283 | ... O13: =SUBTOTAL(9,O8:O12) -> #VALUE! | Q13: =IF(ISNUMBER((N13*factor_trimestre)/((Datos!BT13+Datos!BU13)/2)),(N13*factor_trimestre)/((Datos!BT13+Datos!BU13)/2)," - ") -> - | R13: =SUBTOTAL(9,R8:R12) -> 0 | S13: =SUBTOTAL(9,S8:S12) -> 0 | T13: =IF(ISNUMBER((S13*factor_trimestre)/DatosB!BM13),(S13*factor_trimestre)/DatosB!BM13,"-") -> - | U13: =SUBTOTAL(9,U8:U12) -> #VALUE! | V13: =IF(ISNUMBER((U13*factor_trimestre)/DatosB!CN13),(U13*factor_trimestre)/DatosB!CN13,"-") -> - | W13: =SUBTOTAL(9,W8:W12) -> 0 | X13: =SUBTOTAL(9,X8:X12) -> 191 | Y13: =SUBTOTAL(9,Y8:Y12) -> 191 | Z13: =SUBTOTAL(9,Z8:Z12) -> 0 | AA13: =SUBTOTAL(9,AA8:AA12) -> 0 | AB13: =SUBTOTAL(9,AB8:AB12) -> 6580 | AC13: =SUBTOTAL(9,AC8:AC12) -> 0 | AD13: =SUBTOTAL(9,AD8:AD12) -> 0 | ... AJ13: =SUBTOTAL(9,AJ8:AJ12) -> 0 | AK13: =SUBTOTAL(9,AK9:AK12) -> 0 | AL13: =IF(ISNUMBER(NºAsuntos!G13/NºAsuntos!E13),NºAsuntos!G13/NºAsuntos!E13," - ") -> 1.1699834 | AM13: =IF(ISNUMBER(((NºAsuntos!I13/NºAsuntos!G13)*11)/factor_trimestre),((NºAsuntos!I13/NºAsuntos!G13)*11)/factor_trimestre," - ") -> 9.4145996 | AN13: =IF(ISNUMBER('Resol Asuntos'!D13/NºAsuntos!G13),'Resol Asuntos'!D13/NºAsuntos!G13," - ") -> 0.21757619 | AO13: =IF(ISNUMBER((NºAsuntos!C13+NºAsuntos!E13)/NºAsuntos!G13),(NºAsuntos!C13+NºAsuntos!E13)/NºAsuntos!G13," - ") -> 4.1381999 | AP13: =IF(ISNUMBER(AT13/AU13),AT13/AU13," - ") -> - | AQ13: =IF(ISNUMBER((H13-W13+K13)/(F13)),(H13-W13+K13)/(F13)," - ") -> - | AR13: =IF(ISNUMBER((Datos!P13-Datos!Q13)/(Datos!R13-Datos!P13+Datos!Q13)),(Datos!P13-Datos!Q13)/(Datos!R13-Datos!P13+Datos!Q13)," - ") -> 0.014180025 | AS13: =SUBTOTAL(9,AS8:AS12) -> 0 | AT13: =SUBTOTAL(9,AT8:AT12) -> 0 | AU13: =SUBTOTAL(9,AU8:AU12) -> 0 | AV13: =SUBTOTAL(9,AV8:AV12) -> 0 | AW13: =SUBTOTAL(9,AW8:AW12) -> 0 | AY13: =SUBTOTAL(9,AY8:AY12) -> 0 | AZ13: =SUBTOTAL(9,AZ8:AZ12) -> #VALUE! | BF13: =SUM(BF8:BF12) -> 0 | BG13: =SUM(BG8:BG12) -> 0 | BH13: =SUM(BH8:BH12) -> 0 | BI13: =SUM(BI8:BI12) -> 0 | BJ13: =SUM(BJ8:BJ12) -> 0 | BK13: =SUM(BK8:BK12) -> 0 | BL13: =SUM(BL8:BL12) -> 0 | BM13: =SUM(BM8:BM12) -> 0
C14: =Datos!A14 -> Jurisdicción Penal ( 2 ):
A15: =Datos!AO15 -> 0 | B15: P | C15: =Datos!A15 -> Seccion Instruccion Del T.I. | E15: =IF(ISNUMBER(Datos!AQ15),Datos!AQ15," - ") -> 0 | F15: =IF(ISNUMBER(AA15+W15-Datos!J15-K15),AA15+W15-Datos!J15-K15," - ") -> - | G15: =IF(ISNUMBER(IF(D_I="SI",Datos!I15,Datos!I15+Datos!AC15)),IF(D_I="SI",Datos!I15,Datos!I15+Datos!AC15)," - ") -> - | H15: =IF(ISNUMBER(Datos!DB15),Datos!DB15," - ") -> - | I15: =IF(ISNUMBER(Datos!DC15),Datos!DC15," - ") -> - | J15: =IF(ISNUMBER(Datos!DD15),Datos!DD15," - ") -> - | K15: =IF(ISNUMBER(Datos!DF15),Datos!DF15,0) -> 0 | L15: =IF(ISNUMBER(Datos!P15),Datos!P15,0) -> 0 | M15: =IF(ISNUMBER(Datos!DE15),Datos!DE15," - ") -> - | N15: =IF(ISNUMBER(H15),H15," - ") -> - | P15: =IF(ISNUMBER((N15)/((BL15+BM15)/2)),(N15)/((BL15+BM15)/2)," - ") -> - | Q15: =IF(ISNUMBER((N15)/((BL15+BM15)/2)),(N15)/((BL15+BM15)/2)," - ") -> - | R15: =IF(ISNUMBER(Datos!CB15),Datos!CB15," - ") -> - | S15: =IF(ISNUMBER(Datos!BY15+Datos!BZ15*1.16),Datos!BY15+Datos!BZ15*1.16," - ") -> 0 | T15: =IF(ISNUMBER((S15*factor_trimestre)/DatosB!CN15),(S15*factor_trimestre)/DatosB!CN15,"-") -> 0 | V15: =IF(ISNUMBER((U15*factor_trimestre)/DatosB!CN15),(U15*factor_trimestre)/DatosB!CN15,"-") -> 0 | W15: =IF(ISNUMBER(IF(D_I="SI",Datos!K15,Datos!K15+Datos!AE15)),IF(D_I="SI",Datos!K15,Datos!K15+Datos!AE15)," - ") -> - | X15: =IF(ISNUMBER(Datos!Q15),Datos!Q15," - ") -> - | Y15: =SUM(W15) -> 0 | Z15: =IF(ISNUMBER(Datos!CC15),Datos!CC15," - ") -> - | AA15: =IF(ISNUMBER(IF(D_I="SI",Datos!L15,Datos!L15+Datos!AF15)),IF(D_I="SI",Datos!L15,Datos!L15+Datos!AF15)," - ") -> - | AB15: =IF(ISNUMBER(Datos!R15),Datos!R15," - ") -> - | AC15: =IF(ISNUMBER(AA15+AB15),AA15+AB15," - ") -> - | AD15: =IF(ISNUMBER(Datos!CD15),Datos!CD15," - ") -> - | AE15: =IF(ISNUMBER(Datos!BV15),Datos!BV15," - ") -> - | AF15: =IF(ISNUMBER(Datos!CK15),Datos!CK15," - ") -> - | AG15: =IF(ISNUMBER(Datos!CL15),Datos!CL15," - ") -> - | AH15: =IF(ISNUMBER(Datos!CM15),Datos!CM15," - ") -> - | AI15: =IF(ISNUMBER(Datos!M15),Datos!M15," - ") -> - | AJ15: =IF(ISNUMBER(Datos!BW15),Datos!BW15," - ") -> - | AK15: =IF(ISNUMBER(Datos!BX15),Datos!BX15," - ") -> - | AL15: =IF(ISNUMBER(NºAsuntos!G15/NºAsuntos!E15),NºAsuntos!G15/NºAsuntos!E15," - ") -> - | AM15: =IF(ISNUMBER(((NºAsuntos!I15/NºAsuntos!G15)*11)/factor_trimestre),((NºAsuntos!I15/NºAsuntos!G15)*11)/factor_trimestre," - ") -> - | AN15: =IF(ISNUMBER('Resol Asuntos'!D15/NºAsuntos!G15),'Resol Asuntos'!D15/NºAsuntos!G15," - ") -> - | AO15: =IF(ISNUMBER((NºAsuntos!C15+NºAsuntos!E15)/NºAsuntos!G15),(NºAsuntos!C15+NºAsuntos!E15)/NºAsuntos!G15," - ") -> - | AP15: =IF(ISNUMBER(AT15/AU15),AT15/AU15," - ") -> - | AQ15: =IF(ISNUMBER((I15-W15+K15)/(F15)),(I15-W15+K15)/(F15)," - ") -> - | AR15: =IF(ISNUMBER((Datos!P15-Datos!Q15+M15)/(Datos!R15-Datos!P15+Datos!Q15-M15)),(Datos!P15-Datos!Q15+M15)/(Datos!R15-Datos!P15+Datos!Q15-M15)," - ") -> - | AS15: =IF(ISNUMBER(Datos!CS15),Datos!CS15," - ") -> - | AT15: =IF(ISNUMBER(Datos!CI15),Datos!CI15," - ") -> - | AU15: =IF(ISNUMBER(Datos!CJ15),Datos!CJ15," - ") -> - | AV15: =IF(ISNUMBER(Datos!CW15),Datos!CW15," - ") -> - | AW15: =IF(ISNUMBER(Datos!EV15),Datos!EV15," - ") -> - | AX15: =IF(ISNUMBER(Datos!CX15)," - ",Datos!CX15) -> 0 | AY15: =IF(ISNUMBER(Datos!ET15),Datos!ET15," - ") -> - | AZ15: =(AY15/Datos!ER15)*factor_trimestre -> #VALUE! | BF15: =Datos!BN15/factor_trimestre -> 0 | BG15: =Datos!BO15/factor_trimestre -> 0 | BH15: =Datos!BP15/factor_trimestre -> 0 | BI15: =Datos!BQ15/factor_trimestre -> 0 | BJ15: =Datos!BR15/factor_trimestre -> 0 | BK15: =Datos!BS15/factor_trimestre -> 0 | BL15: =Datos!BT15/factor_trimestre -> 0 | BM15: =Datos!BU15/factor_trimestre -> 0
A16: =Datos!AO16 -> 0 | B16: P | C16: =Datos!A16 -> Seccion de Violencia contra la infancia y la adol. | E16: =IF(ISNUMBER(Datos!AQ16),Datos!AQ16," - ") -> 0 | F16: =IF(ISNUMBER(AA16+W16-Datos!J16-K16),AA16+W16-Datos!J16-K16," - ") -> - | G16: =IF(ISNUMBER(IF(D_I="SI",Datos!I16,Datos!I16+Datos!AC16)),IF(D_I="SI",Datos!I16,Datos!I16+Datos!AC16)," - ") -> - | H16: =IF(ISNUMBER(Datos!DB16),Datos!DB16," - ") -> - | I16: =IF(ISNUMBER(Datos!DC16),Datos!DC16," - ") -> - | J16: =IF(ISNUMBER(Datos!DD16),Datos!DD16," - ") -> - | K16: =IF(ISNUMBER(Datos!DF16),Datos!DF16,0) -> 0 | L16: =IF(ISNUMBER(Datos!P16),Datos!P16,0) -> 0 | M16: =IF(ISNUMBER(Datos!DE16),Datos!DE16," - ") -> - | N16: =IF(ISNUMBER(H16),H16," - ") -> - | P16: =IF(ISNUMBER((N16)/((BL16+BM16)/2)),(N16)/((BL16+BM16)/2)," - ") -> - | Q16: =IF(ISNUMBER((N16)/((BL16+BM16)/2)),(N16)/((BL16+BM16)/2)," - ") -> - | R16: =IF(ISNUMBER(Datos!CB16),Datos!CB16," - ") -> - | S16: =IF(ISNUMBER(Datos!BY16+Datos!BZ16*1.16),Datos!BY16+Datos!BZ16*1.16," - ") -> 0 | T16: =IF(ISNUMBER((S16*factor_trimestre)/DatosB!CN16),(S16*factor_trimestre)/DatosB!CN16,"-") -> 0 | V16: =IF(ISNUMBER((U16*factor_trimestre)/DatosB!CN16),(U16*factor_trimestre)/DatosB!CN16,"-") -> 0 | W16: =IF(ISNUMBER(IF(D_I="SI",Datos!K16,Datos!K16+Datos!AE16)),IF(D_I="SI",Datos!K16,Datos!K16+Datos!AE16)," - ") -> - | X16: =IF(ISNUMBER(Datos!Q16),Datos!Q16," - ") -> - | Y16: =SUM(W16) -> 0 | Z16: =IF(ISNUMBER(Datos!CC16),Datos!CC16," - ") -> - | AA16: =IF(ISNUMBER(IF(D_I="SI",Datos!L16,Datos!L16+Datos!AF16)),IF(D_I="SI",Datos!L16,Datos!L16+Datos!AF16)," - ") -> - | AB16: =IF(ISNUMBER(Datos!R16),Datos!R16," - ") -> - | AC16: =IF(ISNUMBER(AA16+AB16),AA16+AB16," - ") -> - | AD16: =IF(ISNUMBER(Datos!CD16),Datos!CD16," - ") -> - | AE16: =IF(ISNUMBER(Datos!BV16),Datos!BV16," - ") -> - | AF16: =IF(ISNUMBER(Datos!CK16),Datos!CK16," - ") -> - | AG16: =IF(ISNUMBER(Datos!CL16),Datos!CL16," - ") -> - | AH16: =IF(ISNUMBER(Datos!CM16),Datos!CM16," - ") -> - | AI16: =IF(ISNUMBER(Datos!M16),Datos!M16," - ") -> - | AJ16: =IF(ISNUMBER(Datos!BW16),Datos!BW16," - ") -> - | AK16: =IF(ISNUMBER(Datos!BX16),Datos!BX16," - ") -> - | AL16: =IF(ISNUMBER(NºAsuntos!G16/NºAsuntos!E16),NºAsuntos!G16/NºAsuntos!E16," - ") -> - | AM16: =IF(ISNUMBER(((NºAsuntos!I16/NºAsuntos!G16)*11)/factor_trimestre),((NºAsuntos!I16/NºAsuntos!G16)*11)/factor_trimestre," - ") -> - | AN16: =IF(ISNUMBER('Resol Asuntos'!D16/NºAsuntos!G16),'Resol Asuntos'!D16/NºAsuntos!G16," - ") -> - | AO16: =IF(ISNUMBER((NºAsuntos!C16+NºAsuntos!E16)/NºAsuntos!G16),(NºAsuntos!C16+NºAsuntos!E16)/NºAsuntos!G16," - ") -> - | AP16: =IF(ISNUMBER(AT16/AU16),AT16/AU16," - ") -> - | AQ16: =IF(ISNUMBER((I16-W16+K16)/(F16)),(I16-W16+K16)/(F16)," - ") -> - | AR16: =IF(ISNUMBER((Datos!P16-Datos!Q16+M16)/(Datos!R16-Datos!P16+Datos!Q16-M16)),(Datos!P16-Datos!Q16+M16)/(Datos!R16-Datos!P16+Datos!Q16-M16)," - ") -> - | AS16: =IF(ISNUMBER(Datos!CS16),Datos!CS16," - ") -> - | AT16: =IF(ISNUMBER(Datos!CI16),Datos!CI16," - ") -> - | AU16: =IF(ISNUMBER(Datos!CJ16),Datos!CJ16," - ") -> - | AV16: =IF(ISNUMBER(Datos!CW16),Datos!CW16," - ") -> - | AW16: =IF(ISNUMBER(Datos!EV16),Datos!EV16," - ") -> - | AX16: =IF(ISNUMBER(Datos!CX16)," - ",Datos!CX16) -> 0 | AY16: =IF(ISNUMBER(Datos!ET16),Datos!ET16," - ") -> - | AZ16: =(AY16/Datos!ER16)*factor_trimestre -> #VALUE! | BF16: =Datos!BN16/factor_trimestre -> 0 | BG16: =Datos!BO16/factor_trimestre -> 0 | BH16: =Datos!BP16/factor_trimestre -> 0 | BI16: =Datos!BQ16/factor_trimestre -> 0 | BJ16: =Datos!BR16/factor_trimestre -> 0 | BK16: =Datos!BS16/factor_trimestre -> 0 | BL16: =Datos!BT16/factor_trimestre -> 0 | BM16: =Datos!BU16/factor_trimestre -> 0
A17: =Datos!AO17 -> 4 | B17: P | C17: =Datos!A17 -> Sección Civil y de Inst. TI | E17: =IF(ISNUMBER(Datos!AQ17),Datos!AQ17," - ") -> 4 | F17: =IF(ISNUMBER(AA17+W17-Datos!J17-K17),AA17+W17-Datos!J17-K17," - ") -> 1634 | G17: =IF(ISNUMBER(IF(D_I="SI",Datos!I17,Datos!I17+Datos!AC17)),IF(D_I="SI",Datos!I17,Datos!I17+Datos!AC17)," - ") -> 1564 | H17: =IF(ISNUMBER(Datos!DB17),Datos!DB17," - ") -> - | I17: =IF(ISNUMBER(Datos!DC17),Datos!DC17," - ") -> - | J17: =IF(ISNUMBER(Datos!DD17),Datos!DD17," - ") -> - | K17: =IF(ISNUMBER(Datos!DF17),Datos!DF17,0) -> 0 | L17: =IF(ISNUMBER(Datos!P17),Datos!P17,0) -> 58 | M17: =IF(ISNUMBER(Datos!DE17),Datos!DE17," - ") -> - | N17: =IF(ISNUMBER(H17),H17," - ") -> - | O17: =IF(ISNUMBER(INDIRECT("N"&ROW()+salto-1)),N17+(INDIRECT("N"&ROW()+salto-1))/9.15,N17/9.15+(INDIRECT("N"&ROW()-salto+1))) -> #VALUE! | P17: =IF(ISNUMBER((N17)/((BF17+BG17)/2)),(N17)/((BF17+BG17)/2)," - ") -> - | Q17: =IF(jurisdiccion="Jurisdicción Civil y Penal",IF(ISNUMBER((O17)/((BL17+BM17)/2)),(O17)/((BL17+BM17)/2)," - "),IF(ISNUMBER((N17)/((BF17+BG17)/2)),(N17)/((BF17+BG17)/2)," - ")) -> - | R17: =IF(ISNUMBER(Datos!CB17),Datos!CB17," - ") -> - | S17: =IF(ISNUMBER(Datos!BY17),Datos!BY17," - ") -> - | T17: =IF(ISNUMBER((S17*factor_trimestre)/DatosB!CN17),(S17*factor_trimestre)/DatosB!CN17,"-") -> - | U17: =IF(ISNUMBER(INDIRECT("S"&ROW()+salto-1)),S17+(INDIRECT("S"&ROW()+salto-1)),S17+(INDIRECT("S"&ROW()-salto+1))) -> #VALUE! | V17: =IF(ISNUMBER((U17*factor_trimestre)/DatosB!CN17),(U17*factor_trimestre)/DatosB!CN17,"-") -> - | W17: =IF(ISNUMBER(IF(D_I="SI",Datos!K17,Datos!K17+Datos!AE17)),IF(D_I="SI",Datos!K17,Datos!K17+Datos!AE17)," - ") -> 1203 | X17: =IF(ISNUMBER(Datos!Q17),Datos!Q17," - ") -> 34 | Y17: =SUM(W17:X17) -> 1237 | Z17: =IF(ISNUMBER(Datos!CC17),Datos!CC17," - ") -> - | AA17: =IF(ISNUMBER(IF(D_I="SI",Datos!L17,Datos!L17+Datos!AF17)),IF(D_I="SI",Datos!L17,Datos!L17+Datos!AF17)," - ") -> 1616 | AB17: =IF(ISNUMBER(Datos!R17),Datos!R17," - ") -> 392 | AC17: =IF(ISNUMBER(AA17+AB17),AA17+AB17," - ") -> 2008 | AD17: =IF(ISNUMBER(Datos!CD17),Datos!CD17," - ") -> - | AE17: =IF(ISNUMBER(Datos!BV17),Datos!BV17," - ") -> - | AF17: =IF(ISNUMBER(Datos!CK17),Datos!CK17," - ") -> - | AG17: =IF(ISNUMBER(Datos!CL17),Datos!CL17," - ") -> - | AH17: =IF(ISNUMBER(Datos!CM17),Datos!CM17," - ") -> - | AI17: =IF(ISNUMBER(Datos!M17),Datos!M17," - ") -> 150 | AJ17: =IF(ISNUMBER(Datos!BW17),Datos!BW17," - ") -> - | AK17: =IF(ISNUMBER(Datos!BX17),Datos!BX17," - ") -> - | AL17: =IF(ISNUMBER(NºAsuntos!G17/NºAsuntos!E17),NºAsuntos!G17/NºAsuntos!E17," - ") -> 1.0151899 | AM17: =IF(ISNUMBER(((NºAsuntos!I17/NºAsuntos!G17)*11)/factor_trimestre),((NºAsuntos!I17/NºAsuntos!G17)*11)/factor_trimestre," - ") -> 4.0299252 | AN17: =IF(ISNUMBER('Resol Asuntos'!D17/NºAsuntos!G17),'Resol Asuntos'!D17/NºAsuntos!G17," - ") -> 0.12468828 | AO17: =IF(ISNUMBER((NºAsuntos!C17+NºAsuntos!E17)/NºAsuntos!G17),(NºAsuntos!C17+NºAsuntos!E17)/NºAsuntos!G17," - ") -> 2.2851205 | AP17: =IF(ISNUMBER(AT17/AU17),AT17/AU17," - ") -> - | AQ17: =IF(ISNUMBER((I17-W17+K17)/(F17)),(I17-W17+K17)/(F17)," - ") -> - | AR17: =IF(ISNUMBER((Datos!P17-Datos!Q17+M17)/(Datos!R17-Datos!P17+Datos!Q17-M17)),(Datos!P17-Datos!Q17+M17)/(Datos!R17-Datos!P17+Datos!Q17-M17)," - ") -> - | AS17: =IF(ISNUMBER(Datos!CS17),Datos!CS17," - ") -> - | AT17: =IF(ISNUMBER(Datos!CI17),Datos!CI17," - ") -> - | AU17: =IF(ISNUMBER(Datos!CJ17),Datos!CJ17," - ") -> - | AV17: =IF(ISNUMBER(Datos!CW17),Datos!CW17," - ") -> - | AW17: =IF(ISNUMBER(Datos!EV17),Datos!EV17," - ") -> - | AX17: =IF(ISNUMBER(Datos!CX17)," - ",Datos!CX17) -> 0 | AY17: =IF(ISNUMBER(Datos!ET17),Datos!ET17," - ") -> - | AZ17: =(AY17/Datos!ER17)*factor_trimestre -> #VALUE! | BF17: =Datos!BN17/factor_trimestre -> 0 | BG17: =Datos!BO17/factor_trimestre -> 0 | BH17: =Datos!BP17/factor_trimestre -> 0 | BI17: =Datos!BQ17/factor_trimestre -> 0 | BJ17: =Datos!BR17/factor_trimestre -> 0 | BK17: =Datos!BS17/factor_trimestre -> 0 | BL17: =Datos!BT17/factor_trimestre -> 0 | BM17: =Datos!BU17/factor_trimestre -> 0
A18: =Datos!AO18 -> 1 | B18: P | C18: =Datos!A18 -> Sección De Violencia sobre la Mujer del TI | E18: =IF(ISNUMBER(Datos!AQ18),Datos!AQ18," - ") -> 0 | F18: =IF(ISNUMBER(AA18+W18-H18-K18),AA18+W18-H18-K18," - ") -> - | G18: =IF(ISNUMBER(IF(D_I="SI",Datos!I18,Datos!I18+Datos!AC18)),IF(D_I="SI",Datos!I18,Datos!I18+Datos!AC18)," - ") -> 73 | H18: =IF(ISNUMBER(Datos!DB18),Datos!DB18," - ") -> - | I18: =IF(ISNUMBER(Datos!DC18),Datos!DC18," - ") -> - | J18: =IF(ISNUMBER(Datos!DD18),Datos!DD18," - ") -> - | K18: =IF(ISNUMBER(Datos!DF18),Datos!DF18,0) -> 0 | L18: =IF(ISNUMBER(Datos!P18),Datos!P18,0) -> 0 | M18: =IF(ISNUMBER(Datos!DE18),Datos!DE18," - ") -> - | N18: =IF(ISNUMBER(H18),H18," - ") -> - | O18: =IF(ISNUMBER(INDIRECT("N"&ROW()+salto-1)),N18+(INDIRECT("N"&ROW()+salto-1)),N18+(INDIRECT("N"&ROW()-salto+1))) -> #VALUE! | P18: =IF(ISNUMBER((N18)/((BL18+BM18)/2)),(N18)/((BL18+BM18)/2)," - ") -> - | Q18: =IF(jurisdiccion="Jurisdicción Civil y Penal",IF(ISNUMBER((O18)/((BL18+BM18)/2)),(O18)/((BL18+BM18)/2)," - "),IF(ISNUMBER((N18)/((BF18+BG18)/2)),(N18)/((BF18+BG18)/2)," - ")) -> - | R18: =IF(ISNUMBER(Datos!CB18),Datos!CB18," - ") -> - | S18: =IF(ISNUMBER(Datos!BY18+Datos!BZ18),Datos!BY18+Datos!BZ18," - ") -> - | T18: =IF(ISNUMBER((S18*factor_trimestre)/DatosB!CN18),(S18*factor_trimestre)/DatosB!CN18,"-") -> - | U18: =IF(ISNUMBER(INDIRECT("S"&ROW()+salto-1)),S18+(INDIRECT("S"&ROW()+salto-1)),S18+(INDIRECT("S"&ROW()-salto+1))) -> #VALUE! | V18: =IF(ISNUMBER((U18*factor_trimestre)/DatosB!CN18),(U18*factor_trimestre)/DatosB!CN18,"-") -> - | W18: =IF(ISNUMBER(IF(D_I="SI",Datos!K18,Datos!K18+Datos!AE18)),IF(D_I="SI",Datos!K18,Datos!K18+Datos!AE18)," - ") -> 3 | X18: =IF(ISNUMBER(Datos!Q18),Datos!Q18," - ") -> 0 | Y18: =SUM(W18:X18) -> 3 | Z18: =IF(ISNUMBER(Datos!CC18),Datos!CC18," - ") -> - | AA18: =IF(ISNUMBER(Datos!L18),Datos!L18,"-") -> 70 | AB18: =IF(ISNUMBER(Datos!R18),Datos!R18," - ") -> 0 | AC18: =IF(ISNUMBER(AA18+AB18),AA18+AB18," - ") -> 70 | AD18: =IF(ISNUMBER(Datos!CD18),Datos!CD18," - ") -> - | AE18: =IF(ISNUMBER(Datos!BV18),Datos!BV18," - ") -> - | AF18: =IF(ISNUMBER(Datos!CK18),Datos!CK18," - ") -> - | AG18: =IF(ISNUMBER(Datos!CL18),Datos!CL18," - ") -> - | AH18: =IF(ISNUMBER(Datos!CM18),Datos!CM18," - ") -> - | AI18: =IF(ISNUMBER(Datos!M18),Datos!M18," - ") -> 0 | AJ18: =IF(ISNUMBER(Datos!BW18),Datos!BW18," - ") -> - | AK18: =IF(ISNUMBER(Datos!BX18),Datos!BX18," - ") -> - | AL18: =IF(ISNUMBER(NºAsuntos!G18/NºAsuntos!E18),NºAsuntos!G18/NºAsuntos!E18," - ") -> - | AM18: =IF(ISNUMBER(((NºAsuntos!I18/NºAsuntos!G18)*11)/factor_trimestre),((NºAsuntos!I18/NºAsuntos!G18)*11)/factor_trimestre," - ") -> 70 | AN18: =IF(ISNUMBER('Resol Asuntos'!D18/NºAsuntos!G18),'Resol Asuntos'!D18/NºAsuntos!G18," - ") -> 0 | AO18: =IF(ISNUMBER((NºAsuntos!C18+NºAsuntos!E18)/NºAsuntos!G18),(NºAsuntos!C18+NºAsuntos!E18)/NºAsuntos!G18," - ") -> 24.333333 | AP18: =IF(ISNUMBER(AT18/AU18),AT18/AU18," - ") -> - | AQ18: =IF(ISNUMBER((H18-W18+K18)/(F18)),(H18-W18+K18)/(F18)," - ") -> - | AR18: =IF(ISNUMBER((Datos!P18-Datos!Q18+M18)/(Datos!R18-Datos!P18+Datos!Q18-M18)),(Datos!P18-Datos!Q18+M18)/(Datos!R18-Datos!P18+Datos!Q18-M18)," - ") -> - | AS18: =IF(ISNUMBER(Datos!CS18),Datos!CS18," - ") -> - | AT18: =IF(ISNUMBER(Datos!CI18),Datos!CI18," - ") -> - | AU18: =IF(ISNUMBER(Datos!CJ18),Datos!CJ18," - ") -> - | AV18: =IF(ISNUMBER(Datos!CW18),Datos!CW18," - ") -> - | AW18: =IF(ISNUMBER(Datos!EV18),Datos!EV18," - ") -> - | AX18: =IF(ISNUMBER(Datos!CX18)," - ",Datos!CX18) -> 0 | AY18: =IF(ISNUMBER(Datos!EO18),Datos!EO18," - ") -> - | AZ18: =(AY18/Datos!ER18)*factor_trimestre -> #VALUE! | BF18: =Datos!BN18/factor_trimestre -> 0 | BG18: =Datos!BO18/factor_trimestre -> 0 | BH18: =Datos!BP18/factor_trimestre -> 0 | BI18: =Datos!BQ18/factor_trimestre -> 0 | BJ18: =Datos!BR18/factor_trimestre -> 0 | BK18: =Datos!BS18/factor_trimestre -> 0 | BL18: =Datos!BT18/factor_trimestre -> 0 | BM18: =Datos!BU18/factor_trimestre -> 0
C19: =Datos!A19 -> TOTAL | E19: =SUBTOTAL(9,E14:E18) -> 4 | F19: =SUBTOTAL(9,F14:F18) -> 1634 | G19: =SUBTOTAL(9,G15:G18) -> 1637 | H19: =SUBTOTAL(9,H14:H18) -> 0 | I19: =SUBTOTAL(9,I14:I18) -> 0 | J19: =SUBTOTAL(9,J14:J18) -> 0 | K19: =SUBTOTAL(9,K14:K18) -> 0 | L19: =SUBTOTAL(9,L14:L18) -> 58 | M19: =SUBTOTAL(9,M14:M18) -> 0 | N19: =SUBTOTAL(9,N14:N18) -> 0 | O19: =SUBTOTAL(9,O14:O18) -> #VALUE! | Q19: =IF(ISNUMBER((N19*factor_trimestre)/((Datos!BT19+Datos!BU19)/2)),(N19*factor_trimestre)/((Datos!BT19+Datos!BU19)/2)," - ") -> - | R19: =SUBTOTAL(9,R14:R18) -> 0 | S19: =SUBTOTAL(9,S14:S18) -> 0 | T19: =IF(ISNUMBER((S19*factor_trimestre)/DatosB!BM19),(S19*factor_trimestre)/DatosB!BM19,"-") -> 0 | U19: =SUBTOTAL(9,U14:U18) -> #VALUE! | V19: =IF(ISNUMBER((U19*factor_trimestre)/DatosB!CN19),(U19*factor_trimestre)/DatosB!CN19,"-") -> - | W19: =SUBTOTAL(9,W14:W18) -> 1206 | X19: =SUBTOTAL(9,X14:X18) -> 34 | Y19: =SUBTOTAL(9,Y14:Y18) -> 1240 | Z19: =SUBTOTAL(9,Z14:Z18) -> 0 | AA19: =SUBTOTAL(9,AA14:AA18) -> 1686 | AB19: =SUBTOTAL(9,AB14:AB18) -> 392 | AC19: =SUBTOTAL(9,AC14:AC18) -> 2078 | AD19: =SUBTOTAL(9,AD14:AD18) -> 0 | ... AK19: =SUBTOTAL(9,AK14:AK18) -> 0 | AL19: =IF(ISNUMBER(NºAsuntos!G19/NºAsuntos!E19),NºAsuntos!G19/NºAsuntos!E19," - ") -> 1.0177215 | AM19: =IF(ISNUMBER(((NºAsuntos!I19/NºAsuntos!G19)*11)/factor_trimestre),((NºAsuntos!I19/NºAsuntos!G19)*11)/factor_trimestre," - ") -> 4.1940299 | AN19: =IF(ISNUMBER('Resol Asuntos'!D19/NºAsuntos!G19),'Resol Asuntos'!D19/NºAsuntos!G19," - ") -> 0.12437811 | AO19: =IF(ISNUMBER((NºAsuntos!C19+NºAsuntos!E19)/NºAsuntos!G19),(NºAsuntos!C19+NºAsuntos!E19)/NºAsuntos!G19," - ") -> 2.3399668 | AP19: =IF(ISNUMBER(AT19/AU19),AT19/AU19," - ") -> - | AQ19: =IF(ISNUMBER((H19-W19+K19)/(F19)),(H19-W19+K19)/(F19)," - ") -> -0.7380661 | AR19: =IF(ISNUMBER((Datos!P19-Datos!Q19)/(Datos!R19-Datos!P19+Datos!Q19)),(Datos!P19-Datos!Q19)/(Datos!R19-Datos!P19+Datos!Q19)," - ") -> 0.065217391 | AS19: =SUBTOTAL(9,AS14:AS18) -> 0 | AT19: =SUBTOTAL(9,AT14:AT18) -> 0 | AU19: =SUBTOTAL(9,AU14:AU18) -> 0 | AV19: =SUBTOTAL(9,AV14:AV18) -> 0 | AW19: =SUBTOTAL(9,AW14:AW18) -> 0 | AY19: =SUBTOTAL(9,AY14:AY18) -> 0 | AZ19: =SUBTOTAL(9,AZ14:AZ18) -> #VALUE! | BF19: =SUM(BF14:BF18) -> 0 | BG19: =SUM(BG14:BG18) -> 0 | BH19: =SUM(BH14:BH18) -> 0 | BI19: =SUM(BI14:BI18) -> 0 | BJ19: =SUM(BJ14:BJ18) -> 0 | BK19: =SUM(BK14:BK18) -> 0 | BL19: =SUM(BL14:BL18) -> 0 | BM19: =SUM(BM14:BM18) -> 0
C20: =Datos!A20 -> TOTAL JURISDICCIONES | E20: =SUBTOTAL(9,E9:E19) -> 8 | F20: =SUBTOTAL(9,F9:F19) -> 1634 | G20: =SUBTOTAL(9,G9:G19) -> 1637 | H20: =SUBTOTAL(9,H9:H19) -> 0 | I20: =SUBTOTAL(9,I9:I19) -> 0 | J20: =SUBTOTAL(9,J9:J19) -> 0 | K20: =SUBTOTAL(9,K9:K19) -> 0 | L20: =SUBTOTAL(9,L9:L19) -> 341 | ... O20: =SUBTOTAL(9,O9:O19) -> #VALUE! | P20: =IF(ISNUMBER((N20*factor_trimestre)/((Datos!BT20+Datos!BU20)/2)),(N20*factor_trimestre)/((Datos!BT20+Datos!BU20)/2)," - ") -> - | Q20: =IF(ISNUMBER((N20*factor_trimestre)/((Datos!BT20+Datos!BU20)/2)),(N20*factor_trimestre)/((Datos!BT20+Datos!BU20)/2)," - ") -> - | R20: =SUBTOTAL(9,R9:R19) -> 0 | S20: =SUBTOTAL(9,S9:S19) -> 0 | T20: =IF(ISNUMBER((S20*factor_trimestre)/DatosB!CN20),(S20*factor_trimestre)/DatosB!CN20,"-") -> - | U20: =SUBTOTAL(9,U9:U19) -> #VALUE! | V20: =IF(ISNUMBER((U20*factor_trimestre)/DatosB!CN20),(U20*factor_trimestre)/DatosB!CN20,"-") -> - | W20: =SUBTOTAL(9,W9:W19) -> 1206 | X20: =SUBTOTAL(9,X9:X19) -> 225 | Y20: =SUBTOTAL(9,Y9:Y19) -> 1431 | Z20: =SUBTOTAL(9,Z9:Z19) -> 0 | AA20: =SUBTOTAL(9,AA9:AA19) -> 1686 | AB20: =SUBTOTAL(9,AB9:AB19) -> 6972 | AC20: =SUBTOTAL(9,AC9:AC19) -> 2078 | AD20: =SUBTOTAL(9,AD9:AD19) -> 0 | ... AK20: =SUBTOTAL(9,AK9:AK19) -> 0 | AL20: =IF(ISNUMBER(NºAsuntos!G20/NºAsuntos!E20),NºAsuntos!G20/NºAsuntos!E20," - ") -> 1.0945211 | AM20: =IF(ISNUMBER(((NºAsuntos!I20/NºAsuntos!G20)*11)/factor_trimestre),((NºAsuntos!I20/NºAsuntos!G20)*11)/factor_trimestre," - ") -> 7.0087887 | AN20: =IF(ISNUMBER('Resol Asuntos'!D20/NºAsuntos!G20),'Resol Asuntos'!D20/NºAsuntos!G20," - ") -> 0.17462744 | AO20: =IF(ISNUMBER((NºAsuntos!C20+NºAsuntos!E20)/NºAsuntos!G20),(NºAsuntos!C20+NºAsuntos!E20)/NºAsuntos!G20," - ") -> 3.3095147 | AP20: =IF(ISNUMBER(AT20/AU20),AT20/AU20," - ") -> - | AQ20: =IF(OR(ISNUMBER(FIND("01",Criterios!A8,1)),ISNUMBER(FIND("02",Criterios!A8,1)),ISNUMBER(FIND("03",Criterios!A8,1)),ISNUMBER(FIND("04",Criterios!A8,1))),(I20-W20+K20)/(F20-K20),(H20-W20+K20)/(F20-K20)) -> -0.7380661 | AR20: =IF(ISNUMBER((Datos!P20-Datos!Q20)/(Datos!R20-Datos!P20+Datos!Q20)),(Datos!P20-Datos!Q20)/(Datos!R20-Datos!P20+Datos!Q20)," - ") -> 0.016919487 | AS20: =SUBTOTAL(9,AS9:AS19) -> 0 | AT20: =SUBTOTAL(9,AT9:AT19) -> 0 | AU20: =SUBTOTAL(9,AU9:AU19) -> 0 | AV20: =SUBTOTAL(9,AV9:AV19) -> 0 | AW20: =SUBTOTAL(9,AW9:AW19) -> 0 | AY20: =SUBTOTAL(9,AY9:AY19) -> 0 | AZ20: =SUBTOTAL(9,AZ9:AZ19) -> #VALUE! | BF20: =SUM(BF9:BF19) -> 0 | BG20: =SUM(BG9:BG19) -> 0 | BH20: =SUM(BH9:BH19) -> 0 | BI20: =SUM(BI9:BI19) -> 0 | BJ20: =SUM(BJ9:BJ19) -> 0 | BK20: =SUM(BK9:BK19) -> 0 | BL20: =SUM(BL9:BL19) -> 0 | BM20: =SUM(BM9:BM19) -> 0
C21: MEDIA | E21: =IF(ISNUMBER(SUMIF($B8:$B19,$B21,E8:E19)/INDIRECT("Datos!AP"&ROW()-1)),SUMIF($B8:$B19,$B21,E8:E19)/INDIRECT("Datos!AP"&ROW()-1),"-") -> 0 | F21: =IF(ISNUMBER(SUMIF($B8:$B19,$B21,F8:F19)/INDIRECT("Datos!AP"&ROW()-1)),SUMIF($B8:$B19,$B21,F8:F19)/INDIRECT("Datos!AP"&ROW()-1),"-") -> 0 | G21: =IF(ISNUMBER(AVERAGE(G8:G19)),AVERAGE(G8:G19),"-") -> 654.8 | H21: =IF(ISNUMBER(SUMIF($B8:$B19,$B21,H8:H19)/INDIRECT("Datos!AP"&ROW()-1)),SUMIF($B8:$B19,$B21,H8:H19)/INDIRECT("Datos!AP"&ROW()-1),"-") -> 0 | I21: =IF(ISNUMBER(SUMIF($B8:$B19,$B21,I8:I19)/INDIRECT("Datos!AP"&ROW()-1)),SUMIF($B8:$B19,$B21,I8:I19)/INDIRECT("Datos!AP"&ROW()-1),"-") -> 0 | J21: =IF(ISNUMBER(SUMIF($B8:$B19,$B21,J8:J19)/INDIRECT("Datos!AP"&ROW()-1)),SUMIF($B8:$B19,$B21,J8:J19)/INDIRECT("Datos!AP"&ROW()-1),"-") -> 0 | K21: =IF(ISNUMBER(SUMIF($B8:$B19,$B21,K8:K19)/INDIRECT("Datos!AP"&ROW()-1)),SUMIF($B8:$B19,$B21,K8:K19)/INDIRECT("Datos!AP"&ROW()-1),"-") -> 0 | L21: =IF(ISNUMBER(SUMIF($B8:$B19,$B21,L8:L19)/INDIRECT("Datos!AP"&ROW()-1)),SUMIF($B8:$B19,$B21,L8:L19)/INDIRECT("Datos!AP"&ROW()-1),"-") -> 0 | M21: =IF(ISNUMBER(SUMIF($B8:$B19,$B21,M8:M19)/INDIRECT("Datos!AP"&ROW()-1)),SUMIF($B8:$B19,$B21,M8:M19)/INDIRECT("Datos!AP"&ROW()-1),"-") -> 0 | N21: =IF(ISNUMBER(SUMIF($B8:$B19,$B21,N8:N19)/INDIRECT("Datos!AP"&ROW()-1)),SUMIF($B8:$B19,$B21,N8:N19)/INDIRECT("Datos!AP"&ROW()-1),"-") -> 0 | O21: =IF(ISNUMBER(SUMIF($B8:$B19,$B21,O8:O19)/INDIRECT("Datos!AP"&ROW()-1)),SUMIF($B8:$B19,$B21,O8:O19)/INDIRECT("Datos!AP"&ROW()-1),"-") -> 0 | ... AO21: =IF(ISNUMBER(SUMIF($B8:$B19,$B21,AO8:AO19)/INDIRECT("Datos!AP"&ROW()-1)),SUMIF($B8:$B19,$B21,AO8:AO19)/INDIRECT("Datos!AP"&ROW()-1),"-") -> 0 | AP21: =IF(ISNUMBER(AT21/AU21),AT21/AU21," - ") -> - | AQ21: =IF(OR(ISNUMBER(FIND("01",Criterios!A8,1)),ISNUMBER(FIND("02",Criterios!A8,1)),ISNUMBER(FIND("03",Criterios!A8,1)),ISNUMBER(FIND("04",Criterios!A8,1))),(I21-W21+K21)/(F21-K21),(H21-W21+K21)/(F21-K21)) -> #DIV/0! | AR21: =IF(ISNUMBER(SUMIF($B8:$B19,$B21,AR8:AR19)/INDIRECT("Datos!AP"&ROW()-1)),SUMIF($B8:$B19,$B21,AR8:AR19)/INDIRECT("Datos!AP"&ROW()-1),"-") -> 0 | AS21: =IF(ISNUMBER(SUMIF($B8:$B19,$B21,AS8:AS19)/INDIRECT("Datos!AP"&ROW()-1)),SUMIF($B8:$B19,$B21,AS8:AS19)/INDIRECT("Datos!AP"&ROW()-1),"-") -> 0 | AT21: =IF(ISNUMBER(SUMIF($B8:$B19,$B21,AT8:AT19)/INDIRECT("Datos!AP"&ROW()-1)),SUMIF($B8:$B19,$B21,AT8:AT19)/INDIRECT("Datos!AP"&ROW()-1),"-") -> 0 | AU21: =IF(ISNUMBER(SUMIF($B8:$B19,$B21,AU8:AU19)/INDIRECT("Datos!AP"&ROW()-1)),SUMIF($B8:$B19,$B21,AU8:AU19)/INDIRECT("Datos!AP"&ROW()-1),"-") -> 0 | AV21: =IF(ISNUMBER(SUMIF($B8:$B19,$B21,AV8:AV19)/INDIRECT("Datos!AP"&ROW()-1)),SUMIF($B8:$B19,$B21,AV8:AV19)/INDIRECT("Datos!AP"&ROW()-1),"-") -> 0 | AW21: =IF(ISNUMBER(SUMIF($B8:$B19,$B21,AW8:AW19)/INDIRECT("Datos!AP"&ROW()-1)),SUMIF($B8:$B19,$B21,AW8:AW19)/INDIRECT("Datos!AP"&ROW()-1),"-") -> 0 | AY21: =IF(ISNUMBER(SUMIF($B8:$B19,$B21,AY8:AY19)/INDIRECT("Datos!AP"&ROW()-1)),SUMIF($B8:$B19,$B21,AY8:AY19)/INDIRECT("Datos!AP"&ROW()-1),"-") -> 0 | AZ21: =IF(ISNUMBER(SUMIF($B8:$B19,$B21,AZ8:AZ19)/INDIRECT("Datos!AP"&ROW()-1)),SUMIF($B8:$B19,$B21,AZ8:AZ19)/INDIRECT("Datos!AP"&ROW()-1),"-") -> 0
C22: DESVIACIÓN TÍPICA | E22: =IF(ISNUMBER(STDEV(E8:E19)),STDEV(E8:E19),"-") -> 2.0655911 | F22: =IF(ISNUMBER(STDEV(F8:F19)),STDEV(F8:F19),"-") -> 943.39034 | G22: =IF(ISNUMBER(STDEV(G8:G19)),STDEV(G8:G19),"-") -> 864.20177 | H22: =IF(ISNUMBER(STDEV(H8:H19)),STDEV(H8:H19),"-") -> 0 | I22: =IF(ISNUMBER(STDEV(I8:I19)),STDEV(I8:I19),"-") -> 0 | S22: =IF(ISNUMBER(STDEV(S8:S19)),STDEV(S8:S19),"-") -> 0 | T22: =IF(ISNUMBER(STDEV(T8:T19)),STDEV(T8:T19),"-") -> 0 | U22: =IF(ISNUMBER(STDEV(U8:U19)),STDEV(U8:U19),"-") -> - | W22: =IF(ISNUMBER(STDEV(W8:W19)),STDEV(W8:W19),"-") -> 659.18609 | AE22: =IF(ISNUMBER(STDEV(AE8:AE19)),STDEV(AE8:AE19),"-") -> 0 | AF22: =IF(ISNUMBER(STDEV(AF8:AF19)),STDEV(AF8:AF19),"-") -> 0 | AG22: =IF(ISNUMBER(STDEV(AG8:AG19)),STDEV(AG8:AG19),"-") -> 0 | AI22: =IF(ISNUMBER(STDEV(AI8:AI19)),STDEV(AI8:AI19),"-") -> 137.30647 | AJ22: =IF(ISNUMBER(STDEV(AJ8:AJ19)),STDEV(AJ8:AJ19),"-") -> 0 | AK22: =IF(ISNUMBER(STDEV(AK8:AK19)),STDEV(AK8:AK19),"-") -> 0 | AL22: =IF(ISNUMBER(STDEV(AL8:AL19)),STDEV(AL8:AL19),"-") -> 0.088645296 | AM22: =IF(ISNUMBER(STDEV(AM8:AM19)),STDEV(AM8:AM19),"-") -> 28.404386 | AN22: =IF(ISNUMBER(STDEV(AN8:AN19)),STDEV(AN8:AN19),"-") -> 0.089533251 | AO22: =IF(ISNUMBER(STDEV(AO8:AO19)),STDEV(AO8:AO19),"-") -> 9.4838199 | AP22: =IF(ISNUMBER(STDEV(AP8:AP19)),STDEV(AP8:AP19),"-") -> - | AQ22: =IF(ISNUMBER(STDEV(AQ8:AQ19)),STDEV(AQ8:AQ19),"-") -> - | AS22: =IF(ISNUMBER(STDEV(AS8:AS19)),STDEV(AS8:AS19),"-") -> 0 | AT22: =IF(ISNUMBER(STDEV(AT8:AT19)),STDEV(AT8:AT19),"-") -> 0 | AU22: =IF(ISNUMBER(STDEV(AU8:AU19)),STDEV(AU8:AU19),"-") -> 0 | AV22: =IF(ISNUMBER(STDEV(AV8:AV19)),STDEV(AV8:AV19),"-") -> 0 | AW22: =IF(ISNUMBER(STDEV(AW8:AW19)),STDEV(AW8:AW19),"-") -> 0 | AX22: =IF(ISNUMBER(STDEV(AX8:AX19)),STDEV(AX8:AX19),"-") -> 0
C26: Límite Superior | E26: =E24+2*E25 -> 0 | F26: =F24+2*F25 -> 0 | G26: =G24+2*G25 -> 0 | H26: =H24+2*H25 -> 0 | I26: =I24+2*I25 -> 0 | J26: =J24+2*J25 -> 0 | K26: =K24+2*K25 -> 0 | L26: =L24+2*L25 -> 0 | ... O26: =O24+2*O25 -> 0 | Q26: =Q24+2*Q25 -> 0 | R26: =R24+2*R25 -> 0 | S26: =S24+2*S25 -> 0 | T26: =T24+2*T25 -> 0 | U26: =U24+2*U25 -> 0 | W26: =W24+2*W25 -> 0 | X26: =X24+2*X25 -> 0 | Y26: =Y24+2*Y25 -> 0 | Z26: =Z24+2*Z25 -> 0 | AA26: =AA24+2*AA25 -> 0 | AB26: =AB24+2*AB25 -> 0 | AC26: =AC24+2*AC25 -> 0 | AD26: =AD24+2*AD25 -> 0 | ... AX26: =AX24+2*AX25 -> 0
C27: Límite Inferirior | E27: =MIN(0,E24-2*E25) -> 0 | F27: =MIN(0,F24-2*F25) -> 0 | G27: =MIN(0,G24-2*G25) -> 0 | H27: =MIN(0,H24-2*H25) -> 0 | I27: =MIN(0,I24-2*I25) -> 0 | J27: =MIN(0,J24-2*J25) -> 0 | K27: =MIN(0,K24-2*K25) -> 0 | L27: =MIN(0,L24-2*L25) -> 0 | ... O27: =MIN(0,O24-2*O25) -> 0 | Q27: =MIN(0,Q24-2*Q25) -> 0 | R27: =MIN(0,R24-2*R25) -> 0 | S27: =MIN(0,S24-2*S25) -> 0 | T27: =MIN(0,T24-2*T25) -> 0 | U27: =MIN(0,U24-2*U25) -> 0 | W27: =MIN(0,W24-2*W25) -> 0 | X27: =MIN(0,X24-2*X25) -> 0 | Y27: =MIN(0,Y24-2*Y25) -> 0 | Z27: =MIN(0,Z24-2*Z25) -> 0 | AA27: =MIN(0,AA24-2*AA25) -> 0 | AB27: =MIN(0,AB24-2*AB25) -> 0 | AC27: =MIN(0,AC24-2*AC25) -> 0 | AD27: =MIN(0,AD24-2*AD25) -> 0 | ... AX27: =MIN(0,AX24-2*AX25) -> 0
C31: =Criterios!A4 -> Fecha Informe: 06 oct. 2026

Sheet Evolucion
D2: =Criterios!A9 &" "&Criterios!B9 -> Tribunales de Justicia ANDALUCIA
D3: =Criterios!A10 &" "&Criterios!B10 -> Provincias GRANADA
D4: =Criterios!A11 &" "&Criterios!B11 -> Resumenes por Partidos Judiciales SANTA FE
C5: ="Año: " &Criterios!B5 & " Trimestre " &Criterios!D5 & " al " &Criterios!D6 -> Año: 2026 Trimestre 2 al 2 | D5: En Tramite Al Inicio Del Periodo | E5: Ingresados | F5: Resueltos | G5: En Tramite Al Final Del Periodo | H5: Sentencias | I5: Tasas Pendencia | J5: Tasas Sentencia | K5: Tasas Congestión | N5: monitorios año anterior | Q5: jurisdiccion voluntaria año anterior
M6: P inicio | N6: Ingresados año anterior | O6: Resuleltos año anterior | P6: al finalizar año anterior | Q6: P inicio | R6: Ingresados año anterior | S6: Resuleltos año anterior | T6: al finalizar año anterior
C7: =Datos!A7 -> COMPETENCIAS
C8: =Datos!A8 -> Jurisdicción Civil ( 1 ):
B9: C | C9: =Datos!A9 -> Sección Civil del T.I | D9: =IF(ISNUMBER((Indicadores!G9-(Datos!S9-M9+Q9))/(Datos!S9-M9+Q9)),(Indicadores!G9-(Datos!S9-M9+Q9))/(Datos!S9-M9+Q9)," - ") -> - | E9: =IF(ISNUMBER((Indicadores!H9-(Datos!T9-N9+R9))/(Datos!T9-N9+R9)),(Indicadores!H9-(Datos!T9-N9+R9))/(Datos!T9-N9+R9)," - ") -> - | F9: =IF(ISNUMBER((Indicadores!W9-(Datos!U9-O9+S9))/(Datos!U9-O9+S9)),(Indicadores!W9-(Datos!U9-O9+S9))/(Datos!U9-O9+S9)," - ") -> - | G9: =IF(ISNUMBER((Indicadores!AA9-(Datos!V9-P9+T9))/(Datos!V9-P9+T9)),(Indicadores!AA9-(Datos!V9-P9+T9))/(Datos!V9-P9+T9)," - ") -> - | H9: =IF(ISNUMBER((Datos!M9-Datos!W9)/Datos!W9),(Datos!M9-Datos!W9)/Datos!W9," - ") -> - | I9: =IF(ISNUMBER((Tasas!C9-Datos!BE9)/Datos!BE9),(Tasas!C9-Datos!BE9)/Datos!BE9," - ") -> - | J9: =IF(ISNUMBER((Tasas!D9-Datos!BF9)/Datos!BF9),(Tasas!D9-Datos!BF9)/Datos!BF9," - ") -> - | K9: =IF(ISNUMBER((Tasas!E9-Datos!BG9)/Datos!BG9),(Tasas!E9-Datos!BG9)/Datos!BG9," - ") -> - | M9: =IF(Monitorios="SI",Datos!CE9,0) -> #REF! | N9: =IF(Monitorios="SI",Datos!CF9,0) -> #REF! | O9: =IF(Monitorios="SI",Datos!CG9,0) -> #REF! | P9: =IF(Monitorios="SI",Datos!CH9,0) -> #REF! | Q9: =IF(J_V="SI",0,Datos!AG9) -> 0 | R9: =IF(J_V="SI",0,Datos!AH9) -> 0 | S9: =IF(J_V="SI",0,Datos!AI9) -> 0 | T9: =IF(J_V="SI",0,Datos!AJ9) -> 0
B10: C | C10: =Datos!A10 -> Sección De Violencia sobre la Mujer del TI | D10: =IF(ISNUMBER((Datos!I10-Datos!S10)/Datos!S10),(Datos!I10-Datos!S10)/Datos!S10," - ") -> -1 | E10: =IF(ISNUMBER((Datos!J10-Datos!T10)/Datos!T10),(Datos!J10-Datos!T10)/Datos!T10," - ") -> - | F10: =IF(ISNUMBER((Datos!K10-Datos!U10)/Datos!U10),(Datos!K10-Datos!U10)/Datos!U10," - ") -> -1 | G10: =IF(ISNUMBER((Datos!L10-Datos!V10)/Datos!V10),(Datos!L10-Datos!V10)/Datos!V10," - ") -> -1 | H10: =IF(ISNUMBER((Datos!M10-Datos!W10)/Datos!W10),(Datos!M10-Datos!W10)/Datos!W10," - ") -> -1 | I10: =IF(ISNUMBER((Tasas!C10-Datos!BE10)/Datos!BE10),(Tasas!C10-Datos!BE10)/Datos!BE10," - ") -> - | J10: =IF(ISNUMBER((Tasas!D10-Datos!BF10)/Datos!BF10),(Tasas!D10-Datos!BF10)/Datos!BF10," - ") -> - | K10: =IF(ISNUMBER((Tasas!E10-Datos!BG10)/Datos!BG10),(Tasas!E10-Datos!BG10)/Datos!BG10," - ") -> -
B11: C | C11: =Datos!A11 -> Sección de Familia, infancia y capacidad del TI | D11: =IF(ISNUMBER((Indicadores!G11-(Datos!S11-M11+Q11))/(Datos!S11-M11+Q11)),(Indicadores!G11-(Datos!S11-M11+Q11))/(Datos!S11-M11+Q11)," - ") -> - | E11: =IF(ISNUMBER((Indicadores!H11-(Datos!T11-N11+R11))/(Datos!T11-N11+R11)),(Indicadores!H11-(Datos!T11-N11+R11))/(Datos!T11-N11+R11)," - ") -> - | F11: =IF(ISNUMBER((Indicadores!W11-(Datos!U11-O11+S11))/(Datos!U11-O11+S11)),(Indicadores!W11-(Datos!U11-O11+S11))/(Datos!U11-O11+S11)," - ") -> - | G11: =IF(ISNUMBER((Indicadores!AA11-(Datos!V11-P11+T11))/(Datos!V11-P11+T11)),(Indicadores!AA11-(Datos!V11-P11+T11))/(Datos!V11-P11+T11)," - ") -> - | H11: =IF(ISNUMBER((Datos!M11-Datos!W11)/Datos!W11),(Datos!M11-Datos!W11)/Datos!W11," - ") -> - | I11: =IF(ISNUMBER((Tasas!C11-Datos!BE11)/Datos!BE11),(Tasas!C11-Datos!BE11)/Datos!BE11," - ") -> - | J11: =IF(ISNUMBER((Tasas!D11-Datos!BF11)/Datos!BF11),(Tasas!D11-Datos!BF11)/Datos!BF11," - ") -> - | K11: =IF(ISNUMBER((Tasas!E11-Datos!BG11)/Datos!BG11),(Tasas!E11-Datos!BG11)/Datos!BG11," - ") -> - | M11: =IF(Monitorios="SI",Datos!CE11,0) -> #REF! | N11: =IF(Monitorios="SI",Datos!CF11,0) -> #REF! | O11: =IF(Monitorios="SI",Datos!CG11,0) -> #REF! | P11: =IF(Monitorios="SI",Datos!CH11,0) -> #REF! | Q11: =IF(J_V="SI",0,Datos!AG11) -> 0 | R11: =IF(J_V="SI",0,Datos!AH11) -> 0 | S11: =IF(J_V="SI",0,Datos!AI11) -> 0 | T11: =IF(J_V="SI",0,Datos!AJ11) -> 0
B12: C | C12: =Datos!A12 -> Sección Civil y de Instrucción del T.I. | D12: =IF(ISNUMBER((Indicadores!G12-(Datos!S12+M12+Q12))/(Datos!S12+M12+Q12)),(Indicadores!G12-(Datos!S12+M12+Q12))/(Datos!S12+M12+Q12)," - ") -> - | E12: =IF(ISNUMBER((Indicadores!H12-(Datos!T12+N12+R12))/(Datos!T12+N12+R12)),(Indicadores!H12-(Datos!T12+N12+R12))/(Datos!T12+N12+R12)," - ") -> - | F12: =IF(ISNUMBER((Indicadores!W12-(Datos!U12+O12+S12))/(Datos!U12+O12+S12)),(Indicadores!W12-(Datos!U12+O12+S12))/(Datos!U12+O12+S12)," - ") -> - | G12: =IF(ISNUMBER((Indicadores!AA12-(Datos!V12-P12+T12))/(Datos!V12-P12+T12)),(Indicadores!AA12-(Datos!V12-P12+T12))/(Datos!V12-P12+T12)," - ") -> - | H12: =IF(ISNUMBER((Datos!M12-Datos!W12)/Datos!W12),(Datos!M12-Datos!W12)/Datos!W12," - ") -> 0.09252669 | I12: =IF(ISNUMBER((Tasas!C12-Datos!BE12)/Datos!BE12),(Tasas!C12-Datos!BE12)/Datos!BE12," - ") -> -0.063319751 | J12: =IF(ISNUMBER((Tasas!D12-Datos!BF12)/Datos!BF12),(Tasas!D12-Datos!BF12)/Datos!BF12," - ") -> -0.44203607 | K12: =IF(ISNUMBER((Tasas!E12-Datos!BG12)/Datos!BG12),(Tasas!E12-Datos!BG12)/Datos!BG12," - ") -> -0.049928936 | M12: =IF(Monitorios="SI",Datos!CE12,0) -> #REF! | N12: =IF(Monitorios="SI",Datos!CF12,0) -> #REF! | O12: =IF(Monitorios="SI",Datos!CG12,0) -> #REF! | P12: =IF(Monitorios="SI",Datos!CH12,0) -> #REF! | Q12: =IF(J_V="SI",0,Datos!AG12) -> 303 | R12: =IF(J_V="SI",0,Datos!AH12) -> 93 | S12: =IF(J_V="SI",0,Datos!AI12) -> 76 | T12: =IF(J_V="SI",0,Datos!AJ12) -> 320
C13: =Datos!A13 -> TOTAL | D13: =IF(ISNUMBER((Indicadores!G13-(Datos!S13-M13+Q13))/(Datos!S13-M13+Q13)),(Indicadores!G13-(Datos!S13-M13+Q13))/(Datos!S13-M13+Q13)," - ") -> - | E13: =IF(ISNUMBER((Indicadores!H13-(Datos!T13-N13+R13))/(Datos!T13-N13+R13)),(Indicadores!H13-(Datos!T13-N13+R13))/(Datos!T13-N13+R13)," - ") -> - | F13: =IF(ISNUMBER((Indicadores!W13-(Datos!U13-O13+S13))/(Datos!U13-O13+S13)),(Indicadores!W13-(Datos!U13-O13+S13))/(Datos!U13-O13+S13)," - ") -> - | G13: =IF(ISNUMBER((Indicadores!F13-(Datos!V13-P13+T13))/(Datos!V13-P13+T13)),(Indicadores!F13-(Datos!V13-P13+T13))/(Datos!V13-P13+T13)," - ") -> - | H13: =IF(ISNUMBER((Datos!M13-Datos!W13)/Datos!W13),(Datos!M13-Datos!W13)/Datos!W13," - ") -> 0.088652482 | I13: =IF(ISNUMBER((Tasas!C13-Datos!BE13)/Datos!BE13),(Tasas!C13-Datos!BE13)/Datos!BE13," - ") -> -0.062735687 | J13: =IF(ISNUMBER((Tasas!D13-Datos!BF13)/Datos!BF13),(Tasas!D13-Datos!BF13)/Datos!BF13," - ") -> -0.44100309 | K13: =IF(ISNUMBER((Tasas!E13-Datos!BG13)/Datos!BG13),(Tasas!E13-Datos!BG13)/Datos!BG13," - ") -> -0.049468907 | M13: =IF(Monitorios="SI",Datos!CE13,0) -> #REF! | N13: =IF(Monitorios="SI",Datos!CF13,0) -> #REF! | O13: =IF(Monitorios="SI",Datos!CG13,0) -> #REF! | P13: =IF(Monitorios="SI",Datos!CH13,0) -> #REF! | Q13: =IF(J_V="SI",0,Datos!AG13) -> 303 | R13: =IF(J_V="SI",0,Datos!AH13) -> 93 | S13: =IF(J_V="SI",0,Datos!AI13) -> 76 | T13: =IF(J_V="SI",0,Datos!AJ13) -> 320
C14: =Datos!A14 -> Jurisdicción Penal ( 2 ):
B15: P | C15: =Datos!A15 -> Seccion Instruccion Del T.I. | D15: =IF(ISNUMBER( IF(D_I="SI",(Datos!I15-Datos!S15)/Datos!S15,(Datos!I15+Datos!AC15-(Datos!S15+Datos!AK15))/(Datos!S15+Datos!AK15)) ),IF(D_I="SI",(Datos!I15-Datos!S15)/Datos!S15,(Datos!I15+Datos!AC15-(Datos!S15+Datos!AK15))/(Datos!S15+Datos!AK15))," - ") -> - | E15: =IF(ISNUMBER( IF(D_I="SI",(Datos!J15-Datos!T15)/Datos!T15,(Datos!J15+Datos!AD15-(Datos!T15+Datos!AL15))/(Datos!T15+Datos!AL15)) ),IF(D_I="SI",(Datos!J15-Datos!T15)/Datos!T15,(Datos!J15+Datos!AD15-(Datos!T15+Datos!AL15))/(Datos!T15+Datos!AL15))," - ") -> - | F15: =IF(ISNUMBER( IF(D_I="SI",(Datos!K15-Datos!U15)/Datos!U15,(Datos!K15+Datos!AE15-(Datos!U15+Datos!AM15))/(Datos!U15+Datos!AM15)) ),IF(D_I="SI",(Datos!K15-Datos!U15)/Datos!U15,(Datos!K15+Datos!AE15-(Datos!U15+Datos!AM15))/(Datos!U15+Datos!AM15))," - ") -> - | G15: =IF(ISNUMBER( IF(D_I="SI",(Datos!L15-Datos!V15)/Datos!V15,(Datos!L15+Datos!AF15-(Datos!V15+Datos!AN15))/(Datos!V15+Datos!AN15)) ),IF(D_I="SI",(Datos!L15-Datos!V15)/Datos!V15,(Datos!L15+Datos!AF15-(Datos!V15+Datos!AN15))/(Datos!V15+Datos!AN15))," - ") -> - | H15: =IF(ISNUMBER((Datos!M15-Datos!W15)/Datos!W15),(Datos!M15-Datos!W15)/Datos!W15," - ") -> - | I15: =IF(ISNUMBER((Tasas!C15-Datos!BE15)/Datos!BE15),(Tasas!C15-Datos!BE15)/Datos!BE15," - ") -> - | J15: =IF(ISNUMBER((Tasas!D15-Datos!BF15)/Datos!BF15),(Tasas!D15-Datos!BF15)/Datos!BF15," - ") -> - | K15: =IF(ISNUMBER((Tasas!E15-Datos!BG15)/Datos!BG15),(Tasas!E15-Datos!BG15)/Datos!BG15," - ") -> -
B16: P | C16: =Datos!A16 -> Seccion de Violencia contra la infancia y la adol. | D16: =IF(ISNUMBER( IF(D_I="SI",(Datos!I16-Datos!S16)/Datos!S16,(Datos!I16+Datos!AC16-(Datos!S16+Datos!AK16))/(Datos!S16+Datos!AK16)) ),IF(D_I="SI",(Datos!I16-Datos!S16)/Datos!S16,(Datos!I16+Datos!AC16-(Datos!S16+Datos!AK16))/(Datos!S16+Datos!AK16))," - ") -> - | E16: =IF(ISNUMBER( IF(D_I="SI",(Datos!J16-Datos!T16)/Datos!T16,(Datos!J16+Datos!AD16-(Datos!T16+Datos!AL16))/(Datos!T16+Datos!AL16)) ),IF(D_I="SI",(Datos!J16-Datos!T16)/Datos!T16,(Datos!J16+Datos!AD16-(Datos!T16+Datos!AL16))/(Datos!T16+Datos!AL16))," - ") -> - | F16: =IF(ISNUMBER( IF(D_I="SI",(Datos!K16-Datos!U16)/Datos!U16,(Datos!K16+Datos!AE16-(Datos!U16+Datos!AM16))/(Datos!U16+Datos!AM16)) ),IF(D_I="SI",(Datos!K16-Datos!U16)/Datos!U16,(Datos!K16+Datos!AE16-(Datos!U16+Datos!AM16))/(Datos!U16+Datos!AM16))," - ") -> - | G16: =IF(ISNUMBER( IF(D_I="SI",(Datos!L16-Datos!V16)/Datos!V16,(Datos!L16+Datos!AF16-(Datos!V16+Datos!AN16))/(Datos!V16+Datos!AN16)) ),IF(D_I="SI",(Datos!L16-Datos!V16)/Datos!V16,(Datos!L16+Datos!AF16-(Datos!V16+Datos!AN16))/(Datos!V16+Datos!AN16))," - ") -> - | H16: =IF(ISNUMBER((Datos!M16-Datos!W16)/Datos!W16),(Datos!M16-Datos!W16)/Datos!W16," - ") -> - | I16: =IF(ISNUMBER((Tasas!C16-Datos!BE16)/Datos!BE16),(Tasas!C16-Datos!BE16)/Datos!BE16," - ") -> - | J16: =IF(ISNUMBER((Tasas!D16-Datos!BF16)/Datos!BF16),(Tasas!D16-Datos!BF16)/Datos!BF16," - ") -> - | K16: =IF(ISNUMBER((Tasas!E16-Datos!BG16)/Datos!BG16),(Tasas!E16-Datos!BG16)/Datos!BG16," - ") -> -
B17: P | C17: =Datos!A17 -> Sección Civil y de Inst. TI | D17: =IF(ISNUMBER( IF(D_I="SI",(Datos!I17-Datos!S17)/Datos!S17,(Datos!I17+Datos!AC17-(Datos!S17+Datos!AK17))/(Datos!S17+Datos!AK17)) ),IF(D_I="SI",(Datos!I17-Datos!S17)/Datos!S17,(Datos!I17+Datos!AC17-(Datos!S17+Datos!AK17))/(Datos!S17+Datos!AK17))," - ") -> -0.28844404 | E17: =IF(ISNUMBER( IF(D_I="SI",(Datos!J17-Datos!T17)/Datos!T17,(Datos!J17+Datos!AD17-(Datos!T17+Datos!AL17))/(Datos!T17+Datos!AL17)) ),IF(D_I="SI",(Datos!J17-Datos!T17)/Datos!T17,(Datos!J17+Datos!AD17-(Datos!T17+Datos!AL17))/(Datos!T17+Datos!AL17))," - ") -> -0.07421875 | F17: =IF(ISNUMBER( IF(D_I="SI",(Datos!K17-Datos!U17)/Datos!U17,(Datos!K17+Datos!AE17-(Datos!U17+Datos!AM17))/(Datos!U17+Datos!AM17)) ),IF(D_I="SI",(Datos!K17-Datos!U17)/Datos!U17,(Datos!K17+Datos!AE17-(Datos!U17+Datos!AM17))/(Datos!U17+Datos!AM17))," - ") -> -0.14132762 | G17: =IF(ISNUMBER( IF(D_I="SI",(Datos!L17-Datos!V17)/Datos!V17,(Datos!L17+Datos!AF17-(Datos!V17+Datos!AN17))/(Datos!V17+Datos!AN17)) ),IF(D_I="SI",(Datos!L17-Datos!V17)/Datos!V17,(Datos!L17+Datos!AF17-(Datos!V17+Datos!AN17))/(Datos!V17+Datos!AN17))," - ") -> -0.1626943 | H17: =IF(ISNUMBER((Datos!M17-Datos!W17)/Datos!W17),(Datos!M17-Datos!W17)/Datos!W17," - ") -> 0.2605042 | I17: =IF(ISNUMBER((Tasas!C17-Datos!BE17)/Datos!BE17),(Tasas!C17-Datos!BE17)/Datos!BE17," - ") -> -0.024883387 | J17: =IF(ISNUMBER((Tasas!D17-Datos!BF17)/Datos!BF17),(Tasas!D17-Datos!BF17)/Datos!BF17," - ") -> 0.46796873 | K17: =IF(ISNUMBER((Tasas!E17-Datos!BG17)/Datos!BG17),(Tasas!E17-Datos!BG17)/Datos!BG17," - ") -> -0.079512977
B18: P | C18: =Datos!A18 -> Sección De Violencia sobre la Mujer del TI | D18: =IF(ISNUMBER( IF(D_I="SI",(Datos!I18-Datos!S18)/Datos!S18,(Datos!I18+Datos!AC18-(Datos!S18+Datos!AK18))/(Datos!S18+Datos!AK18)) ),IF(D_I="SI",(Datos!I18-Datos!S18)/Datos!S18,(Datos!I18+Datos!AC18-(Datos!S18+Datos!AK18))/(Datos!S18+Datos!AK18))," - ") -> -0.33027523 | E18: =IF(ISNUMBER( IF(D_I="SI",(Datos!J18-Datos!T18)/Datos!T18,(Datos!J18+Datos!AD18-(Datos!T18+Datos!AL18))/(Datos!T18+Datos!AL18)) ),IF(D_I="SI",(Datos!J18-Datos!T18)/Datos!T18,(Datos!J18+Datos!AD18-(Datos!T18+Datos!AL18))/(Datos!T18+Datos!AL18))," - ") -> -1 | F18: =IF(ISNUMBER( IF(D_I="SI",(Datos!K18-Datos!U18)/Datos!U18,(Datos!K18+Datos!AE18-(Datos!U18+Datos!AM18))/(Datos!U18+Datos!AM18)) ),IF(D_I="SI",(Datos!K18-Datos!U18)/Datos!U18,(Datos!K18+Datos!AE18-(Datos!U18+Datos!AM18))/(Datos!U18+Datos!AM18))," - ") -> -0.93333333 | G18: =IF(ISNUMBER( IF(D_I="SI",(Datos!L18-Datos!V18)/Datos!V18,(Datos!L18+Datos!AF18-(Datos!V18+Datos!AN18))/(Datos!V18+Datos!AN18)) ),IF(D_I="SI",(Datos!L18-Datos!V18)/Datos!V18,(Datos!L18+Datos!AF18-(Datos!V18+Datos!AN18))/(Datos!V18+Datos!AN18))," - ") -> -0.44444444 | H18: =IF(ISNUMBER((Datos!M18-Datos!W18)/Datos!W18),(Datos!M18-Datos!W18)/Datos!W18," - ") -> -1 | I18: =IF(ISNUMBER((Tasas!C18-Datos!BE18)/Datos!BE18),(Tasas!C18-Datos!BE18)/Datos!BE18," - ") -> 7.3333333 | J18: =IF(ISNUMBER((Tasas!D18-Datos!BF18)/Datos!BF18),(Tasas!D18-Datos!BF18)/Datos!BF18," - ") -> -1 | K18: =IF(ISNUMBER((Tasas!E18-Datos!BG18)/Datos!BG18),(Tasas!E18-Datos!BG18)/Datos!BG18," - ") -> 7.9754098
C19: =Datos!A19 -> TOTAL | D19: =IF(ISNUMBER( IF(D_I="SI",(Datos!I19-Datos!S19)/Datos!S19,(Datos!I19+Datos!AC19-(Datos!S19+Datos!AK19))/(Datos!S19+Datos!AK19)) ),IF(D_I="SI",(Datos!I19-Datos!S19)/Datos!S19,(Datos!I19+Datos!AC19-(Datos!S19+Datos!AK19))/(Datos!S19+Datos!AK19))," - ") -> -0.29042046 | E19: =IF(ISNUMBER( IF(D_I="SI",(Datos!J19-Datos!T19)/Datos!T19,(Datos!J19+Datos!AD19-(Datos!T19+Datos!AL19))/(Datos!T19+Datos!AL19)) ),IF(D_I="SI",(Datos!J19-Datos!T19)/Datos!T19,(Datos!J19+Datos!AD19-(Datos!T19+Datos!AL19))/(Datos!T19+Datos!AL19))," - ") -> -0.083526682 | F19: =IF(ISNUMBER( IF(D_I="SI",(Datos!K19-Datos!U19)/Datos!U19,(Datos!K19+Datos!AE19-(Datos!U19+Datos!AM19))/(Datos!U19+Datos!AM19)) ),IF(D_I="SI",(Datos!K19-Datos!U19)/Datos!U19,(Datos!K19+Datos!AE19-(Datos!U19+Datos!AM19))/(Datos!U19+Datos!AM19))," - ") -> -0.1659751 | G19: =IF(ISNUMBER( IF(D_I="SI",(Datos!L19-Datos!V19)/Datos!V19,(Datos!L19+Datos!AF19-(Datos!V19+Datos!AN19))/(Datos!V19+Datos!AN19)) ),IF(D_I="SI",(Datos!L19-Datos!V19)/Datos!V19,(Datos!L19+Datos!AF19-(Datos!V19+Datos!AN19))/(Datos!V19+Datos!AN19))," - ") -> -0.17996109 | H19: =IF(ISNUMBER((Datos!M19-Datos!W19)/Datos!W19),(Datos!M19-Datos!W19)/Datos!W19," - ") -> 0.2195122 | I19: =IF(ISNUMBER((Tasas!C19-Datos!BE19)/Datos!BE19),(Tasas!C19-Datos!BE19)/Datos!BE19," - ") -> -0.016769267 | J19: =IF(ISNUMBER((Tasas!D19-Datos!BF19)/Datos!BF19),(Tasas!D19-Datos!BF19)/Datos!BF19," - ") -> 0.46220119 | K19: =IF(ISNUMBER((Tasas!E19-Datos!BG19)/Datos!BG19),(Tasas!E19-Datos!BG19)/Datos!BG19," - ") -> -0.060113322 | M19: =IF(Monitorios="SI",Datos!CE19,0) -> #REF! | N19: =IF(Monitorios="SI",Datos!CF19,0) -> #REF! | O19: =IF(Monitorios="SI",Datos!CG19,0) -> #REF! | P19: =IF(Monitorios="SI",Datos!CH19,0) -> #REF! | Q19: =IF(J_V="SI",0,Datos!AG19) -> 0 | R19: =IF(J_V="SI",0,Datos!AH19) -> 0 | S19: =IF(J_V="SI",0,Datos!AI19) -> 0 | T19: =IF(J_V="SI",0,Datos!AJ19) -> 0
C20: =Datos!A20 -> TOTAL JURISDICCIONES | D20: =IF(ISNUMBER( IF(J_V="SI",(Datos!I20-Datos!S20)/Datos!S20,(Datos!I20+Datos!Y20-(Datos!S20+Datos!AG20))/(Datos!S20+Datos!AG20)) ),IF(J_V="SI",(Datos!I20-Datos!S20)/Datos!S20,(Datos!I20+Datos!Y20-(Datos!S20+Datos!AG20))/(Datos!S20+Datos!AG20))," - ") -> -0.12332215 | E20: =IF(ISNUMBER( IF(J_V="SI",(Datos!J20-Datos!T20)/Datos!T20,(Datos!J20+Datos!Z20-(Datos!T20+Datos!AH20))/(Datos!T20+Datos!AH20)) ),IF(J_V="SI",(Datos!J20-Datos!T20)/Datos!T20,(Datos!J20+Datos!Z20-(Datos!T20+Datos!AH20))/(Datos!T20+Datos!AH20))," - ") -> 0.093778591 | F20: =IF(ISNUMBER( IF(J_V="SI",(Datos!K20-Datos!U20)/Datos!U20,(Datos!K20+Datos!AA20-(Datos!U20+Datos!AI20))/(Datos!U20+Datos!AI20)) ),IF(J_V="SI",(Datos!K20-Datos!U20)/Datos!U20,(Datos!K20+Datos!AA20-(Datos!U20+Datos!AI20))/(Datos!U20+Datos!AI20))," - ") -> -0.053183792 | G20: =IF(ISNUMBER( IF(J_V="SI",(Datos!L20-Datos!V20)/Datos!V20,(Datos!L20+Datos!AB20-(Datos!V20+Datos!AJ20))/(Datos!V20+Datos!AJ20)) ),IF(J_V="SI",(Datos!L20-Datos!V20)/Datos!V20,(Datos!L20+Datos!AB20-(Datos!V20+Datos!AJ20))/(Datos!V20+Datos!AJ20))," - ") -> -0.054877106 | H20: =IF(ISNUMBER((Datos!M20-Datos!W20)/Datos!W20),(Datos!M20-Datos!W20)/Datos!W20," - ") -> 0.12839506 | I20: =IF(ISNUMBER((Tasas!C20-Datos!BE20)/Datos!BE20),(Tasas!C20-Datos!BE20)/Datos!BE20," - ") -> -0.0017884301 | J20: =IF(ISNUMBER((Tasas!D20-Datos!BF20)/Datos!BF20),(Tasas!D20-Datos!BF20)/Datos!BF20," - ") -> -0.24108454 | K20: =IF(ISNUMBER((Tasas!E20-Datos!BG20)/Datos!BG20),(Tasas!E20-Datos!BG20)/Datos!BG20," - ") -> -0.020400657
C21: MEDIA | D21: =IF(ISNUMBER(SUMIF($B8:$B19,$B21,D8:D19)/INDIRECT("Datos!AP"&ROW()-1)),SUMIF($B8:$B19,$B21,D8:D19)/INDIRECT("Datos!AP"&ROW()-1),"-") -> 0 | E21: =IF(ISNUMBER(SUMIF($B8:$B19,$B21,E8:E19)/INDIRECT("Datos!AP"&ROW()-1)),SUMIF($B8:$B19,$B21,E8:E19)/INDIRECT("Datos!AP"&ROW()-1),"-") -> 0 | F21: =IF(ISNUMBER(SUMIF($B8:$B19,$B21,F8:F19)/INDIRECT("Datos!AP"&ROW()-1)),SUMIF($B8:$B19,$B21,F8:F19)/INDIRECT("Datos!AP"&ROW()-1),"-") -> 0 | G21: =IF(ISNUMBER(SUMIF($B8:$B19,$B21,G8:G19)/INDIRECT("Datos!AP"&ROW()-1)),SUMIF($B8:$B19,$B21,G8:G19)/INDIRECT("Datos!AP"&ROW()-1),"-") -> 0 | H21: =IF(ISNUMBER(SUMIF($B8:$B19,$B21,H8:H19)/INDIRECT("Datos!AP"&ROW()-1)),SUMIF($B8:$B19,$B21,H8:H19)/INDIRECT("Datos!AP"&ROW()-1),"-") -> 0 | I21: =IF(ISNUMBER(SUMIF($B8:$B19,$B21,I8:I19)/INDIRECT("Datos!AP"&ROW()-1)),SUMIF($B8:$B19,$B21,I8:I19)/INDIRECT("Datos!AP"&ROW()-1),"-") -> 0 | J21: =IF(ISNUMBER(SUMIF($B8:$B19,$B21,J8:J19)/INDIRECT("Datos!AP"&ROW()-1)),SUMIF($B8:$B19,$B21,J8:J19)/INDIRECT("Datos!AP"&ROW()-1),"-") -> 0 | K21: =IF(ISNUMBER(SUMIF($B8:$B19,$B21,K8:K19)/INDIRECT("Datos!AP"&ROW()-1)),SUMIF($B8:$B19,$B21,K8:K19)/INDIRECT("Datos!AP"&ROW()-1),"-") -> 0
C22: DESVIACIÓN TÍPICA | D22: =IF(ISNUMBER( STDEV(D8:D19)),STDEV(D8:D19)," - ") -> 0.34900913 | E22: =IF(ISNUMBER( STDEV(E8:E19)),STDEV(E8:E19)," - ") -> 0.53183345 | F22: =IF(ISNUMBER( STDEV(F8:F19)),STDEV(F8:F19)," - ") -> 0.47029064 | G22: =IF(ISNUMBER( STDEV(G8:G19)),STDEV(G8:G19)," - ") -> 0.39070656 | H22: =IF(ISNUMBER( STDEV(H8:H19)),STDEV(H8:H19)," - ") -> 0.6055965 | I22: =IF(ISNUMBER( STDEV(I8:I19)),STDEV(I8:I19)," - ") -> 3.2983855 | J22: =IF(ISNUMBER( STDEV(J8:J19)),STDEV(J8:J19)," - ") -> 0.6404905 | K22: =IF(ISNUMBER( STDEV(K8:K19)),STDEV(K8:K19)," - ") -> 3.593456
C26: Límite Superior | D26: =D24+2*D25 -> 0 | E26: =E24+2*E25 -> 0 | F26: =F24+2*F25 -> 0 | G26: =G24+2*G25 -> 0 | H26: =H24+2*H25 -> 0 | I26: =I24+2*I25 -> 0 | J26: =J24+2*J25 -> 0 | K26: =K24+2*K25 -> 0
C27: Límite Inferirior | D27: =MIN(0,D24-2*D25) -> 0 | E27: =MIN(0,E24-2*E25) -> 0 | F27: =MIN(0,F24-2*F25) -> 0 | G27: =MIN(0,G24-2*G25) -> 0 | H27: =MIN(0,H24-2*H25) -> 0 | I27: =MIN(0,I24-2*I25) -> 0 | J27: =MIN(0,J24-2*J25) -> 0 | K27: =MIN(0,K24-2*K25) -> 0
C31: =Criterios!A4 -> Fecha Informe: 06 oct. 2026

Sheet Juez
B3: Informe individual juez
A4: Nombre: | B4: =Criterios!B9 -> ANDALUCIA | H4: Datos del órgano judicial | N4: Datos del juez
A5: Código de órgano | B5: ="Año: " &Criterios!B5 & " Trimestre " &Criterios!D5 & " al " &Criterios!D6 -> Año: 2026 Trimestre 2 al 2 | C5: En Tramite Al Inicio Del Periodo (Regularizado) | D5: En Tramite Al Inicio Del Periodo | E5: Ingresados | F5: Resueltos | H5: Número de asuntos pendientes | I5: Módulo de entrada | J5: Módulo de dedicación | K5: Variación de Pendientes | L5: Tiempo de respuesta | M5: Asuntos Pendientes de Sentenciar (más 1 mes) | Q5: Dedicación | W5: Sentencias Pendientes | AA5: Autos Pendientes
B7: =Datos!A7 -> COMPETENCIAS | N7: Carácter de actuación | O7: Número de trimestres | P7: Indicador de entrada | Q7: Indicador de dedicación | R7: Relación Módulo de entrada | S7: Relación Módulo de dedicación (sin tener en cuenta ni permisos ni licencias) | T7: Nº dias permisos o licencias en Gestión Gubernativa | U7: Nº dias permisos o licencias corregido | V7: Relación Módulo de dedicación corregido con permisos y licencias | W7: Total | X7: De menos de 3 meses (Instrucción y JVM Penal Menos de 1 mes) | Y7: De entre 3 y 6 meses (Instrucción y JVM Penal Entre 1 y 3 meses) | Z7: De más de 6 meses (Instrucción y JVM Penal Más de 3 meses) | AA7: Total | AB7: De menos de 3 meses | AC7: De entre 3 y 6 meses | AD7: De más de 6 meses | AE7: Umbral dedicación
A8: =Datos!A8 -> Jurisdicción Civil ( 1 ):
A9: =ABS(Datos!AO9) -> 0 | B9: =Datos!A9 -> Sección Civil del T.I | C9: =IF(ISNUMBER(H9-E9+F9),H9-E9+F9," - ") -> - | D9: =IF(ISNUMBER(IF(J_V="SI",Datos!I9,Datos!I9+Datos!Y9)-IF(Monitorios="SI",Datos!CA9,0)), IF(J_V="SI",Datos!I9,Datos!I9+Datos!Y9)-IF(Monitorios="SI",Datos!CA9,0), " - ") -> - | E9: =IF(ISNUMBER(IF(J_V="SI",Datos!J9,Datos!J9+Datos!Z9)-IF(Monitorios="SI",Datos!CB9,0)), IF(J_V="SI",Datos!J9,Datos!J9+Datos!Z9)-IF(Monitorios="SI",Datos!CB9,0), " - ") -> - | F9: =IF(ISNUMBER(IF(J_V="SI",Datos!K9,Datos!K9+Datos!AA9)-IF(Monitorios="SI",Datos!CC9,0)), IF(J_V="SI",Datos!K9,Datos!K9+Datos!AA9)-IF(Monitorios="SI",Datos!CC9,0), " - ") -> - | G9: =IF(Datos!E9<>"",Datos!E9,Datos!D9) -> 01 | H9: =IF(ISNUMBER(IF(J_V="SI",Datos!L9,Datos!L9+Datos!AB9)-IF(Monitorios="SI",Datos!CD9,0)), IF(J_V="SI",Datos!L9,Datos!L9+Datos!AB9)-IF(Monitorios="SI",Datos!CD9,0), " - ") -> - | I9: =IF(ISNUMBER(Datos!AS9/Datos!BM9),Datos!AS9/Datos!BM9," - ") -> - | J9: =IF(ISNUMBER(Datos!BY9/Datos!CN9),Datos!BY9/Datos!CN9," - ") -> 0 | K9: =IF(ISNUMBER((E9-F9)/C9),(E9-F9)/C9," - ") -> - | L9: =IF(ISNUMBER(NºAsuntos!I9/NºAsuntos!G9),(NºAsuntos!I9/NºAsuntos!G9)*11," - ") -> - | M9: =IF(ISNUMBER(Datos!CL9),Datos!CL9," - ") -> - | N9: =Datos!CU9 -> 0 | O9: =Datos!CT9 -> 0 | P9: =IF(ISNUMBER((Datos!AS9/Datos!AQ9)),(Datos!AS9/Datos!AQ9)," - ") -> - | Q9: =IF(ISNUMBER(Datos!CQ9+Datos!CR9),Datos!CQ9+Datos!CR9*0.86," - ") -> 0 | R9: =IF(ISNUMBER((P9/Datos!CO9)*factor_trimestre),(P9/Datos!CO9)*factor_trimestre," - ") -> - | S9: =IF(ISNUMBER((Q9/Datos!CP9)*factor_trimestre),(Q9/Datos!CP9)*factor_trimestre," - ") -> 0 | T9: =Datos!ET9 -> 0 | V9: =IF(U9="",IF(ISNUMBER(IF(ISNUMBER(S9),S9,0)/((Datos!EU9-Datos!ET9)/Datos!EU9)),IF(ISNUMBER(S9),S9,0)/((Datos!EU9-Datos!ET9)/Datos!EU9)," - "),IF(ISNUMBER(IF(ISNUMBER(S9),S9,0)/((Datos!EU9-U9)/Datos!EU9)),IF(ISNUMBER(S9),S9,0)/((Datos!EU9-U9)/Datos!EU9))) -> - | W9: =IF(ISNUMBER(Datos!CV9),Datos!CV9," - ") -> - | X9: =IF(ISNUMBER(Datos!DH9),Datos!DH9," - ") -> - | Y9: =IF(ISNUMBER(Datos!DI9),Datos!DI9," - ") -> - | Z9: =IF(ISNUMBER(Datos!DJ9),Datos!DJ9," - ") -> - | AA9: =IF(ISNUMBER(Datos!DG9),Datos!DG9," - ") -> - | AB9: =IF(ISNUMBER(Datos!CY9),Datos!CY9," - ") -> - | AC9: =IF(ISNUMBER(Datos!CZ9),Datos!CZ9," - ") -> - | AD9: =IF(ISNUMBER(Datos!DA9),Datos!DA9," - ") -> - | AE9: 0 | BZ9: =Datos!EZ9 -> 0
A10: =ABS(Datos!AO10) -> 1 | B10: =Datos!A10 -> Sección De Violencia sobre la Mujer del TI | C10: =IF(ISNUMBER(H10-E10+F10),H10-E10+F10," - ") -> 0 | D10: =IF(ISNUMBER(Datos!I10),Datos!I10," - ") -> 0 | E10: =IF(ISNUMBER(Datos!J10),Datos!J10," - ") -> 0 | F10: =IF(ISNUMBER(Datos!K10),Datos!K10," - ") -> 0 | G10: =IF(Datos!E10<>"",Datos!E10,Datos!D10) -> 37 | H10: =IF(ISNUMBER(Datos!L10),Datos!L10," - ") -> 0 | I10: =IF(ISNUMBER(Datos!AS10/Datos!BM10),Datos!AS10/Datos!BM10," - ") -> - | J10: =IF(ISNUMBER(Datos!BY10/Datos!CN10),Datos!BY10/Datos!CN10," - ") -> 0 | K10: =IF(ISNUMBER((E10-F10)/C10),(E10-F10)/C10," - ") -> - | L10: =IF(ISNUMBER(NºAsuntos!I10/NºAsuntos!G10),(NºAsuntos!I10/NºAsuntos!G10)*11," - ") -> - | M10: =IF(ISNUMBER(Datos!CL10),Datos!CL10," - ") -> - | N10: =Datos!CU10 -> 0 | O10: =Datos!CT10 -> 0 | P10: =IF(ISNUMBER((Datos!AS10/Datos!AQ10)),(Datos!AS10/Datos!AQ10)," - ") -> - | Q10: =IF(ISNUMBER(Datos!CQ10),Datos!CQ10," - ") -> - | R10: =IF(ISNUMBER((P10/Datos!CO10)*factor_trimestre),(P10/Datos!CO10)*factor_trimestre," - ") -> - | S10: =IF(ISNUMBER((Q10/Datos!CP10)*factor_trimestre),(Q10/Datos!CP10)*factor_trimestre," - ") -> - | T10: =Datos!ET10 -> 0 | V10: =IF(U10="",IF(ISNUMBER(IF(ISNUMBER(S10),S10,0)/((Datos!EU10-Datos!ET10)/Datos!EU10)),IF(ISNUMBER(S10),S10,0)/((Datos!EU10-Datos!ET10)/Datos!EU10)," - "),IF(ISNUMBER(IF(ISNUMBER(S10),S10,0)/((Datos!EU10-U10)/Datos!EU10)),IF(ISNUMBER(S10),S10,0)/((Datos!EU10-U10)/Datos!EU10))) -> - | W10: =IF(ISNUMBER(Datos!CV10),Datos!CV10," - ") -> - | X10: =IF(ISNUMBER(Datos!DH10),Datos!DH10," - ") -> - | Y10: =IF(ISNUMBER(Datos!DI10),Datos!DI10," - ") -> - | Z10: =IF(ISNUMBER(Datos!DJ10),Datos!DJ10," - ") -> - | AA10: =IF(ISNUMBER(Datos!DG10),Datos!DG10," - ") -> - | AB10: =IF(ISNUMBER(Datos!CY10),Datos!CY10," - ") -> - | AC10: =IF(ISNUMBER(Datos!CZ10),Datos!CZ10," - ") -> - | AD10: =IF(ISNUMBER(Datos!DA10),Datos!DA10," - ") -> - | AE10: 0 | BZ10: =Datos!EZ10 -> 0
A11: =ABS(Datos!AO11) -> 0 | B11: =Datos!A11 -> Sección de Familia, infancia y capacidad del TI | C11: =IF(ISNUMBER(H11-E11+F11),H11-E11+F11," - ") -> - | D11: =IF(ISNUMBER(IF(J_V="SI",Datos!I11,Datos!I11+Datos!Y11)-IF(Monitorios="SI",Datos!CA11,0)), IF(J_V="SI",Datos!I11,Datos!I11+Datos!Y11)-IF(Monitorios="SI",Datos!CA11,0), " - ") -> - | E11: =IF(ISNUMBER(IF(J_V="SI",Datos!J11,Datos!J11+Datos!Z11)-IF(Monitorios="SI",Datos!CB11,0)), IF(J_V="SI",Datos!J11,Datos!J11+Datos!Z11)-IF(Monitorios="SI",Datos!CB11,0), " - ") -> - | F11: =IF(ISNUMBER(IF(J_V="SI",Datos!K11,Datos!K11+Datos!AA11)-IF(Monitorios="SI",Datos!CC11,0)), IF(J_V="SI",Datos!K11,Datos!K11+Datos!AA11)-IF(Monitorios="SI",Datos!CC11,0), " - ") -> - | G11: =IF(Datos!E11<>"",Datos!E11,Datos!D11) -> 02 | H11: =IF(ISNUMBER(IF(J_V="SI",Datos!L11,Datos!L11+Datos!AB11)-IF(Monitorios="SI",Datos!CD11,0)), IF(J_V="SI",Datos!L11,Datos!L11+Datos!AB11)-IF(Monitorios="SI",Datos!CD11,0), " - ") -> - | I11: =IF(ISNUMBER(Datos!AS11/Datos!BM11),Datos!AS11/Datos!BM11," - ") -> - | J11: =IF(ISNUMBER(Datos!BY11/Datos!CN11),Datos!BY11/Datos!CN11," - ") -> 0 | K11: =IF(ISNUMBER((E11-F11)/C11),(E11-F11)/C11," - ") -> - | L11: =IF(ISNUMBER(NºAsuntos!I11/NºAsuntos!G11),(NºAsuntos!I11/NºAsuntos!G11)*11," - ") -> - | M11: =IF(ISNUMBER(Datos!CL11),Datos!CL11," - ") -> - | N11: =Datos!CU11 -> 0 | O11: =Datos!CT11 -> 0 | P11: =IF(ISNUMBER((Datos!AS11/Datos!AQ11)),(Datos!AS11/Datos!AQ11)," - ") -> - | Q11: =IF(ISNUMBER(Datos!CQ11+Datos!CR11),Datos!CQ11+Datos!CR11," - ") -> 0 | R11: =IF(ISNUMBER((P11/Datos!CO11)*factor_trimestre),(P11/Datos!CO11)*factor_trimestre," - ") -> - | S11: =IF(ISNUMBER((Q11/Datos!CP11)*factor_trimestre),(Q11/Datos!CP11)*factor_trimestre," - ") -> 0 | T11: =Datos!ET11 -> 0 | V11: =IF(U11="",IF(ISNUMBER(IF(ISNUMBER(S11),S11,0)/((Datos!EU11-Datos!ET11)/Datos!EU11)),IF(ISNUMBER(S11),S11,0)/((Datos!EU11-Datos!ET11)/Datos!EU11)," - "),IF(ISNUMBER(IF(ISNUMBER(S11),S11,0)/((Datos!EU11-U11)/Datos!EU11)),IF(ISNUMBER(S11),S11,0)/((Datos!EU11-U11)/Datos!EU11))) -> - | W11: =IF(ISNUMBER(Datos!CV11),Datos!CV11," - ") -> - | X11: =IF(ISNUMBER(Datos!DH11),Datos!DH11," - ") -> - | Y11: =IF(ISNUMBER(Datos!DI11),Datos!DI11," - ") -> - | Z11: =IF(ISNUMBER(Datos!DJ11),Datos!DJ11," - ") -> - | AA11: =IF(ISNUMBER(Datos!DG11),Datos!DG11," - ") -> - | AB11: =IF(ISNUMBER(Datos!CY11),Datos!CY11," - ") -> - | AC11: =IF(ISNUMBER(Datos!CZ11),Datos!CZ11," - ") -> - | AD11: =IF(ISNUMBER(Datos!DA11),Datos!DA11," - ") -> - | AE11: 0 | BZ11: =Datos!EZ11 -> 0
A12: =ABS(Datos!AO12) -> 4 | B12: =Datos!A12 -> Sección Civil y de Instrucción del T.I. | C12: =IF(ISNUMBER(H12-E12+F12),H12-E12+F12," - ") -> - | D12: =IF(ISNUMBER(IF(J_V="SI",Datos!I12,Datos!I12+Datos!Y12)-IF(Monitorios="SI",Datos!CA12,0)), IF(J_V="SI",Datos!I12,Datos!I12+Datos!Y12)-IF(Monitorios="SI",Datos!CA12,0), " - ") -> - | E12: =IF(ISNUMBER(IF(J_V="SI",Datos!J12,Datos!J12+Datos!Z12)-IF(Monitorios="SI",Datos!CB12,0)), IF(J_V="SI",Datos!J12,Datos!J12+Datos!Z12)-IF(Monitorios="SI",Datos!CB12,0), " - ") -> - | F12: =IF(ISNUMBER(IF(J_V="SI",Datos!K12,Datos!K12+Datos!AA12)-IF(Monitorios="SI",Datos!CC12,0)), IF(J_V="SI",Datos!K12,Datos!K12+Datos!AA12)-IF(Monitorios="SI",Datos!CC12,0), " - ") -> - | G12: =IF(Datos!E12<>"",Datos!E12,Datos!D12) -> 04 | H12: =IF(ISNUMBER(IF(J_V="SI",Datos!L12,Datos!L12+Datos!AB12)-IF(Monitorios="SI",Datos!CD12,0)), IF(J_V="SI",Datos!L12,Datos!L12+Datos!AB12)-IF(Monitorios="SI",Datos!CD12,0), " - ") -> - | I12: =IF(ISNUMBER(Datos!AS12/Datos!BM12),Datos!AS12/Datos!BM12," - ") -> - | J12: =IF(ISNUMBER(Datos!BY12/Datos!CN12),Datos!BY12/Datos!CN12," - ") -> 0 | K12: =IF(ISNUMBER((E12-F12)/C12),(E12-F12)/C12," - ") -> - | L12: =IF(ISNUMBER(NºAsuntos!I12/NºAsuntos!G12),(NºAsuntos!I12/NºAsuntos!G12)*11," - ") -> 34.520198 | M12: =IF(ISNUMBER(Datos!CL12),Datos!CL12," - ") -> - | N12: =Datos!CU12 -> 0 | O12: =Datos!CT12 -> 0 | P12: =IF(ISNUMBER((Datos!AS12/Datos!AQ12)),(Datos!AS12/Datos!AQ12)," - ") -> - | Q12: =IF(ISNUMBER(Datos!CQ12),Datos!CQ12," - ") -> - | R12: =IF(ISNUMBER((P12/Datos!CO12)*factor_trimestre),(P12/Datos!CO12)*factor_trimestre," - ") -> - | S12: =IF(ISNUMBER((Q12/Datos!CP12)*factor_trimestre),(Q12/Datos!CP12)*factor_trimestre," - ") -> - | T12: =Datos!ET12 -> 0 | V12: =IF(U12="",IF(ISNUMBER(IF(ISNUMBER(S12),S12,0)/((Datos!EU12-Datos!ET12)/Datos!EU12)),IF(ISNUMBER(S12),S12,0)/((Datos!EU12-Datos!ET12)/Datos!EU12)," - "),IF(ISNUMBER(IF(ISNUMBER(S12),S12,0)/((Datos!EU12-U12)/Datos!EU12)),IF(ISNUMBER(S12),S12,0)/((Datos!EU12-U12)/Datos!EU12))) -> - | W12: =IF(ISNUMBER(Datos!CV12),Datos!CV12," - ") -> - | X12: =IF(ISNUMBER(Datos!DH12),Datos!DH12," - ") -> - | Y12: =IF(ISNUMBER(Datos!DI12),Datos!DI12," - ") -> - | Z12: =IF(ISNUMBER(Datos!DJ12),Datos!DJ12," - ") -> - | AA12: =IF(ISNUMBER(Datos!DG12),Datos!DG12," - ") -> - | AB12: =IF(ISNUMBER(Datos!CY12),Datos!CY12," - ") -> - | AC12: =IF(ISNUMBER(Datos!CZ12),Datos!CZ12," - ") -> - | AD12: =IF(ISNUMBER(Datos!DA12),Datos!DA12," - ") -> - | AE12: 0 | BZ12: =Datos!EZ12 -> 0
B13: =Datos!A13 -> TOTAL | C13: =SUBTOTAL(9,C9:C12) -> 0 | D13: =SUBTOTAL(9,D9:D12) -> 0 | E13: =SUBTOTAL(9,E9:E12) -> 0 | F13: =SUBTOTAL(9,F9:F12) -> 0 | G13: =INDIRECT(CONCATENATE("G",ROW()-1)) -> 04 | H13: =SUMIF(G$8:G12,G13,H$8:H12) -> 0 | M13: =SUMIF(G$8:G12,G13,M$8:M12) -> 0 | P13: =SUMIF(G$8:G12,G13,P$8:P12) -> 0 | Q13: =SUMIF(G$8:G12,G13,Q$8:Q12) -> 0 | R13: =SUMIF(G$8:G12,G13,R$8:R12) -> 0 | S13: =SUMIF(G$8:G12,G13,S$8:S12) -> 0 | V13: =SUMIF(G$8:G12,G13,V$8:V12) -> 0 | W13: =SUMIF($G$8:$G12,$G13,W$8:W12) -> 0 | X13: =SUMIF($G$8:$G12,$G13,X$8:X12) -> 0 | Y13: =SUMIF($G$8:$G12,$G13,Y$8:Y12) -> 0 | Z13: =SUMIF($G$8:$G12,$G13,Z$8:Z12) -> 0 | AA13: =SUMIF($G$8:$G12,$G13,AA$8:AA12) -> 0 | AB13: =SUMIF($G$8:$G12,$G13,AB$8:AB12) -> 0 | AC13: =SUMIF($G$8:$G12,$G13,AC$8:AC12) -> 0 | AD13: =SUMIF($G$8:$G12,$G13,AD$8:AD12) -> 0
A14: =Datos!A14 -> Jurisdicción Penal ( 2 ):
A15: =ABS(Datos!AO15) -> 0 | B15: =Datos!A15 -> Seccion Instruccion Del T.I. | C15: =IF(ISNUMBER(H15-E15+F15),H15-E15+F15," - ") -> - | D15: =IF(ISNUMBER(IF(D_I="SI",Datos!I15,Datos!I15+Datos!AC15)),IF(D_I="SI",Datos!I15,Datos!I15+Datos!AC15)," - ") -> - | E15: =IF(ISNUMBER(IF(D_I="SI",Datos!J15,Datos!J15+Datos!AD15)),IF(D_I="SI",Datos!J15,Datos!J15+Datos!AD15)," - ") -> - | F15: =IF(ISNUMBER(IF(D_I="SI",Datos!K15,Datos!K15+Datos!AE15)),IF(D_I="SI",Datos!K15,Datos!K15+Datos!AE15)," - ") -> - | G15: =IF(Datos!E15<>"",Datos!E15,Datos!D15) -> 03 | H15: =IF(ISNUMBER(IF(D_I="SI",Datos!L15,Datos!L15+Datos!AF15)),IF(D_I="SI",Datos!L15,Datos!L15+Datos!AF15)," - ") -> - | I15: =IF(ISNUMBER(Datos!AS15/Datos!BM15),Datos!AS15/Datos!BM15," - ") -> - | J15: =IF(ISNUMBER(Datos!BY15/Datos!CN15),Datos!BY15/Datos!CN15," - ") -> 0 | K15: =IF(ISNUMBER((E15-F15)/C15),(E15-F15)/C15," - ") -> - | L15: =IF(ISNUMBER(NºAsuntos!I15/NºAsuntos!G15),(NºAsuntos!I15/NºAsuntos!G15)*11," - ") -> - | M15: =IF(ISNUMBER(Datos!CL15),Datos!CL15," - ") -> - | N15: =Datos!CU15 -> 0 | O15: =Datos!CT15 -> 0 | P15: =IF(ISNUMBER((Datos!AS15/Datos!AQ15)),(Datos!AS15/Datos!AQ15)," - ") -> - | Q15: =IF(ISNUMBER(Datos!CQ15+Datos!CR15),Datos!CQ15+Datos!CR15*1.16," - ") -> 0 | R15: =IF(ISNUMBER((P15/Datos!CO15)*factor_trimestre),(P15/Datos!CO15)*factor_trimestre," - ") -> - | S15: =IF(ISNUMBER((Q15/Datos!CP15)*factor_trimestre),(Q15/Datos!CP15)*factor_trimestre," - ") -> 0 | T15: =Datos!ET15 -> 0 | V15: =IF(U15="",IF(ISNUMBER(IF(ISNUMBER(S15),S15,0)/((Datos!EU15-Datos!ET15)/Datos!EU15)),IF(ISNUMBER(S15),S15,0)/((Datos!EU15-Datos!ET15)/Datos!EU15)," - "),IF(ISNUMBER(IF(ISNUMBER(S15),S15,0)/((Datos!EU15-U15)/Datos!EU15)),IF(ISNUMBER(S15),S15,0)/((Datos!EU15-U15)/Datos!EU15))) -> - | W15: =IF(ISNUMBER(Datos!CV15),Datos!CV15," - ") -> - | X15: =IF(ISNUMBER(Datos!DH15),Datos!DH15," - ") -> - | Y15: =IF(ISNUMBER(Datos!DI15),Datos!DI15," - ") -> - | Z15: =IF(ISNUMBER(Datos!DJ15),Datos!DJ15," - ") -> - | AA15: =IF(ISNUMBER(Datos!DG15),Datos!DG15," - ") -> - | AB15: =IF(ISNUMBER(Datos!CY15),Datos!CY15," - ") -> - | AC15: =IF(ISNUMBER(Datos!CZ15),Datos!CZ15," - ") -> - | AD15: =IF(ISNUMBER(Datos!DA15),Datos!DA15," - ") -> - | AE15: 0 | BZ15: =Datos!EZ15 -> 0
A16: =ABS(Datos!AO16) -> 0 | B16: =Datos!A16 -> Seccion de Violencia contra la infancia y la adol. | C16: =IF(ISNUMBER(H16-E16+F16),H16-E16+F16," - ") -> - | D16: =IF(ISNUMBER(IF(D_I="SI",Datos!I16,Datos!I16+Datos!AC16)),IF(D_I="SI",Datos!I16,Datos!I16+Datos!AC16)," - ") -> - | E16: =IF(ISNUMBER(IF(D_I="SI",Datos!J16,Datos!J16+Datos!AD16)),IF(D_I="SI",Datos!J16,Datos!J16+Datos!AD16)," - ") -> - | F16: =IF(ISNUMBER(IF(D_I="SI",Datos!K16,Datos!K16+Datos!AE16)),IF(D_I="SI",Datos!K16,Datos!K16+Datos!AE16)," - ") -> - | G16: =IF(Datos!E16<>"",Datos!E16,Datos!D16) -> 60 | H16: =IF(ISNUMBER(IF(D_I="SI",Datos!L16,Datos!L16+Datos!AF16)),IF(D_I="SI",Datos!L16,Datos!L16+Datos!AF16)," - ") -> - | I16: =IF(ISNUMBER(Datos!AS16/Datos!BM16),Datos!AS16/Datos!BM16," - ") -> - | J16: =IF(ISNUMBER(Datos!BY16/Datos!CN16),Datos!BY16/Datos!CN16," - ") -> 0 | K16: =IF(ISNUMBER((E16-F16)/C16),(E16-F16)/C16," - ") -> - | L16: =IF(ISNUMBER(NºAsuntos!I16/NºAsuntos!G16),(NºAsuntos!I16/NºAsuntos!G16)*11," - ") -> - | M16: =IF(ISNUMBER(Datos!CL16),Datos!CL16," - ") -> - | N16: =Datos!CU16 -> 0 | O16: =Datos!CT16 -> 0 | P16: =IF(ISNUMBER((Datos!AS16/Datos!AQ16)),(Datos!AS16/Datos!AQ16)," - ") -> - | Q16: =IF(ISNUMBER(Datos!CQ16+Datos!CR16),Datos!CQ16+Datos!CR16*1.16," - ") -> 0 | R16: =IF(ISNUMBER((P16/Datos!CO16)*factor_trimestre),(P16/Datos!CO16)*factor_trimestre," - ") -> - | S16: =IF(ISNUMBER((Q16/Datos!CP16)*factor_trimestre),(Q16/Datos!CP16)*factor_trimestre," - ") -> 0 | T16: =Datos!ET16 -> 0 | V16: =IF(U16="",IF(ISNUMBER(IF(ISNUMBER(S16),S16,0)/((Datos!EU16-Datos!ET16)/Datos!EU16)),IF(ISNUMBER(S16),S16,0)/((Datos!EU16-Datos!ET16)/Datos!EU16)," - "),IF(ISNUMBER(IF(ISNUMBER(S16),S16,0)/((Datos!EU16-U16)/Datos!EU16)),IF(ISNUMBER(S16),S16,0)/((Datos!EU16-U16)/Datos!EU16))) -> - | W16: =IF(ISNUMBER(Datos!CV16),Datos!CV16," - ") -> - | X16: =IF(ISNUMBER(Datos!DH16),Datos!DH16," - ") -> - | Y16: =IF(ISNUMBER(Datos!DI16),Datos!DI16," - ") -> - | Z16: =IF(ISNUMBER(Datos!DJ16),Datos!DJ16," - ") -> - | AA16: =IF(ISNUMBER(Datos!DG16),Datos!DG16," - ") -> - | AB16: =IF(ISNUMBER(Datos!CY16),Datos!CY16," - ") -> - | AC16: =IF(ISNUMBER(Datos!CZ16),Datos!CZ16," - ") -> - | AD16: =IF(ISNUMBER(Datos!DA16),Datos!DA16," - ") -> - | AE16: 0 | BZ16: =Datos!EZ16 -> 0
A17: =ABS(Datos!AO17) -> 4 | B17: =Datos!A17 -> Sección Civil y de Inst. TI | C17: =IF(ISNUMBER(H17-E17+F17),H17-E17+F17," - ") -> 1634 | D17: =IF(ISNUMBER(IF(D_I="SI",Datos!I17,Datos!I17+Datos!AC17)),IF(D_I="SI",Datos!I17,Datos!I17+Datos!AC17)," - ") -> 1564 | E17: =IF(ISNUMBER(IF(D_I="SI",Datos!J17,Datos!J17+Datos!AD17)),IF(D_I="SI",Datos!J17,Datos!J17+Datos!AD17)," - ") -> 1185 | F17: =IF(ISNUMBER(IF(D_I="SI",Datos!K17,Datos!K17+Datos!AE17)),IF(D_I="SI",Datos!K17,Datos!K17+Datos!AE17)," - ") -> 1203 | G17: =IF(Datos!E17<>"",Datos!E17,Datos!D17) -> 04 | H17: =IF(ISNUMBER(IF(D_I="SI",Datos!L17,Datos!L17+Datos!AF17)),IF(D_I="SI",Datos!L17,Datos!L17+Datos!AF17)," - ") -> 1616 | I17: =IF(ISNUMBER(Datos!AS17/Datos!BM17),Datos!AS17/Datos!BM17," - ") -> - | J17: =IF(ISNUMBER(Datos!BY17/Datos!CN17),Datos!BY17/Datos!CN17," - ") -> 0 | K17: =IF(ISNUMBER((E17-F17)/C17),(E17-F17)/C17," - ") -> -0.011015912 | L17: =IF(ISNUMBER(NºAsuntos!I17/NºAsuntos!G17),(NºAsuntos!I17/NºAsuntos!G17)*11," - ") -> 14.776392 | M17: =IF(ISNUMBER(Datos!CL17),Datos!CL17," - ") -> - | N17: =Datos!CU17 -> 0 | O17: =Datos!CT17 -> 0 | P17: =IF(ISNUMBER((Datos!AS17/Datos!AQ17)),(Datos!AS17/Datos!AQ17)," - ") -> - | Q17: =IF(ISNUMBER(Datos!CQ17),Datos!CQ17," - ") -> - | R17: =IF(ISNUMBER((P17/Datos!CO17)*factor_trimestre),(P17/Datos!CO17)*factor_trimestre," - ") -> - | S17: =IF(ISNUMBER((Q17/Datos!CP17)*factor_trimestre),(Q17/Datos!CP17)*factor_trimestre," - ") -> - | T17: =Datos!ET17 -> 0 | V17: =IF(U17="",IF(ISNUMBER(IF(ISNUMBER(S17),S17,0)/((Datos!EU17-Datos!ET17)/Datos!EU17)),IF(ISNUMBER(S17),S17,0)/((Datos!EU17-Datos!ET17)/Datos!EU17)," - "),IF(ISNUMBER(IF(ISNUMBER(S17),S17,0)/((Datos!EU17-U17)/Datos!EU17)),IF(ISNUMBER(S17),S17,0)/((Datos!EU17-U17)/Datos!EU17))) -> - | W17: =IF(ISNUMBER(Datos!CV17),Datos!CV17," - ") -> - | X17: =IF(ISNUMBER(Datos!DH17),Datos!DH17," - ") -> - | Y17: =IF(ISNUMBER(Datos!DI17),Datos!DI17," - ") -> - | Z17: =IF(ISNUMBER(Datos!DJ17),Datos!DJ17," - ") -> - | AA17: =IF(ISNUMBER(Datos!DG17),Datos!DG17," - ") -> - | AB17: =IF(ISNUMBER(Datos!CY17),Datos!CY17," - ") -> - | AC17: =IF(ISNUMBER(Datos!CZ17),Datos!CZ17," - ") -> - | AD17: =IF(ISNUMBER(Datos!DA17),Datos!DA17," - ") -> - | AE17: 0 | BZ17: =Datos!EZ17 -> 0
A18: =ABS(Datos!AO18) -> 1 | B18: =Datos!A18 -> Sección De Violencia sobre la Mujer del TI | C18: =IF(ISNUMBER(H18-E18+F18),H18-E18+F18," - ") -> 73 | D18: =IF(ISNUMBER(IF(D_I="SI",Datos!I18,Datos!I18+Datos!AC18)),IF(D_I="SI",Datos!I18,Datos!I18+Datos!AC18)," - ") -> 73 | E18: =IF(ISNUMBER(IF(D_I="SI",Datos!J18,Datos!J18+Datos!AD18)),IF(D_I="SI",Datos!J18,Datos!J18+Datos!AD18)," - ") -> 0 | F18: =IF(ISNUMBER(IF(D_I="SI",Datos!K18,Datos!K18+Datos!AE18)),IF(D_I="SI",Datos!K18,Datos!K18+Datos!AE18)," - ") -> 3 | G18: =IF(Datos!E18<>"",Datos!E18,Datos!D18) -> 37 | H18: =IF(ISNUMBER(IF(D_I="SI",Datos!L18,Datos!L18+Datos!AF18)),IF(D_I="SI",Datos!L18,Datos!L18+Datos!AF18)," - ") -> 70 | I18: =IF(ISNUMBER(Datos!AS18/Datos!BM18),Datos!AS18/Datos!BM18," - ") -> - | J18: =IF(ISNUMBER((Datos!BY18+Datos!BZ18)/Datos!CN18),(Datos!BY18+Datos!BZ18)/Datos!CN18," - ") -> - | K18: =IF(ISNUMBER((E18-F18)/C18),(E18-F18)/C18," - ") -> -0.04109589 | L18: =IF(ISNUMBER(NºAsuntos!I18/NºAsuntos!G18),(NºAsuntos!I18/NºAsuntos!G18)*11," - ") -> 256.66667 | M18: =IF(ISNUMBER(Datos!CL18),Datos!CL18," - ") -> - | N18: =Datos!CU18 -> 0 | O18: =Datos!CT18 -> 0 | P18: =IF(ISNUMBER((Datos!AS18/Datos!AQ18)),(Datos!AS18/Datos!AQ18)," - ") -> - | Q18: =IF(ISNUMBER(Datos!CQ18),Datos!CQ18," - ") -> - | R18: =IF(ISNUMBER((P18/Datos!CO18)*factor_trimestre),(P18/Datos!CO18)*factor_trimestre," - ") -> - | S18: =IF(ISNUMBER((Q18/Datos!CP18)*factor_trimestre),(Q18/Datos!CP18)*factor_trimestre," - ") -> - | T18: =Datos!ET18 -> 0 | V18: =IF(U18="",IF(ISNUMBER(IF(ISNUMBER(S18),S18,0)/((Datos!EU18-Datos!ET18)/Datos!EU18)),IF(ISNUMBER(S18),S18,0)/((Datos!EU18-Datos!ET18)/Datos!EU18)," - "),IF(ISNUMBER(IF(ISNUMBER(S18),S18,0)/((Datos!EU18-U18)/Datos!EU18)),IF(ISNUMBER(S18),S18,0)/((Datos!EU18-U18)/Datos!EU18))) -> - | W18: =IF(ISNUMBER(Datos!CV18),Datos!CV18," - ") -> - | X18: =IF(ISNUMBER(Datos!DH18),Datos!DH18," - ") -> - | Y18: =IF(ISNUMBER(Datos!DI18),Datos!DI18," - ") -> - | Z18: =IF(ISNUMBER(Datos!DJ18),Datos!DJ18," - ") -> - | AA18: =IF(ISNUMBER(Datos!DG18),Datos!DG18," - ") -> - | AB18: =IF(ISNUMBER(Datos!CY18),Datos!CY18," - ") -> - | AC18: =IF(ISNUMBER(Datos!CZ18),Datos!CZ18," - ") -> - | AD18: =IF(ISNUMBER(Datos!DA18),Datos!DA18," - ") -> - | AE18: 0 | BZ18: =Datos!EZ18 -> 0
B19: =Datos!A19 -> TOTAL | C19: =SUBTOTAL(9,C15:C18) -> 1707 | D19: =SUBTOTAL(9,D15:D18) -> 1637 | E19: =SUBTOTAL(9,E15:E18) -> 1185 | F19: =SUBTOTAL(9,F15:F18) -> 1206 | G19: =INDIRECT(CONCATENATE("G",ROW()-1)) -> 37 | H19: =SUMIF(G$14:G18,G19,H$14:H18) -> 70 | M19: =SUMIF(G$14:G18,G19,M$14:M18) -> 0 | P19: =SUMIF(G$14:G18,G19,P$14:P18) -> 0 | Q19: =SUMIF(G$14:G18,G19,Q$14:Q18) -> 0 | R19: =SUMIF(G$14:G18,G19,R$14:R18) -> 0 | S19: =SUMIF(G$14:G18,G19,S$14:S18) -> 0 | V19: =SUMIF(G$14:G18,G19,V$14:V18) -> 0 | W19: =SUMIF($G$14:$G18,$G19,W$14:W18) -> 0 | X19: =SUMIF($G$14:$G18,$G19,X$14:X18) -> 0 | Y19: =SUMIF($G$14:$G18,$G19,Y$14:Y18) -> 0 | Z19: =SUMIF($G$14:$G18,$G19,Z$14:Z18) -> 0 | AA19: =SUMIF($G$14:$G18,$G19,AA$14:AA18) -> 0 | AB19: =SUMIF($G$14:$G18,$G19,AB$14:AB18) -> 0 | AC19: =SUMIF($G$14:$G18,$G19,AC$14:AC18) -> 0 | AD19: =SUMIF($G$14:$G18,$G19,AD$14:AD18) -> 0
B20: =Datos!A20 -> TOTAL JURISDICCIONES | C20: =SUBTOTAL(9,C9:C19) -> 1707 | D20: =SUBTOTAL(9,D9:D19) -> 1637 | E20: =SUBTOTAL(9,E9:E19) -> 1185 | F20: =SUBTOTAL(9,F9:F19) -> 1206 | H20: =SUMIF(B9:B19,"TOTAL",H9:H19) -> 70 | M20: =SUMIF(B9:B19,"TOTAL",M9:M19) -> 0 | R20: =SUMIF(B9:B19,"TOTAL",R9:R19) -> 0 | S20: =SUMIF(B9:B19,"TOTAL",S9:S19) -> 0 | V20: =SUMIF(B9:B19,"TOTAL",V9:V19) -> 0 | W20: =SUMIF($B9:$B19,"TOTAL",W9:W19) -> 0 | X20: =SUMIF($B9:$B19,"TOTAL",X9:X19) -> 0 | Y20: =SUMIF($B9:$B19,"TOTAL",Y9:Y19) -> 0 | Z20: =SUMIF($B9:$B19,"TOTAL",Z9:Z19) -> 0 | AA20: =SUMIF($B9:$B19,"TOTAL",AA9:AA19) -> 0 | AB20: =SUMIF($B9:$B19,"TOTAL",AB9:AB19) -> 0 | AC20: =SUMIF($B9:$B19,"TOTAL",AC9:AC19) -> 0 | AD20: =SUMIF($B9:$B19,"TOTAL",AD9:AD19) -> 0
B23: =Criterios!A4 -> Fecha Informe: 06 oct. 2026
N26: Órganos Unipersonales | Y26: Órganos Colegiados
N28: TI | O28: Magistrado/Juez titular del órgano. Actuación ordinaria | Y28: TI | Z28: Magistrado titular del órgano. Actuación ordinaria
N29: T2 | O29: Magistrado/Juez titular del órgano. Actuando como auto refuerzo | Y29: T2 | Z29: Magistrado titular del órgano. Actuando como auto refuerzo
N30: SU | O30: Titulares de otros órganos. En funciones de sustitución del titular | Y30: SP | Z30: Magistrado suplente. En funciones de sustitución del titular/Alumnos en prácticas de la Escuela Judicial.
N31: S2 | O31: Titulares de otros órganos. En funciones de refuerzo | Y31: P2 | Z31: Magistrado suplente. En funciones de refuerzo/Alumnos en prácticas de la Escuela Judicial.
N32: S3 | O32: En comisión de servicio sin relevación de funciones o cualquier otra sustitución retribuida | Y32: SU | Z32: Titulares de otros órganos. En funciones de sustitución del titular
N33: AD | O33: Jueces de adscripción territorial. En funciones de sustitución del titular | Y33: S2 | Z33: Titulares de otros órganos. En funciones de refuerzo
N34: A2 | O34: Jueces de adscripción territorial. En funciones de refuerzo | Y34: S3 | Z34: En comisión de servicio sin relevación de funciones o cualquier otra sustitución retribuida (No refuerzo)
N35: SP | O35: Jueces sustitutos. En funciones de sustitución del titular/Alumnos en prácticas de la Escuela Judicial. | Y35: OT | Z35: Otros magistrados. Por nulidad de sentencia
N36: P2 | O36: Jueces sustitutos. En funciones de refuerzo/Alumnos en prácticas de la Escuela Judicial. | Y36: O3 | Z36: Otros magistrados. Comisión de servicio con relevación de funciones
N37: OT | O37: Otros magistrados o jueces. Por nulidad de sentencia | Y37: O4 | Z37: Otros magistrados. Por otras circunstancias
N38: O2 | O38: Otros magistrados o jueces. Prórroga de jurisdicción | Y38: AD | Z38: Jueces de adscripción territorial. En funciones de sustitución del titular
N39: O3 | O39: Otros magistrados o jueces. Comisión de servicio con relevación de funciones | Y39: A2 | Z39: Jueces de adscripción territorial. En funciones de refuerzo
N40: O4 | O40: Otros magistrados o jueces. Por otras circunstancias

Sheet Definiciones
B8: DEFINICIONES USADAS EN LOS INFORMES ESTADÍSTICOS
B11: Tasa de sentencia: Cociente entre el número de sentencias y el de asuntos resueltos, expresado en tanto por ciento. Indica el porcentaje de asuntos que se resuelven por sentencia.
B13: Tasa de pendencia: Cociente entre los asuntos pendientes al final del periodo y los resueltos en ese periodo. Cuando el periodo sea distinto del año se ponderará el numero de asuntos resueltos para expresarlo en términos anuales. Si se multiplica por 12 indica el número de meses que se necesitaría, con el mismo ritmo resolutivo y sin ningún ingreso, para acabar con la pendencia. Su principal finalidad es permitir la comparación de la pendencia de órganos, territorios, o jurisdicciones, o de estos a lo largo del tiempo. Un órgano, territorio o jurisdicción está en mejor situación cuanto menor sea su tasa de pendencia.
B15: Tasa de resolución: Cociente entre los asuntos resueltos y los ingresados en un determinado periodo. Pone en relación el volumen de ingreso con la capacidad resolutiva. Un órgano, territorio o jurisdicción está en mejor situación cuanto mayor sea su tasa de resolución. Si es mayor que uno indica que se esta resolviendo mas de lo que ingresa.
B17: Tasa de congestión: Cociente donde el numerador esta formado por la suma de los asuntos pendientes al inicio del periodo y los registrados en ese periodo y donde el denominador son los asuntos resueltos en dicho periodo. Un órgano, territorio o jurisdicción está en mejor situación cuanto menor sea su tasa de congestión.

Sheet Datos
H1: Columna | I1: 9 | J1: 10 | K1: 11 | L1: 12 | M1: 13 | N1: 14 | O1: 15 | P1: 16 | Q1: 17 | R1: 18 | S1: 19 | T1: 20 | U1: 21 | V1: 22 | W1: 23 | X1: 24 | Y1: 25 | Z1: 26 | AA1: 27 | AB1: 28 | AC1: 29 | AD1: 30 | AE1: 31 | AF1: 32 | AG1: 33 | AH1: 34 | AI1: 35 | AJ1: 36 | AK1: 37 | AL1: 38 | AM1: 39 | AN1: 40 | AO1: 41 | AP1: 42 | AQ1: 43 | AR1: 44 | AS1: 45 | AT1: 46 | AU1: 47 | AV1: 48 | AW1: 49 | AX1: 50 | AY1: 51 | AZ1: 52 | BA1: 53 | BB1: 54 | BC1: 55 | BD1: 56 | BE1: 57 | BF1: 58 | BG1: 59 | BH1: 60 | BI1: 61 | BJ1: 62 | BK1: 63 | BL1: 64 | BM1: 65 | BV1: 74 | BW1: 75 | BX1: 76 | BY1: 77 | BZ1: 78 | CA1: 79 | CB1: 80 | CC1: 81 | CD1: 82 | CE1: 83 | CF1: 84 | CG1: 85 | CH1: 86 | CI1: 87 | CJ1: 88 | CK1: 89 | CL1: 90 | CM1: 91 | CN1: 92 | CO1: 93 | CP1: 94 | CQ1: 95 | CR1: 96 | CS1: 97 | CT1: 98 | CU1: 99 | CV1: 100 | CW1: 101 | CX1: 102 | CY1: 103 | CZ1: 104 | DA1: 105 | DB1: 106 | DC1: 107 | DD1: 108 | DE1: 109 | DF1: 110 | DG1: 111
A2: =Criterios!C8 -> 0 | B2: =Criterios!B8 -> 0
A3: =Criterios!A9 -> Tribunales de Justicia | B3: =Criterios!B9 -> ANDALUCIA
A4: =Criterios!A10 -> Provincias | B4: =Criterios!B10 -> GRANADA | CE4: Año anterior
A5: ="Año: " &Criterios!B5 & " Trimestre " &Criterios!D5 & " al " &Criterios!D6 -> Año: 2026 Trimestre 2 al 2 | B5: AMBITO TERRITORIAL | C5: Delimitadores | D5: Clasificación | I5: Campos Asociados a: | AO5: Nº de Órganos que emiten un tipo concreto | AP5: Nº de Órganos B | AQ5: Magistrados | AR5: Magistrados B | AS5: MODULO DE ENTRADA 1 | AT5: MODULO DE ENTRADA 2 | AU5: MODULO DE RESOLUCION 1 | AV5: MODULO DE RESOLUCION 2 | AW5: MODULO DE PENDENCIA 1 | AX5: MODULO DE PENDENCIA 2 | AY5: Datos Año Anterior | BD5: Tasa Año Anterior | BH5: Nº de Órganos que emiten un tipo concreto TRIMESTRE ANTERIOR | BI5: Nº de Órganos B TRIMESTRE ANTERIOR | BJ5: MODULO AÑO ANTERIOR | BK5: MAGISTRADOS AÑO ANTERIOR | BL5: MAGISTRADOS AÑO ANTERIOR B | BM5: MODULO TEORICO ENTRADA ÓRGANO | BV5: Sentencias Pendientes | BW5: Escritos pendientes de proveeer hasta 30 días | BX5: Escritos Pendientes de proveer más de 30 días | BY5: Puntos Dedicación | BZ5: Puntos Dedicación 2 | CA5: Monitorios Pendientes Inicio | CB5: Monitorios Ingresados | CC5: Monitorios Resuletos | CD5: Monitorios Pendientes fin | CE5: Monitorios Pendientes inicio | CF5: Monitorios Ingresados | CG5: Monitorios Resuletos | CH5: Monitorios Pendientes fin | CI5: Suspendidos | CJ5: Señalados | CK5: Sentencias Pendientes (menos 3 meses) juez | CL5: Sentencias Pendientes (entre 3 y 6 meses) juez | CM5: Sentencias Pendientes (más 6 mes) juez | CN5: Modulo teorico de dedicic. organo | CO5: Modulo teorico de entrada magistrado | CP5: Modulo teorico de dedicic. magistrado | CQ5: Puntos dedic. magistrado | CR5: Puntos dedic. magistrado | CS5: Procedimeintos abreviados elevados | CT5: Registros | CU5: Carácter de actuación | CV5: Sentencias pendientes juez | CW5: Asuntos Pendientes de Incoar | CX5: Fecha más adelantada señalamiento | CY5: Autos Pendientes (menos de 3 meses) juez | CZ5: Autos Pendientes (entre 3 y 6 meses) juez | DA5: Autos Pendientes (más de 6 meses) juez | DB5: MODULO DE ENTRADA 1 INSPECCIÓN | DC5: MODULO DE ENTRADA 2 INSPECCIÓN | DD5: MODULO DE ENTRADA 3 INSPECCIÓN | DE5: Ejecuciones Reiniciadas | DF5: Asuntos reabiertos | DG5: Autos Pendientes (total) juez | DH5: Sentencias Pendientes (menos 3 meses) juez | DI5: Sentencias Pendientes (entre 3 y 6 meses) juez | DJ5: Sentencias Pendientes (más 6 mes) juez | DK5: Admisiones Sec. 1ª | DL5: Inadmisiones | DM5: Asuntos Acumulados | DN5: Pendencia Ordinarios | DO5: Pendencia Abreviados | DP5: Pendencia Recursos Apelación | DQ5: Proc. Abreviados ptes. Exclusivamente de Vista | DR5: Proc. Ordinarios ptes. Declarar Conclusos | DS5: Asuntos Pendientes Exclusivamente de Señalar Votación y Fallo | DT5: Asuntos Cuyo Plazo para Dictar Sentencia se Haya Diferido art. 67.2L RJCA | DU5: Medidas de Refuerzo | DV5: Nº TOTAL autos Pendientes | DW5: Nª autos menos 3 m | DX5: Nª autos entre 3 y 6m | DY5: Nª autos más de 6m | DZ5: Nº TOTAL Sentencias dictadasen P. Abreviados | EA5: Nº TOTAL Sentencias dictadas en p. Ordinarios | EB5: Número diligencias previas ingresadas | EC5: Número dtos leves ingresados | ED5: Ingreso computable Proc. Abrev. | EE5: Modulo Ingreso Computable D. Previas 2003 | EF5: Modulo Ingreso Computable Dtos leves 2003 | EG5: Modulo ingreso computable 2013 Pas | EH5: Modulo ingreso computable 2013 Ejecutorias | EI5: Asuntos Pendientes de instrucción compleja | EJ5: Ejecutorias pendientes de Incoar | EK5: Asuntos resueltos sujetos a seguimiento y control | EL5: Concursos | EO5: MODULO DE ENTRADA 2018 | EP5: MODULO DE RESOLUCION 2018 | EQ5: MODULO DE PENDENCIA 2018 | ER5: MODULO TEÓRICO ENTRADA 2018 | ES5: Pendencia Concursos año anterior | ET5: Número días PyL | EU5: Número días Periodo | EV5: Asuntos Repartidos Pendientes de Aceptar | EW5: Expedientes Repartidos Pendientes de Aceptar | EX5: Asuntos Devueltos al instructor | EY5: Pendientes remitir por Fiscalía | EZ5: CODUNIDAD (Se muestra en lsa coluna BZ de juez, Nº asuntos, resol asuntos, las de indicadores)
I6: Nº Asuntos | P6: Ejecutorias | S6: Año Anterior | Y6: Jurisdicción voluntaria | AC6: Diligencias indeterminadas | AG6: Jurisdicción voluntaria ANUAL | AK6: Diligencias indeterminadas ANUAL
A7: COMPETENCIAS | D7: Boletin | E7: Sub-modelo / nota:Residual en | F7: ccodtorg | G7: Csasenmu | H7: Especialidad | I7: Pendencias Incio | J7: Ingresados | K7: Resueltos | L7: Pendencias Final | M7: Sentencias | N7: Autos | O7: Decretos | P7: Registradas | Q7: Resueltas | R7: Pendientes | S7: Pendencias Incio | T7: Ingresados | U7: Resueltos | V7: Pendientes fin | W7: Sentencias | X7: Autos | Y7: Pendencias Incio | Z7: Ingresados | AA7: Resueltos | AB7: Pendencias Final | AC7: Pendencias Incio | AD7: Ingresados | AE7: Resueltos | AF7: Pendencias Final | AG7: Pendencias Incio | AH7: Ingresados | AI7: Resueltos | AJ7: Pendencias Final | AK7: Pendencias Incio | AL7: Ingresados | AM7: Resueltos | AN7: Pendencias Final | AY7: Pendencias Incio | AZ7: Ingresados | BA7: Resueltos | BB7: Pendientes fin | BC7: Sentencias | BD7: Resueltos | BE7: Pendientes | BF7: Sentencia | BG7: Congestión | EL7: Presentados | EM7: Resolución | EN7: Pendencia
A8: Jurisdicción Civil ( 1 ): | B8: PJ | C8: CB | DG8: 111 | DH8: 112 | DI8: 113 | DJ8: 114 | DK8: 115 | DL8: 116 | DM8: 117 | DN8: 118 | DO8: 119 | DP8: 120 | DQ8: 121 | DR8: 122 | DS8: 123 | DT8: 124 | DU8: 125 | DV8: 126 | DW8: 127 | DX8: 128 | DY8: 129 | DZ8: 130 | EA8: 131 | EB8: 132 | EC8: 133 | ED8: 134 | EE8: 135 | EF8: 136 | EG8: 137 | EH8: 138 | EI8: 139 | EJ8: 140 | EK8: 141 | EL8: 142 | EM8: 143 | EN8: 144 | EO8: 145 | EP8: 146 | EQ8: 147 | ER8: 148 | ES8: 149 | ET8: 150 | EU8: 151 | EV8: 152 | EW8: 153 | EX8: 154 | EY8: 155 | EZ8: 156
A9: Sección Civil del T.I | B9: PJ | C9: DT | D9: 04 | E9: 01 | F9: 32 | G9: csasenmu <>'000' | H9: (ccodespe like 'F%') (ccodespe like 'F%' or ccodespe like 'IN' or ccodespe like 'EC' or ccodespe like 'I ' or ccodespe like 'TE') | I9: TCON1111+MOVCO111+INCID111+MECAU111+TCON2111+TDERE118+PROMO118+PROES118+MEDTO118+INCTO118+AUTME115+SOLRE115 | J9: TCONT211+TCON2211+MOVCO211+INCID211+MECAU211+TDERE218+TDERE318+PROMO218+PROES218+MEDTO218+INCTO218+AUTME215+SOLRE215 | K9: TCON1311+TCON2311+MOVCO511+MOVCO611+MOVCO711+INCID311+MECAU311+TDERE418+TDERE518+PROMO318+PROMB318-PROMB218+PROES318+MEDTO318+INCTO318+SOLRE315+AUTME315 | L9: TCON1411+TCON2411+TDERE618+PROMO418+PROES418+MOVCO811+INCID411+MECAU411+MEDTO418+INCTO418+SOLRE415+AUTME415 | M9: SENPT313+SENFT313+SENCOV13+SENCON13 | N9: AUTOST13+AUTFCT13 | O9: DECRET13 | P9: TCIVI215 | Q9: TCIVI515 | R9: TCIVI615 | Y9: TVOLU115+INTEV115 | Z9: TVOLU215+INTEV215 | AA9: TVOLU315+INTEV315 | AB9: TVOLU415+INTEV415 | AO9: 0 | AP9: 0 | AQ9: 0 | AR9: 0 | AS9: TCONT211+TCON2211+MOVCO211+INCID211+MECAU211+TDERE218+MEDTO218+ INCTO218+EJEHI211+EJEHI311+OTRNJ211+OTRNJ311+(-DIVOC218)+(-SEPAM218)+(-MECON218)+(-GUCON218)+PROMO218+PROES218+SOLRE215 | AY9: =IF(ISNUMBER(IF(J_V="SI",S9,S9+AG9)),IF(J_V="SI",S9,S9+AG9)," - ") -> 0 | AZ9: =IF(ISNUMBER(IF(J_V="SI",T9,T9+AH9)),IF(J_V="SI",T9,T9+AH9)," - ") -> 0 | BA9: =IF(ISNUMBER(IF(J_V="SI",U9,U9+AI9)),IF(J_V="SI",U9,U9+AI9)," - ") -> 0 | BB9: =IF(ISNUMBER(IF(J_V="SI",V9,V9+AJ9)),IF(J_V="SI",V9,V9+AJ9)," - ") -> 0 | BC9: =IF(ISNUMBER(X9),X9," - ") -> - | BD9: =IF(ISNUMBER(BA9/AZ9),BA9/AZ9," - ") -> - | BE9: =IF(ISNUMBER(BB9/BA9),BB9/BA9, " - ") -> - | BF9: =IF(ISNUMBER(BC9/BA9),BC9/BA9, " - ") -> - | BG9: =IF(ISNUMBER((AY9+AZ9)/BA9),(AY9+AZ9)/BA9," - ") -> - | BH9: 0 | BM9: 720 | CN9: 1088 | CO9: 720 | CP9: 1088 | EO9: TCON2211+MOVCO211*1.5+INCID211+MECAU211+TVOLU215+(TDERE218+MEDTO218+INCTO218)*0.8+INTEV215+AUTME215+PROMO218+PROES218+REPIN318+SOLRE215+TCIVI215+(NVL(CONCU219,0) +NVL(ICTOT219,0)+NVL(PCTOT219,0)+NVL(DILTO219,0)+NVL(MEDCA219,0)+NVL(EXPAR219,0)+NVL(MONIT219,0)+NVL(JURIS219,0))*1.5+NVL(EJTOT219,0)+(NVL(TPROC224,0)+NVL(PIESE224,0)+NVL(ASUEX224,0)+NVL(MICTO219,0))*0.36 | ER9: 1200
A10: Sección De Violencia sobre la Mujer del TI | B10: PJ | C10: DT | D10: 37 | E10: 37 | F10: 53 | G10: csasenmu <>'000' | I10: 0 | J10: 0 | K10: 0 | L10: 0 | M10: 0 | N10: 0 | O10: 4 | P10: 0 | Q10: 4 | R10: 0 | S10: 19 | T10: 0 | U10: 5 | V10: 14 | W10: 1 | X10: 2 | Y10: 0 | Z10: 0 | AA10: 0 | AB10: 0 | AC10: 0 | AD10: 0 | AE10: 0 | AF10: 0 | AG10: 0 | AH10: 0 | AI10: 0 | AJ10: 0 | AK10: 0 | AL10: 0 | AM10: 0 | AN10: 0 | AO10: 1 | AP10: 0 | AQ10: 0 | AR10: 0 | AS10: PCTOT247+MEDTO247+INCTO247 | AY10: =IF(ISNUMBER(S10),S10," - ") -> 19 | AZ10: =IF(ISNUMBER(T10),T10," - ") -> 0 | BA10: =IF(ISNUMBER(U10),U10," - ") -> 5 | BB10: =IF(ISNUMBER(V10),V10," - ") -> 14 | BC10: =IF(ISNUMBER(W10),W10," - ") -> 1 | BD10: =IF(ISNUMBER(BA10/AZ10),BA10/AZ10," - ") -> - | BE10: =IF(ISNUMBER(BB10/BA10),BB10/BA10, " - ") -> 2.8 | BF10: =IF(ISNUMBER(BC10/BA10),BC10/BA10, " - ") -> 0.2 | BG10: =IF(ISNUMBER((AY10+AZ10)/BA10),(AY10+AZ10)/BA10," - ") -> 3.8 | BH10: 1 | BM10: 0 | CN10: 1175 | CO10: 0 | CP10: 1175 | EO10: PCTOT247 | ER10: 1600
A11: Sección de Familia, infancia y capacidad del TI | B11: PJ | C11: DT | D11: 04 | E11: 02 | F11: 32 | G11: csasenmu <>'000' | H11: ccodespe like 'F%' | I11: TCON1111+MOVCO111+INCID111+MECAU111+TCON2111+TDERE118+PROMO118+PROES118+MEDTO118+INCTO118+AUTME115+SOLRE115 | J11: TCONT211+TCON2211+MOVCO211+INCID211+MECAU211+TDERE218+TDERE318+PROMO218+PROES218+MEDTO218+INCTO218+AUTME215+SOLRE215 | K11: TCON1311+TCON2311+MOVCO511+MOVCO611+MOVCO711+INCID311+MECAU311+TDERE418+TDERE518+PROMO318+PROMB318-PROMB218+PROES318+MEDTO318+INCTO318+SOLRE315+AUTME315 | L11: TCON1411+TCON2411+TDERE618+PROMO418+PROES418+MOVCO811+INCID411+MECAU411+MEDTO418+INCTO418+SOLRE415+AUTME415 | M11: SENPT313+SENFT313+SENCOV13+SENCON13 | N11: AUTOST13+AUTFCT13 | O11: DECRET13 | P11: TCIVI215 | Q11: TCIVI515 | R11: TCIVI615 | Y11: TVOLU115+INTEV115 | Z11: TVOLU215+INTEV215 | AA11: TVOLU315+INTEV315 | AB11: TVOLU415+INTEV415 | AO11: 0 | AP11: 0 | AQ11: 0 | AR11: 0 | AS11: TDERE218+MEDTO218+INCTO218+PROMO218+PROES218+SOLRE215 | AY11: =IF(ISNUMBER(IF(J_V="SI",S11,S11+AG11)),IF(J_V="SI",S11,S11+AG11)," - ") -> 0 | AZ11: =IF(ISNUMBER(IF(J_V="SI",T11,T11+AH11)),IF(J_V="SI",T11,T11+AH11)," - ") -> 0 | BA11: =IF(ISNUMBER(IF(J_V="SI",U11,U11+AI11)),IF(J_V="SI",U11,U11+AI11)," - ") -> 0 | BB11: =IF(ISNUMBER(IF(J_V="SI",V11,V11+AJ11)),IF(J_V="SI",V11,V11+AJ11)," - ") -> 0 | BC11: =IF(ISNUMBER(X11),X11," - ") -> - | BD11: =IF(ISNUMBER(BA11/AZ11),BA11/AZ11," - ") -> - | BE11: =IF(ISNUMBER(BB11/BA11),BB11/BA11, " - ") -> - | BF11: =IF(ISNUMBER(BC11/BA11),BC11/BA11, " - ") -> - | BG11: =IF(ISNUMBER((AY11+AZ11)/BA11),(AY11+AZ11)/BA11," - ") -> - | BH11: 0 | BM11: 1000 | CN11: 1088 | CO11: 1000 | CP11: 1088 | EO11: TDERE218+MEDTO218+INCTO218+TVOLU215*0.6+INTEV215*0.32+AUTME215+(PROMO218-PROCO218-PRONO218+PROES218+PROCO218)*1.6+PRONO218*0.6+REPIN318+SOLRE215+TCIVI215+TCON2211*1.25+MOVCO211*1.875+INCID211*1.25+MECAU211*1.25+(NVL(CONCU219,0)+NVL(ICTOT219,0)+NVL(PCTOT219,0)+NVL(DILTO219,0)+NVL(MEDCA219,0)+NVL(EXPAR219,0)+NVL(MONIT219,0)+NVL(JURIS219,0)+NVL(MICTO219,0))*1.875+NVL(EJTOT219,0) | ER11: 1323
A12: Sección Civil y de Instrucción del T.I. | B12: PJ | C12: DT | D12: 04 | E12: 04 | F12: 31 | G12: csasenmu <>'000' | I12: 4229 | J12: 1135 | K12: 1302 | L12: 4062 | M12: 307 | N12: 625 | O12: 660 | P12: 283 | Q12: 187 | R12: 6580 | S12: 4523 | T12: 800 | U12: 1237 | V12: 4079 | W12: 281 | X12: 512 | Y12: 404 | Z12: 71 | AA12: 109 | AB12: 366 | AC12: 0 | AD12: 0 | AE12: 0 | AF12: 0 | AG12: 303 | AH12: 93 | AI12: 76 | AJ12: 320 | AK12: 0 | AL12: 0 | AM12: 0 | AN12: 0 | AO12: 4 | AP12: 4 | AQ12: 4 | AR12: 4 | AS12: TCONT211+TCON2211+MOVCO211+INCID211+MECAU211+TDERE218+MEDTO218+INCTO218+EJEHI211+EJEHI311+OTRNJ211+OTRNJ311+(-DIVOC218)+(-SEPAM218)+(-MECON218)+(-GUCON218)+PROMO218+PROES218+SOLRE215 | AY12: =IF(ISNUMBER(IF(J_V="SI",S12,S12+AG12)),IF(J_V="SI",S12,S12+AG12)," - ") -> 4826 | AZ12: =IF(ISNUMBER(IF(J_V="SI",T12,T12+AH12)),IF(J_V="SI",T12,T12+AH12)," - ") -> 893 | BA12: =IF(ISNUMBER(IF(J_V="SI",U12,U12+AI12)),IF(J_V="SI",U12,U12+AI12)," - ") -> 1313 | BB12: =IF(ISNUMBER(IF(J_V="SI",V12,V12+AJ12)),IF(J_V="SI",V12,V12+AJ12)," - ") -> 4399 | BC12: =IF(ISNUMBER(X12),X12," - ") -> 512 | BD12: =IF(ISNUMBER(BA12/AZ12),BA12/AZ12," - ") -> 1.4703247 | BE12: =IF(ISNUMBER(BB12/BA12),BB12/BA12, " - ") -> 3.3503427 | BF12: =IF(ISNUMBER(BC12/BA12),BC12/BA12, " - ") -> 0.38994669 | BG12: =IF(ISNUMBER((AY12+AZ12)/BA12),(AY12+AZ12)/BA12," - ") -> 4.355674 | BH12: 4 | BM12: 380 | CN12: 1088 | CO12: 2880 | CP12: 1088 | EO12: TCON2211+MOVCO211*1.5+INCID211+MECAU211+TVOLU215+(TDERE218+MEDTO218+INCTO218)+INTEV215+AUTME215+PROMO218+PROES218+REPIN318+SOLRE215+TCIVI215+(NVL(CONCU219,0)+NVL(ICTOT219,0)+NVL(PCTOT219,0)+NVL(DILTO219,0)+NVL(MEDCA219,0)+NVL(EXPAR219,0)+NVL(SOLEX219,0)+NVL(MONIT219,0)+NVL(JURIS219,0)+NVL(MICTO219,0))*1.5+NVL(EJTOT219,0)+NVL(PCTOT247,0)+NVL(MEDTO247,0)+NVL(INCTO247,0) | ER12: 680
A13: TOTAL | B13: PJ | C13: TC | I13: =SUBTOTAL(9,I8:I12) -> 4229 | J13: =SUBTOTAL(9,J8:J12) -> 1135 | K13: =SUBTOTAL(9,K8:K12) -> 1302 | L13: =SUBTOTAL(9,L8:L12) -> 4062 | M13: =SUBTOTAL(9,M8:M12) -> 307 | N13: =SUBTOTAL(9,N8:N12) -> 625 | O13: =SUBTOTAL(9,O8:O12) -> 664 | P13: =SUBTOTAL(9,P8:P12) -> 283 | ... AE13: =SUBTOTAL(9,AE8:AE12) -> 0 | AF13: =SUBTOTAL(9,AF9:AF12) -> 0 | AG13: =SUBTOTAL(9,AG8:AG12) -> 303 | AH13: =SUBTOTAL(9,AH8:AH12) -> 93 | AI13: =SUBTOTAL(9,AI8:AI12) -> 76 | AJ13: =SUBTOTAL(9,AJ8:AJ12) -> 320 | AK13: =SUBTOTAL(9,AK8:AK12) -> 0 | AL13: =SUBTOTAL(9,AL8:AL12) -> 0 | AM13: =SUBTOTAL(9,AM8:AM12) -> 0 | AN13: =SUBTOTAL(9,AN8:AN12) -> 0 | ... AT13: =SUBTOTAL(9,AT8:AT12) -> 0 | AY13: =SUBTOTAL(9,AY8:AY12) -> 4845 | AZ13: =SUBTOTAL(9,AZ8:AZ12) -> 893 | BA13: =SUBTOTAL(9,BA8:BA12) -> 1318 | BB13: =SUBTOTAL(9,BB8:BB12) -> 4413 | BC13: =SUBTOTAL(9,BC8:BC12) -> 513 | BD13: =IF(ISNUMBER(BA13/AZ13),BA13/AZ13," - ") -> 1.4759239 | BE13: =IF(ISNUMBER(BB13/BA13),BB13/BA13, " - ") -> 3.3482549 | BF13: =IF(ISNUMBER(BC13/BA13),BC13/BA13, " - ") -> 0.3892261 | BG13: =IF(ISNUMBER((AY13+AZ13)/BA13),(AY13+AZ13)/BA13," - ") -> 4.353566 | BH13: =SUBTOTAL(9,BH8:BH12) -> 5 | BI13: =SUBTOTAL(9,BI8:BI12) -> 0 | BJ13: =SUBTOTAL(9,BJ8:BJ12) -> 0 | BK13: =SUBTOTAL(9,BK8:BK12) -> 0 | BL13: =SUBTOTAL(9,BL8:BL12) -> 0 | BM13: =AVERAGE(BM8:BM12) -> 525 | CA13: =SUBTOTAL(9,CA8:CA12) -> 0 | CB13: =SUBTOTAL(9,CB8:CB12) -> 0 | CC13: =SUBTOTAL(9,CC8:CC12) -> 0 | CD13: =SUBTOTAL(9,CD8:CD12) -> 0 | CE13: =SUBTOTAL(9,CE8:CE12) -> 0 | CF13: =SUBTOTAL(9,CF8:CF12) -> 0 | CG13: =SUBTOTAL(9,CG8:CG12) -> 0 | CH13: =SUBTOTAL(9,CH8:CH12) -> 0 | ... CL13: =SUBTOTAL(9,CL8:CL12) -> 0 | CN13: =AVERAGE(CN8:CN12) -> 1109.75 | CO13: =AVERAGE(CO8:CO12) -> 1150 | CP13: =AVERAGE(CP8:CP12) -> 1109.75 | CS13: =SUBTOTAL(9,CS8:CS12) -> 0 | CT13: =SUBTOTAL(9,CT8:CT12) -> 0 | CU13: =SUBTOTAL(9,CU8:CU12) -> 0 | CV13: =SUBTOTAL(9,CV8:CV12) -> 0 | EL13: =SUBTOTAL(9,EL8:EL12) -> 0 | EM13: =SUBTOTAL(9,EM8:EM12) -> 0 | EN13: =SUBTOTAL(9,EN8:EN12) -> 0 | EP13: =SUBTOTAL(9,EP8:EP12) -> 0 | EQ13: =SUBTOTAL(9,EQ8:EQ12) -> 0 | ER13: =AVERAGE(ER8:ER12) -> 990.2 | ES13: =SUBTOTAL(9,ES8:ES12) -> 0 | EV13: =SUBTOTAL(9,EV8:EV12) -> 0 | EX13: =SUBTOTAL(9,EX8:EX12) -> 0 | EY13: =SUBTOTAL(9,EY8:EY12) -> 0
A14: Jurisdicción Penal ( 2 ): | B14: PJ | C14: CB
A15: Seccion Instruccion Del T.I. | B15: PJ | C15: DT | D15: 04 | E15: 03 | F15: 33 | G15: csasenmu <>'000' | I15: TPROC124+PIESE124 | J15: TPROC224+PIESE224 | K15: TPROC424+PIESE324 | L15: TPROC524+PIESE424 | M15: SENTET25+DELLE525+SENDET25+SENDVD25+SENPDE25+SENPDR25+SENDEC25 | N15: AUTART25+AUTOT125+AUTOT225 | O15: DECRED25+DECREE25 | P15: JFALT224+EJLEV224 | Q15: JFALT424+EJLEV424 | R15: JFALT524+EJLEV524 | AC15: DILII124 | AD15: DILII224 | AE15: DILII424 | AF15: DILII524 | AO15: 0 | AP15: 0 | AQ15: 0 | AR15: 0 | AS15: DILIP224+DILIP324+PIESE224 | AT15: JUICI224+JUICI324 | AY15: =IF(ISNUMBER(IF(D_I="SI",S15,S15+AK15)),IF(D_I="SI",S15,S15+AK15)," - ") -> - | AZ15: =IF(ISNUMBER(IF(D_I="SI",T15,T15+AL15)),IF(D_I="SI",T15,T15+AL15)," - ") -> - | BA15: =IF(ISNUMBER(IF(D_I="SI",U15,U15+AM15)),IF(D_I="SI",U15,U15+AM15)," - ") -> - | BB15: =IF(ISNUMBER(IF(D_I="SI",V15,V15+AN15)),IF(D_I="SI",V15,V15+AN15)," - ") -> - | BC15: =IF(ISNUMBER(W15),W15," - ") -> - | BD15: =IF(ISNUMBER(BA15/AZ15),BA15/AZ15," - ") -> - | BE15: =IF(ISNUMBER(BB15/BA15),BB15/BA15, " - ") -> - | BF15: =IF(ISNUMBER(BC15/BA15),BC15/BA15, " - ") -> - | BG15: =IF(ISNUMBER((AY15+AZ15)/BA15),(AY15+AZ15)/BA15," - ") -> - | BH15: 0 | BM15: 6650 | CN15: 1262 | CO15: 6600 | CP15: 1262 | EO15: TPROC224+PIESE224+ASUEX224+(NVL(TPROC222,0)+NVL(TPROC322,0)+NVL(TPROC422,0)+NVL(TPROX222,0)+NVL(TPROX322,0)+NVL(TPROX422,0)+NVL(TORDP222,0)+NVL(PCTOT247,0)+NVL(MEDTO247,0)+NVL(INCTO247,0))+(NVL(TCON2211,0)+NVL(MOVCO211,0)*1.5+NVL(INCID211,0)+NVL(MECAU211,0)+NVL(TVOLU215,0)+(NVL(TDERE218,0)+NVL(MEDTO218,0)+NVL(INCTO218,0))+NVL(INTEV215,0)+NVL(AUTME215,0)+NVL(PROMO218,0)+NVL(PROES218,0)+NVL(SOLRE215,0)+NVL(TCIVI215,0))*2.75 | ER15: 3300
A16: Seccion de Violencia contra la infancia y la adol. | B16: PJ | C16: DT | D16: 04 | E16: 60 | F16: 36 | G16: csasenmu <>'000' | I16: TPROC124+PIESE124 | J16: TPROC224+PIESE224 | K16: TPROC424+PIESE324 | L16: TPROC524+PIESE424 | M16: SENTET25+DELLE525+SENDET25+SENDVD25+SENPDE25+SENPDR25+SENDEC25 | N16: AUTART25+AUTOT125+AUTOT225 | O16: DECRED25+DECREE25 | P16: JFALT224+EJLEV224 | Q16: JFALT424+EJLEV424 | R16: JFALT524+EJLEV524 | AC16: DILII124 | AD16: DILII224 | AE16: DILII424 | AF16: DILII524 | AO16: 0 | AP16: 0 | AQ16: 0 | AR16: 0 | AS16: DILIP224+DILIP324+PIESE224 | AT16: JUICI224+JUICI324 | AY16: =IF(ISNUMBER(IF(D_I="SI",S16,S16+AK16)),IF(D_I="SI",S16,S16+AK16)," - ") -> - | AZ16: =IF(ISNUMBER(IF(D_I="SI",T16,T16+AL16)),IF(D_I="SI",T16,T16+AL16)," - ") -> - | BA16: =IF(ISNUMBER(IF(D_I="SI",U16,U16+AM16)),IF(D_I="SI",U16,U16+AM16)," - ") -> - | BB16: =IF(ISNUMBER(IF(D_I="SI",V16,V16+AN16)),IF(D_I="SI",V16,V16+AN16)," - ") -> - | BC16: =IF(ISNUMBER(W16),W16," - ") -> - | BD16: =IF(ISNUMBER(BA16/AZ16),BA16/AZ16," - ") -> - | BE16: =IF(ISNUMBER(BB16/BA16),BB16/BA16, " - ") -> - | BF16: =IF(ISNUMBER(BC16/BA16),BC16/BA16, " - ") -> - | BG16: =IF(ISNUMBER((AY16+AZ16)/BA16),(AY16+AZ16)/BA16," - ") -> - | BH16: 0 | BM16: 6650 | CN16: 1262 | CO16: 6600 | CP16: 1262 | EO16: TPROC224+PIESE224+ASUEX224+(NVL(TPROC222,0)+NVL(TPROC322,0)+NVL(TPROC422,0)+NVL(TPROX222,0)+NVL(TPROX322,0)+NVL(TPROX422,0)+NVL(TORDP222,0)+NVL(PCTOT247,0)+NVL(MEDTO247,0)+NVL(INCTO247,0))+(NVL(TCON2211,0)+NVL(MOVCO211,0)*1.5+NVL(INCID211,0)+NVL(MECAU211,0)+NVL(TVOLU215,0)+(NVL(TDERE218,0)+NVL(MEDTO218,0)+NVL(INCTO218,0))+NVL(INTEV215,0)+NVL(AUTME215,0)+NVL(PROMO218,0)+NVL(PROES218,0)+NVL(SOLRE215,0)+NVL(TCIVI215,0))*2.75 | ER16: 3300
A17: Sección Civil y de Inst. TI | B17: PJ | C17: DT | D17: 04 | E17: 04 | F17: 31 | G17: csasenmu <>'000' | I17: 1564 | J17: 1185 | K17: 1203 | L17: 1616 | M17: 150 | N17: 716 | O17: 0 | P17: 58 | Q17: 34 | R17: 392 | S17: 2198 | T17: 1280 | U17: 1401 | V17: 1930 | W17: 119 | X17: 873 | Y17: 0 | Z17: 0 | AA17: 0 | AB17: 0 | AC17: 0 | AD17: 0 | AE17: 0 | AF17: 0 | AG17: 0 | AH17: 0 | AI17: 0 | AJ17: 0 | AK17: 0 | AL17: 0 | AM17: 0 | AN17: 0 | AO17: 4 | AP17: 4 | AQ17: 4 | AR17: 4 | AS17: TPROC224+TPROC324+PIESE224 | AY17: =IF(ISNUMBER(IF(D_I="SI",S17,S17+AK17)),IF(D_I="SI",S17,S17+AK17)," - ") -> 2198 | AZ17: =IF(ISNUMBER(IF(D_I="SI",T17,T17+AL17)),IF(D_I="SI",T17,T17+AL17)," - ") -> 1280 | BA17: =IF(ISNUMBER(IF(D_I="SI",U17,U17+AM17)),IF(D_I="SI",U17,U17+AM17)," - ") -> 1401 | BB17: =IF(ISNUMBER(IF(D_I="SI",V17,V17+AN17)),IF(D_I="SI",V17,V17+AN17)," - ") -> 1930 | BC17: =IF(ISNUMBER(W17),W17," - ") -> 119 | BD17: =IF(ISNUMBER(BA17/AZ17),BA17/AZ17," - ") -> 1.0945312 | BE17: =IF(ISNUMBER(BB17/BA17),BB17/BA17, " - ") -> 1.3775874 | BF17: =IF(ISNUMBER(BC17/BA17),BC17/BA17, " - ") -> 0.084939329 | BG17: =IF(ISNUMBER((AY17+AZ17)/BA17),(AY17+AZ17)/BA17," - ") -> 2.4825125 | BH17: 4 | BM17: 2500 | CN17: 1088 | CO17: 2880 | CP17: 1088 | EO17: TPROC224+PIESE224+ASUEX224+NVL(TPROC222,0)+NVL(TPROC322,0)+NVL(TPROC422,0)+NVL(TPROX222,0)+NVL(TPROX322,0)+NVL(TPROX422,0)+NVL(TORDP222,0) | ER17: 1000
A18: Sección De Violencia sobre la Mujer del TI | B18: PJ | C18: DT | D18: 37 | E18: 37 | F18: 53 | G18: csasenmu <>'000' | I18: 73 | J18: 0 | K18: 3 | L18: 70 | M18: 0 | N18: 3 | O18: 0 | P18: 0 | Q18: 0 | R18: 0 | S18: 109 | T18: 13 | U18: 45 | V18: 126 | W18: 4 | X18: 15 | Y18: 0 | Z18: 0 | AA18: 0 | AB18: 0 | AC18: 0 | AD18: 0 | AE18: 0 | AF18: 0 | AG18: 0 | AH18: 0 | AI18: 0 | AJ18: 0 | AK18: 0 | AL18: 0 | AM18: 0 | AN18: 0 | AO18: 1 | AP18: 0 | AQ18: 0 | AR18: 0 | AS18: TPROC222+TPROC322+TPROC422+TPROX222+TPROX322+TPROX422 TPROC222+TPROC322+TPROC422+TPROX222+TPROX322+TPROX422 TPROC222+TPROC322+TPROC422+TPROX222+TPROX322+TPROX422 | AY18: =IF(ISNUMBER(S18),S18," - ") -> 109 | AZ18: =IF(ISNUMBER(T18),T18," - ") -> 13 | BA18: =IF(ISNUMBER(U18),U18," - ") -> 45 | BB18: =IF(ISNUMBER(V18),V18," - ") -> 126 | BC18: =IF(ISNUMBER(W18),W18," - ") -> 4 | BD18: =IF(ISNUMBER(BA18/AZ18),BA18/AZ18," - ") -> 3.4615385 | BE18: =IF(ISNUMBER(BB18/BA18),BB18/BA18, " - ") -> 2.8 | BF18: =IF(ISNUMBER(BC18/BA18),BC18/BA18, " - ") -> 0.088888889 | BG18: =IF(ISNUMBER((AY18+AZ18)/BA18),(AY18+AZ18)/BA18," - ") -> 2.7111111 | BH18: 1 | BM18: 1800 | BY18: 12*(SUMAR622+SUMAX622)+18*(JURAD622+JURAX622)+3*1.05*(TPRAB222+TPRAB422)+1.75*1.05*(SENTE381+SENLE381)+2*(ACEDEC81)+(2-(1.75*1.05))*(JFALT422+JDLEV422)+2*(TORDP322+TORDP422+TORDP522+TORXP322+TORXP422+TORXP522)+SENDET81*2 | BZ18: GREATEST(DILUR522-(TORDP322+TORDP422+TORDP522+TORXP322+TORXP422+TORXP522)*2.5,0) | CN18: 1175 | CO18: 1800 | CP18: 1175 | EO18: TPROC222+TPROC322+TPROC422+TPROX222+TPROX322+TPROX422 | ER18: 1600
A19: TOTAL | B19: PJ | C19: TC | I19: =SUBTOTAL(9,I14:I18) -> 1637 | J19: =SUBTOTAL(9,J14:J18) -> 1185 | K19: =SUBTOTAL(9,K14:K18) -> 1206 | L19: =SUBTOTAL(9,L14:L18) -> 1686 | M19: =SUBTOTAL(9,M14:M18) -> 150 | N19: =SUBTOTAL(9,N14:N18) -> 719 | O19: =SUBTOTAL(9,O14:O18) -> 0 | P19: =SUBTOTAL(9,P14:P18) -> 58 | ... AT19: =SUBTOTAL(9,AT14:AT18) -> 0 | AY19: =SUBTOTAL(9,AY14:AY18) -> 2307 | AZ19: =SUBTOTAL(9,AZ14:AZ18) -> 1293 | BA19: =SUBTOTAL(9,BA14:BA18) -> 1446 | BB19: =SUBTOTAL(9,BB14:BB18) -> 2056 | BC19: =SUBTOTAL(9,BC14:BC18) -> 123 | BD19: =IF(ISNUMBER(BA19/AZ19),BA19/AZ19," - ") -> 1.1183295 | BE19: =IF(ISNUMBER(BB19/BA19),BB19/BA19, " - ") -> 1.4218534 | BF19: =IF(ISNUMBER(BC19/BA19),BC19/BA19, " - ") -> 0.085062241 | BG19: =IF(ISNUMBER((AY19+AZ19)/BA19),(AY19+AZ19)/BA19," - ") -> 2.4896266 | BH19: =SUBTOTAL(9,BH14:BH18) -> 5 | BI19: =SUBTOTAL(9,BI14:BI18) -> 0 | BJ19: =SUBTOTAL(9,BJ14:BJ18) -> 0 | BK19: =SUBTOTAL(9,BK14:BK18) -> 0 | BL19: =SUBTOTAL(9,BL14:BL18) -> 0 | BM19: =AVERAGE(BM15:BM18) -> 4400 | CA19: =SUBTOTAL(9,CA14:CA18) -> 0 | CB19: =SUBTOTAL(9,CB14:CB18) -> 0 | CC19: =SUBTOTAL(9,CC14:CC18) -> 0 | CD19: =SUBTOTAL(9,CD14:CD18) -> 0 | CE19: =SUBTOTAL(9,CE14:CE18) -> 0 | CF19: =SUBTOTAL(9,CF14:CF18) -> 0 | CG19: =SUBTOTAL(9,CG14:CG18) -> 0 | CH19: =SUBTOTAL(9,CH14:CH18) -> 0 | ... CL19: =SUBTOTAL(9,CL14:CL18) -> 0 | CV19: =SUBTOTAL(9,CV15:CV18) -> 0 | CW19: =SUBTOTAL(9,CW15:CW18) -> 0 | CY19: =SUBTOTAL(9,CY15:CY18) -> 0 | CZ19: =SUBTOTAL(9,CZ15:CZ18) -> 0 | DA19: =SUBTOTAL(9,DA15:DA18) -> 0 | DB19: =SUBTOTAL(9,DB15:DB18) -> 0 | DC19: =SUBTOTAL(9,DC15:DC18) -> 0 | DD19: =SUBTOTAL(9,DD15:DD18) -> 0 | DE19: =SUBTOTAL(9,DE15:DE18) -> 0 | DF19: =SUBTOTAL(9,DF15:DF18) -> 0 | ... EN19: =SUBTOTAL(9,EN15:EN18) -> 0 | EP19: =SUBTOTAL(9,EP15:EP18) -> 0 | EQ19: =SUBTOTAL(9,EQ15:EQ18) -> 0 | ER19: =AVERAGE(ER15:ER18) -> 2300 | EV19: =SUBTOTAL(9,EV15:EV18) -> 0 | EW19: =SUBTOTAL(9,EW15:EW18) -> 0 | EX19: =SUBTOTAL(9,EX15:EX18) -> 0 | EY19: =SUBTOTAL(9,EY15:EY18) -> 0
A20: TOTAL JURISDICCIONES | C20: TTC | I20: =SUBTOTAL(9,I9:I19) -> 5866 | J20: =SUBTOTAL(9,J9:J19) -> 2320 | K20: =SUBTOTAL(9,K9:K19) -> 2508 | L20: =SUBTOTAL(9,L9:L19) -> 5748 | M20: =SUBTOTAL(9,M9:M19) -> 457 | N20: =SUBTOTAL(9,N9:N19) -> 1344 | O20: =SUBTOTAL(9,O9:O19) -> 664 | P20: =SUBTOTAL(9,P9:P19) -> 341 | ... AN20: =SUBTOTAL(9,AN9:AN19) -> 0 | AO20: 5 | AP20: 4 | AQ20: 4 | AR20: 4 | AS20: =SUBTOTAL(9,AS9:AS19) -> 0 | AT20: =SUBTOTAL(9,AT9:AT19) -> 0 | AY20: =SUBTOTAL(9,AY9:AY19) -> 7152 | AZ20: =SUBTOTAL(9,AZ9:AZ19) -> 2186 | BA20: =SUBTOTAL(9,BA9:BA19) -> 2764 | BB20: =SUBTOTAL(9,BB9:BB19) -> 6469 | BC20: =SUBTOTAL(9,BC9:BC19) -> 636 | BD20: =IF(ISNUMBER(BA20/AZ20),BA20/AZ20," - ") -> 1.2644099 | BE20: =IF(ISNUMBER(BB20/BA20),BB20/BA20, " - ") -> 2.3404486 | BF20: =IF(ISNUMBER(BC20/BA20),BC20/BA20, " - ") -> 0.2301013 | BG20: =IF(ISNUMBER((AY20+AZ20)/BA20),(AY20+AZ20)/BA20," - ") -> 3.378437 | BH20: =SUBTOTAL(9,BH9:BH19) -> 10 | BI20: 0 | BK20: =SUBTOTAL(9,BK9:BK19) -> 0 | BM20: =AVERAGE(BM9:BM19) -> 2462.5 | CI20: =SUM(CI9:CI19) -> 0 | CJ20: =SUM(CJ9:CJ19) -> 0 | CK20: =SUM(CK9:CK19) -> 0 | CL20: =SUM(CL9:CL19) -> 0 | CN20: =SUBTOTAL(9,CN9:CN19) -> 10335.75 | CO20: =SUBTOTAL(9,CO9:CO19) -> 23630 | CP20: =SUBTOTAL(9,CP9:CP19) -> 10335.75 | DB20: =SUBTOTAL(9,DB9:DB19) -> 0 | DC20: =SUBTOTAL(9,DC9:DC19) -> 0 | DD20: =SUBTOTAL(9,DD9:DD19) -> 0 | DE20: =SUBTOTAL(9,DE9:DE19) -> 0 | DF20: =SUBTOTAL(9,DF9:DF19) -> 0 | DM20: =SUBTOTAL(9,DM9:DM19) -> 0 | DN20: =SUBTOTAL(9,DN9:DN19) -> 0 | DO20: =SUBTOTAL(9,DO9:DO19) -> 0 | DP20: =SUBTOTAL(9,DP9:DP19) -> 0 | DQ20: =SUBTOTAL(9,DQ9:DQ19) -> 0 | DR20: =SUBTOTAL(9,DR9:DR19) -> 0 | DS20: =SUBTOTAL(9,DS9:DS19) -> 0 | DT20: =SUBTOTAL(9,DT9:DT19) -> 0 | ... EN20: =SUBTOTAL(9,EN9:EN19) -> 0 | EP20: =SUBTOTAL(9,EP9:EP19) -> 0 | EQ20: =SUBTOTAL(9,EQ9:EQ19) -> 0 | ER20: =AVERAGE(ER9:ER19) -> 1729.32 | ES20: =AVERAGE(ES9:ES19) -> 0 | EV20: =AVERAGE(EV9:EV19) -> 0 | EW20: =AVERAGE(EW9:EW19) -> 0
E22: Leyenda Delimitadores
D23: CB = Cabecera | AO23: los comentarios introducidos las columnas nº de Organo y Nº de boletines se usan para evitar que formen pate de la suma total de esas columnas
D24: DT = Dato
D25: TC = Total Calculado
D26: TTC = Total Totales Calculados

Sheet DatosB
A1: 4 | DF1: 109
A2: =Criterios!C8 -> 0 | B2: =Criterios!B8 -> 0
A3: =Criterios!A9 -> Tribunales de Justicia | B3: =Criterios!B9 -> ANDALUCIA
A4: =Criterios!A10 -> Provincias | B4: =Criterios!B10 -> GRANADA | CE4: Año anterior
A5: ="Año: " &Criterios!B5 & " Trimestre " &Criterios!D5 & " al " &Criterios!D6 -> Año: 2026 Trimestre 2 al 2 | B5: AMBITO TERRITORIAL | C5: Delimitadores | D5: Clasificación | I5: Campos Asociados a: | AO5: Nº de Órganos que emiten un tipo concreto | AP5: Nº de Órganos B | AQ5: Magistrados | AR5: Magistrados B | AS5: MODULO DE ENTRADA 1 | AT5: MODULO DE ENTRADA 2 | AU5: MODULO DE RESOLUCION 1 | AV5: MODULO DE RESOLUCION 2 | AW5: MODULO DE PENDENCIA 1 | AX5: MODULO DE PENDENCIA 2 | AY5: Datos Año Anterior | BD5: Tasa Año Anterior | BH5: Nº de Órganos que emiten un tipo concreto TRIMESTRE ANTERIOR | BI5: Nº de Órganos B TRIMESTRE ANTERIOR | BJ5: MODULO AÑO ANTERIOR | BK5: MAGISTRADOS AÑO ANTERIOR | BL5: MAGISTRADOS AÑO ANTERIOR B | BM5: MODULO TEORICO DE ENTRADA DEL ÓRGANO | BV5: Sentencias Pendientes | BW5: Escritos pendientes de proveeer hasta 30 días | BX5: Escritos Pendientes de proveer más de 30 días | BY5: Puntos Dedicación | BZ5: Puntos Dedicación 2 | CA5: Monitorios Pendientes Inicio | CB5: Monitorios Ingresados | CC5: Monitorios Resuletos | CD5: Monitorios Pendientes fin | CE5: Monitorios Pendientes inicio | CF5: Monitorios Ingresados | CG5: Monitorios Resuletos | CH5: Monitorios Pendientes fin | CI5: Suspendidos | CJ5: Señalados | CK5: Sentencias Pendientes (menos 3 meses) | CL5: Sentencias Pendientes (entre 3 y 6 meses) | CM5: Sentencias Pendientes (más 6 mes) | CN5: Modulo teorico de dedicic. organo | CO5: Modulo teorico de entrada magistrado | CP5: Modulo teorico de dedicic. magistrado | CQ5: Puntos dedic. magistrado | CR5: Puntos dedic. Magistrado residual | CS5: Procedimeintos abreviados elevados | CT5: Registros | CU5: Carácter de actuación | CV5: Sentencias pendientes juez | CW5: Asuntos Pendientes de Incoar | CX5: Fecha más adelantada señalamiento | CY5: Autos Pendientes (menos de 3 meses) juez | CZ5: Autos Pendientes (entre 3 y 6 meses) juez | DA5: Autos Pendientes (más de 6 meses) juez | DB5: MODULO DE ENTRADA 1 INSPECCIÓN | DC5: MODULO DE ENTRADA 2 INSPECCIÓN | DD5: MODULO DE ENTRADA 3 INSPECCIÓN | DE5: Ejecuciones Reiniciadas | DF5: Asuntos reabiertos | DG5: Autos Pendientes (total) juez | DH5: Sentencias Pendientes (menos 3 meses) juez | DI5: Sentencias Pendientes (entre 3 y 6 meses) juez | DJ5: Sentencias Pendientes (más 6 mes) juez | DK5: Admisiones Sec. 1ª | DL5: Inadmisiones | DM5: Asuntos Acumulados | DN5: Pendencia Ordinarios | DO5: Pendencia Abreviados | DP5: Pendencia Recursos Apelación | DQ5: Proc. Abreviados ptes. Exclusivamente de Vista | DR5: Proc. Ordinarios ptes. Declarar Conclusos | DS5: Asuntos Pendientes Exclusivamente de Señalar Votación y Fallo | DT5: Asuntos Cuyo Plazo para Dictar Sentencia se Haya Diferido art. 67.2L RJCA | DU5: Medidas de Refuerzo | DV5: Nº TOTAL autos Pendientes | DW5: Nª autos menos 3 m | DX5: Nª autos entre 3 y 6m | DY5: Nª autos más de 6m | DZ5: Nº TOTAL Sentencias dictadasen P. Abreviados | EA5: Nº TOTAL Sentencias dictadas en p. Ordinarios | EB5: Número diligencias previas ingresadas | EC5: Número dtos leves ingresados Número dtos urgentes ingresados | ED5: Ingreso computable Proc. Abrev. | EE5: Modulo Ingreso Computable D. Previas 2003 | EF5: Modulo Ingreso Computable Dtos leves 2003 -Modulo Ingreso Computable D. Urgentes 2003 | EG5: Modulo ingreso computable 2013 Pas | EH5: Modulo ingreso computable 2013 Ejecutorias | EI5: Asuntos Pendientes de instrucción compleja | EJ5: Ejecutorias pendientes de Incoar | EK5: Asuntos resueltos sujetos a seguimiento y control | EL5: Concursos | EO5: MODULO DE ENTRADA 2018 | EP5: MODULO DE RESOLUCION 2018 | EQ5: MODULO DE PENDENCIA 2018 | ER5: MODULO TEÓRICO ENTRADA 2018 | ES5: Pendencia Concursos año anterior | ET5: Número días PyL | EU5: Número días Periodo | EV5: Asuntos Repartidos Pendientes de Aceptar | EW5: Ejecutorias Repartidass pendientes de Aceptar | EX5: Asuntos Devueltos al instructor | EY5: Pendientes remitir por Fiscalía | EZ5: CODUNIDAD
I6: Nº Asuntos | P6: Ejecutorias | S6: Año Anterior | Y6: Jurisdicción voluntaria | AC6: Diligencias indeterminadas | AG6: Jurisdicción voluntaria ANUAL | AK6: Diligencias indeterminadas ANUAL
A7: COMPETENCIAS | D7: Boletin | E7: Sub-modelo / nota:Residual en | F7: ccodtorg | G7: Csasenmu | H7: Especialidad | I7: Pendencias Inicio | J7: Ingresados | K7: Resueltos | L7: Pendencias Final | M7: Sentencias | N7: Autos | O7: Decretos | P7: Registradas | Q7: Resueltas | R7: Pendientes | S7: Pendencias Incio | T7: Ingresados | U7: Resueltos | V7: Pendientes fin | W7: Sentencias | X7: Autos | Y7: Pendencias Incio | Z7: Ingresados | AA7: Resueltos | AB7: Pendencias Final | AC7: Pendencias Incio | AD7: Ingresados | AE7: Resueltos | AF7: Pendencias Final | AG7: Pendencias Incio | AH7: Ingresados | AI7: Resueltos | AJ7: Pendencias Final | AK7: Pendencias Incio | AL7: Ingresados | AM7: Resueltos | AN7: Pendencias Final | AY7: Pendencias Incio | AZ7: Ingresados | BA7: Resueltos | BB7: Pendientes fin | BC7: Sentencias | BD7: Resueltos | BE7: Pendientes | BF7: Sentencia | BG7: Congestión | EL7: Presentados | EM7: Resolución | EN7: Pendencia
A8: Jurisdicción Civil ( 1 ): | B8: PJ | C8: CB | I8: 9 | J8: 10 | K8: 11 | L8: 12 | M8: 13 | N8: 14 | O8: 15 | P8: 16 | Q8: 17 | R8: 18 | S8: 19 | T8: 20 | U8: 21 | V8: 22 | W8: 23 | X8: 24 | Y8: 25 | Z8: 26 | AA8: 27 | AB8: 28 | AC8: 29 | AD8: 30 | AE8: 31 | AF8: 32 | AG8: 33 | AH8: 34 | AI8: 35 | AJ8: 36 | AK8: 37 | AL8: 38 | AM8: 39 | AN8: 40 | AO8: 41 | AP8: 42 | AQ8: 43 | AR8: 44 | AS8: 45 | AT8: 46 | AU8: 47 | AV8: 48 | AW8: 49 | AX8: 50 | AY8: 51 | AZ8: 52 | BA8: 53 | BB8: 54 | BC8: 55 | BD8: 56 | BE8: 57 | BF8: 58 | BG8: 59 | BH8: 60 | BI8: 61 | BJ8: 62 | BK8: 63 | BL8: 64 | BV8: 74 | BW8: 75 | BX8: 76 | BY8: 77 | BZ8: 78 | CA8: 79 | CB8: 80 | CC8: 81 | CD8: 82 | CE8: 83 | CF8: 84 | CG8: 85 | CH8: 86 | CI8: 87 | CJ8: 88 | CK8: 89 | CL8: 90 | CM8: 91 | CQ8: 95 | CR8: 96 | CS8: 97 | CT8: 98 | CU8: 99 | CV8: 100 | CW8: 101 | CX8: 102 | CY8: 103 | CZ8: 104 | DA8: 105 | DB8: 106 | DC8: 107 | DD8: 108 | DE8: 109 | DF8: 110 | DG8: 111 | DH8: 112 | DI8: 113 | DJ8: 114 | DK8: 115 | DL8: 116 | DM8: 117 | DN8: 118 | DO8: 119 | DP8: 120 | DQ8: 121 | DR8: 122 | DS8: 123 | DT8: 124 | DU8: 125 | DV8: 126 | DW8: 127 | DX8: 128 | DY8: 129 | DZ8: 130 | EA8: 131 | EB8: 132 | EC8: 133 | ED8: 134 | EE8: 135 | EF8: 136 | EG8: 137 | EH8: 138 | EI8: 139 | EJ8: 140 | EK8: 141 | EL8: 142 | EM8: 143 | EN8: 144 | EO8: 145 | EP8: 146 | EQ8: 147 | ER8: 148 | ES8: 149 | ET8: 150 | EU8: 151 | EV8: 152 | EW8: 153 | EX8: 154 | EY8: 155 | EZ8: 156
A9: Sección Civil del T.I | B9: PJ | C9: DT | D9: 04 | E9: 01 | F9: 32 | H9: (ccodespe like 'F%') (ccodespe like 'F%' or ccodespe like 'IN' or ccodespe like 'EC') | I9: TCON1111+MOVCO111+INCID111+MECAU111+TCON2111+TDERE118+NVL(CONCU119,0)+NVL(ICTOT119,0)+NVL(EXPAR119,0)+NVL(PCTOT119,0)+NVL(MONIT119,0)+NVL(JURIS119,0)+NVL(DILTO119,0)+NVL(MEDCA119,0)+NVL(ASTOT119,0)+INTEV115+PROCO118+PROES118+MEDTO118+INCTO118+AUTME115+SOLRE115+NVL(MICTO119,0) | J9: TCONT211+TCON2211+MOVCO211+INCID211+MECAU211+TDERE218+TDERE318+NVL(CONCU219,0)+NVL(ICTOT219,0)+NVL(EXPAR219,0)+NVL(PCTOT219,0)+NVL(MONIT219,0)+NVL(JURIS219,0)+NVL(DILTO219,0)+NVL(MEDCA219,0)+NVL(ASTOT219,0)+INTEV215+NVL(TPROC224,0)+NVL(TPROC324,0)+PROCO218+PROCO318+PROES218+MEDTO218+INCTO218+NVL(PIESE224,0)+NVL(SOLEX119,0)+AUTME215+SOLRE215+NVL(MICTO219,0) | K9: TCON1311+TCON2311+MOVCO511+MOVCO611+MOVCO711+INCID311+MECAU311+TDERE418+TDERE518+NVL(CONCU519,0)+NVL(CONCU619,0)+NVL(CONCU719,0)+NVL(ICTOT319,0)+NVL(EXPAR319,0)+NVL(PCTOT419,0)+NVL(MONIT319,0)+NVL(JURIS419,0)+NVL(DILTO319,0)+NVL(MEDCA319,0)+NVL(ASTOT319,0)+INTEV315+NVL(TPROC424,0)+PROCO518+PROES318+MEDTO318+INCTO318+NVL(PIESE324,0)+AUTME315+SOLRE315+NVL(MICTO519,0) | L9: TCON1411+TCON2411+TDERE618+NVL(CONCU819,0)+NVL(ICTOT419,0)+NVL(EXPAR419,0)+NVL(PCTOT519,0)+NVL(MONIT419,0)+NVL(JURIS519,0)+NVL(DILTO419,0)+NVL(MEDCA419,0)+NVL(ASTOT419,0)+INTEV415+NVL(TPROC524,0)+PROCO618+PROES418+MOVCO811+INCID411+MECAU411+MEDTO418+INCTO418+NVL(PIESE424,0)+AUTME415+SOLRE415+NVL(MICTO619,0) | M9: SENPT313+SENFT313+SENCOV13+SENCON13+NVL(PCNTO792,0)+NVL(PCINCO92,0)+NVL(PCSINV92,0)+NVL(PCIJO792,0)+NVL(PCIJV792,0)+NVL(PESCA792,0)+NVL(ORDSO792,0)+NVL(MDYMC792,0) | N9: AUTOST13+NVL(AUACTT92,0)+NVL(AUACMT92,0)+NVL(AUAVTT92,0)+NVL(AUASTT92,0)+NVL(AUJVOL92,0)+NVL(AUDPRE92,0)+NVL(AUCAUT92,0)+NVL(AUEJEC92,0)+NVL(AUINNO92,0)+NVL(AUOTCO92,0)+NVL(AUMDMT92,0)+NVL(AULOPJ92,0) | O9: DECRET13+NVL(DECRE392,0) | P9: TCIVI215+NVL(EJTOT219,0) | Q9: TCIVI515+NVL(EJTOT519,0) | R9: TCIVI615+NVL(EJTOT619,0) | Y9: TVOLU115+PRONO118 | Z9: TVOLU215+PRONO218 | AA9: TVOLU315+PRONO418+PRONO518 | AB9: TVOLU415+PRONO618 | AS9: TCONT211+TCON2211+MOVCO211+INCID211+MECAU211+TDERE218-RUPTC218+MEDTO218+INCTO218+EJEHI211+OTRNJ211+(-DIVOC218)+(-SEPAM218)+(-MECON218)+(-GUCON218)+NVL(CONCU219,0)*2+NVL(ICTOT219,0)*2+INTEV215*0.2+AUTMC215*0.2+AUTMP215+NVL(PCTOT219,0)*2+NVL(DILTO219,0)*2+NVL(MEDCA219,0)*2+NVL(EXPAR219,0)*2+PROMO218+PROES218+SOLRE215+NVL(MICTO219,0)*2 | AU9: TCON1311+TCON2311+MOVCO511+MOVCO611+MOVCO711+INCID311+MECAU311+TDERE518-RUPTC518+MEDTO318+INCTO318+EJEHI511+EJEHI411+OTRNJ511+OTRNJ411+(-DIVOC518)+(-SEPAM518)+(-MECON518)+(-GUCON518)+INTEV315*0.2+AUTMC315*0.2+AUTMP315+NVL(CONCU519,0)*2+NVL(CONCU619,0)*2+NVL(CONCU719,0)*2+NVL(ICTOT319,0)*2+NVL(EXPAR319,0)*2+NVL(PCTOT419,0)*2+NVL(DILTO319,0)*2+NVL(MEDCA319,0)*2+PROMO318+PROES318+SOLRE315 | AW9: TCON1411+TCON2411+MOVCO811+INCID411+MECAU411+TDERE618-RUPTC618+MEDTO418+INCTO418+EJEHI611+OTRNJ611+(-DIVOC618)+(-SEPAM618)+(-MECON618)+(-GUCON618)+NVL(CONCU819,0)*2+INTEV415*0.2+AUTMC415*0.2+AUTMP415+NVL(ICTOT419,0)*2+NVL(EXPAR419,0)*2+NVL(PCTOT519,0)*2+NVL(DILTO419,0)*2+NVL(MEDCA419,0)*2+PROMO418+PROES418+SOLRE415 | AY9: =IF(ISNUMBER(IF(Criterios!B13="SI",S9,S9+AG9)),IF(Criterios!B13="SI",S9,S9+AG9)," - ") -> 0 | BA9: =IF(ISNUMBER(IF(Criterios!B13="SI",U9,U9+AI9)),IF(Criterios!B13="SI",U9,U9+AI9)," - ") -> 0 | BB9: =IF(ISNUMBER(IF(Criterios!B13="SI",V9,V9+AJ9)),IF(Criterios!B13="SI",V9,V9+AJ9)," - ") -> 0 | BC9: =IF(ISNUMBER(X9),X9," - ") -> - | BD9: =IF(ISNUMBER(BA9/AZ9),BA9/AZ9," - ") -> - | BE9: =IF(ISNUMBER(BB9/BA9),BB9/BA9, " - ") -> - | BF9: =IF(ISNUMBER(BC9/BA9),BC9/BA9, " - ") -> - | BG9: =IF(ISNUMBER((AY9+AZ9)/BA9),(AY9+AZ9)/BA9," - ") -> - | BM9: 720 | BV9: SENPEN13+NVL(SENPNO92,0)+NVL(SENPNC92,0)+NVL(SENPNS92,0)+NVL(SENPEN25,0)+SENCOT13 | BW9: ESCHAT15+NVL(EPTOT319,0)+NVL(ESCHAT24,0) | BX9: ESCMAT15+NVL(EPTOT419,0)+NVL(ESCMAT24,0) | BY9: 2.84*TCON1311+12*(QUIEB311)+12*(SUSPE311)+(EJEHI411+EJEHI511)+4.5*(ORDIN311)+4.25*(DIPAT311+MOVCO711)+ESCAS311+2.5*(VERAR311+VERPO311+DEMAS311+VEROC311+TRAFA311+ARTLE311)+2*MECAU311+0.15*(MONIT311+MONIE311)+0.75*CAMBI311+1.5*(INCID311+INCTO318)+PROMO318-PROCO518-PRONO518+PROCO518*2.5+REPIN418+PROES318+OTRAP518+OTROC311+6*(NULID518)+0.5*(DIVOC518+SEPAM518)+3.25*(DIVON518+SEPAC518)+EFICA518+MEDTO318+0.5*(GUCON518)+3.25*(GUNOC518)+0.5*(MECON518)+3.25*(MENOC518)+0.5*(RUPTC518)+AUTMP315+3.25*(RUPTN518)+4.5*(JUORD518)+4.25*(LIREG518)+2.5*(JUVER518)+2.5*(SUSTR518)+2.5*(OPRES518)+SOLRE315+NVL(6*PCCONV92,0)+NVL(8*PCCALI92,0)+NVL(4.5*PCINCO92,0)+NVL(4.5*PCSINV92,0)+NVL(4.5*PCIJO792,0)+NVL(2.5*PCIJV792,0)+NVL(2.5*PESCA792,0)+NVL(3.5*ORDSET92,0)+NVL(AUSINM92,0)*0.5+NVL(AUREL192,0)*6+NVL(AUREL292,0)*6+NVL(AUREL392,0)*6+NVL(6*AURESO92,0)+NVL(6*AUCOFA92,0)+NVL(6*AUNOAC92,0)+NVL(6*AUDECU92,0)+NVL(6*AUAPPI92,0)+NVL(2*AUREAU92,0)+NVL(2.5*AUAVT192,0)+NVL(4.5*AUAVT292,0)+NVL(0.15*AUAVT392,0)+NVL(2.5*AUAVT492,0)+NVL(0.5*AUASAP92,0)+NVL(6*AUASRE92,0)+NVL(3.5*AUASDI92,0)+NVL(2*AUDPRE92,0)+NVL(2*AUCAUT92,0)+NVL(1.5*AUINNO92,0)+NVL(1*AUOTCO92,0)+NVL(AUACT192*4.5,0)+NVL(ORDIN192*3.5,0)+NVL(ORDIN292*3,0)+2.5*(GREATEST(NVL(ICLAB319,0)-NVL(ORDIN192,0)-NVL(ORDIN292,0)-NVL(ORDSET92,0),0)) | BZ9: 12*(NVL(SUMAR424,0))+18*(NVL(PELEVT24,0))+3*1.05*(NVL(TPRAB224,0)+NVL(TPRAB424,0))+1.75*1.05*(NVL(SENTET25,0)+NVL(DELLE525,0)-NVL(MOJRA424,0)-NVL(MOLEV424,0))+(NVL(HABEA424,0))+2*(NVL(SENDET25,0)+NVL(SENDVD25,0))+2*(NVL(MOJRA424,0))+2*(NVL(MOLEV424,0))+2*(NVL(TORDP424,0)+NVL(TORDP324,0))+2*(NVL(VMOPRT24+VSOPRT24,0))+25*(CASE when (NVL(PCCONV92,-1)>=0) THEN 1 ELSE 0 END) | CA9: MONIE111+MONIT111+NVL(MONIT119,0) | CB9: MONIE211+MONIT211+NVL(MONIT219,0) | CC9: MONIE311+MONIT311+NVL(MONIT319,0) | CD9: MONIE411+MONIT411+NVL(MONIT419,0) | CI9: SUSPJ215+NVL(SENIJ219,0)+SUSPI215+NVL(SENIJ419,0) | CJ9: SENIJ115+NVL(SENIJ319,0) | CK9: SENPE113+NVL(SENPE185,0)+NVL(SENPN192,0)+NVL(SENPC192,0)+NVL(SENPS192,0)+NVL(SENPM192,0)+SENCO113 | CL9: SENPE213+NVL(SENPE285,0)+NVL(SENPN292,0)+NVL(SENPC292,0)+NVL(SENPS292,0)+NVL(SENPM292,0)+SENCO213 | CM9: SENPE313+NVL(SENPE385,0)+NVL(SENPN392,0)+NVL(SENPC392,0)+NVL(SENPS392,0)+NVL(SENPM392,0)+SENCO313 | CN9: 1088 | CO9: 720 | CP9: 1088 | CQ9: (CASE WHEN SENPT313+SENCOV13+SENCON13+SENFT313>0 THEN (SENPT314+SENICV14+SENINS14+SENFT314)/(SENPT313+SENCOV13+SENCON13+SENFT313) ELSE 0 END)*(2.84*TCON1311+EJEHI411+EJEHI511+12*QUIEB311+12*SUSPE311+4.5*(ORDIN311)+4.25*(DIPAT311+MOVCO711)+2.5*(VERAR311+VERPO311+DEMAS311+VEROC311+TRAFA311+ARTLE311)+2*MECAU311+ESCAS311+0.75*CAMBI311+1.5*(INCID311)+OTROC311+PROMO318-PROCO518-PRONO518+PROCO518*2.5+REPIN418+PROES318+6*(NULID518)+0.5*(DIVOC518+SEPAM518)+3.25*(DIVON518+SEPAC518)+EFICA518+MEDTO318+0.5*(GUCON518)+3.25*(GUNOC518)+0.5*(MECON518)+2.5*(OPRES518)+3.25*(MENOC518)+4.5*(JUORD518)+4.25*(LIREG518)+2.5*(JUVER518)+1.5*(INCTO318)+OTRAP518+2.5*SUSTR518+0.5*RUPTC518+3.25*RUPTN518+AUTMP315+SOLRE315) | CR9: ((CASE WHEN (SENTET25+DELLE525+SENDET25+SENDVD25)>0 THEN (SENTET26+DELLE526+SENDET26+SENDVD26)/(SENTET25+DELLE525+SENDET25+SENDVD25) ELSE 0 END)*(12*(SUMAR424)+18*(PELEVT24)+3*1.05*(TPRAB224+TPRAB424)+1.75*1.05*(SENTET25+DELLE525-MOJRA424-MOLEV424)+(HABEA424)+25+2*(SENDET25+SENDVD25)+2*(MOJRA424+MOLEV424)+2*(TORDP424+TORDP324)+2*(VMOPRT24+VSOPRT24))) | CV9: SENPEN14+SENCOT14 | CW9: DEMPEN11+NVL(DEMPEN19,0) | CX9: ULTSEN15 | CY9: AUTPE114 | CZ9: AUTPE214 | DA9: AUTPE314 | DB9: TCONT211+TCON2211+INCID211+MECAU211+MOVCO211+TVOLU215+INTEV215*0.16+TDERE218*0.8+MEDTO218*0.8+INCTO218*0.8+NVL(CONCU219,0)*2.2+NVL(ICTOT219,0)*2.2+NVL(EXPAR219,0)*2.2+NVL(PCTOT219,0)*2.2+NVL(DILTO219,0)*2.2+NVL(MEDCA219,0)*2.2+NVL(ASTOT219,0)*2.2+NVL(JURIS219,0)+NVL(MONIT219,0)+NVL(TPROC224,0)*0.36+PROMO218+PROES218+AUTME215+SOLRE215+NVL(MICTO219,0)*2.2 | DC9: TCONT211+TCON2211+TVOLU215+INCID211+MECAU211+MOVCO211+INTEV215+TDERE218+TDERE318+MEDTO218+NVL(CONCU219,0)+NVL(ICTOT219,0)+NVL(EXPAR219,0)+NVL(PCTOT219,0)+NVL(DILTO219,0)+NVL(MEDCA219,0)+NVL(ASTOT219,0)+ NVL(JURIS119,0)+NVL(MONIT219,0)+NVL(TPROC224,0)+PROMO218+PROES218+SOLRE215+INCTO218+AUTME215+NVL(MICTO219,0) | DE9: TCIVI315+NVL(EJTOT319,0) | DG9: AUTPE414 | DH9: SENPE114+SENCO114 | DI9: SENPE214+SENCO214 | DJ9: SENPE314+SENCO314 | DU9: PKTMAG14 | DV9: AUTPE413 | DW9: AUTPE113 | DX9: AUTPE213 | DY9: AUTPE313 | EL9: MOVCO211 | EM9: MOVCO711 | EN9: MOVCO811 | EO9: TCON2211+MOVCO211*1.5+INCID211+MECAU211+TVOLU215+(TDERE218+MEDTO218+INCTO218)*0.8+INTEV215+AUTME215+PROMO218+PROES218+REPIN318+SOLRE215+TCIVI215+(NVL(CONCU219,0) +NVL(ICTOT219,0)+NVL(PCTOT219,0)+NVL(DILTO219,0)+NVL(MEDCA219,0)+NVL(EXPAR219,0)+NVL(MONIT219,0)+NVL(JURIS219,0))*1.5+NVL(EJTOT219,0)+(NVL(TPROC224,0)+NVL(PIESE224,0)+NVL(ASUEX224,0)+NVL(MICTO219,0))*0.36 | EP9: TCON2311+MOVCO711*1.5+INCID311+REPIN418+MECAU311+TVOLU315+(TDERE418+TDERE518+MEDTO318+INCTO318)*0.8+INTEV315+AUTME315+PROMO318+PROES318+SOLRE315+TCIVI515+(NVL(CONCU719,0)+NVL(ICTOT319,0)+NVL(PCTOT419,0)+NVL(DILTO319,0)+NVL(MEDCA319,0)+NVL(EXPAR319,0)+NVL(MONIT319,0)+NVL(JURIS419,0))*1.5+NVL(EJTOT519,0)+(NVL(TPROC424,0)+NVL(PIESE324,0)+NVL(ASUEX324,0)+NVL(MICTO519,0))*0.36 | EQ9: TCON2411+MOVCO811*1.5+INCID411+REPIN518+MECAU411+TVOLU415+(TDERE618+MEDTO418+INCTO418)*0.8+INTEV415+AUTME415+PROMO418+PROES418+SOLRE415+TCIVI615+(NVL(CONCU819,0)+NVL(ICTOT419,0)+NVL(PCTOT519,0)+NVL(DILTO419,0)+NVL(MEDCA419,0)+NVL(EXPAR419,0)+NVL(MONIT419,0)+NVL(JURIS519,0))*1.5+NVL(EJTOT619,0)+(NVL(TPROC524,0)+NVL(PIESE424,0)+NVL(ASUEX424,0)+NVL(MICTO619,0))*0.36 | ER9: 1200 | EV9: DEMREP11+NVL(DEMREP19,0)
A10: Sección De Violencia sobre la Mujer del TI | B10: PJ | C10: DT | D10: 37 | E10: 37 | F10: 53 | I10: PCTOT147+MEDTO147+INCTO147+EXPOT147 | J10: PCTOT247+PCTOT347+MEDTO247+INCTO247+EXPOT247 | K10: PCTOT447+PCTOT547+MEDTO347+INCTO347+EXPOT347 | L10: PCTOT647+MEDTO447+INCTO447+EXPOT447 | M10: SENPRT85 | N10: AUTOST85 | O10: DECRE585 | P10: EJECU247 | Q10: EJECU547 | R10: EJECU647 | AS10: PCTOT247+(-PCCON247)+(-PCSAC247)+(-PCMOD247)+(-PCGUA247)+PCRUC247 | AU10: PCTOT547+(-PCCON547)+(-PCSAC547)+(-PCMOD547)+(-PCGUA547)+PCRUC547 | AW10: PCTOT647+(-PCCON647)+(-PCSAC647)+(-PCMOD647)+(-PCGUA647)+PCRUC647 | AY10: =IF(ISNUMBER(S10),S10," - ") -> - | AZ10: =IF(ISNUMBER(T10),T10," - ") -> - | BA10: =IF(ISNUMBER(U10),U10," - ") -> - | BB10: =IF(ISNUMBER(V10),V10," - ") -> - | BC10: =IF(ISNUMBER(W10),W10," - ") -> - | BD10: =IF(ISNUMBER(BA10/AZ10),BA10/AZ10," - ") -> - | BE10: =IF(ISNUMBER(BB10/BA10),BB10/BA10, " - ") -> - | BF10: =IF(ISNUMBER(BC10/BA10),BC10/BA10, " - ") -> - | BG10: =IF(ISNUMBER((AY10+AZ10)/BA10),(AY10+AZ10)/BA10," - ") -> - | BM10: 0 | BV10: SENPEN85 | BW10: ESCHAT47 | BX10: ESCMAT47 | BY10: (PCNUL547)*6+(PCCON547+PCSAC547)* 0.5+(PCNCO547+PCSCO547)* 3.25+(PCEFI547)+(MEDTO347)+(PCGUA547)* 0.5+(PCGNC547)*3.25+(PCMOD547)* 0.5+(PCMOC547)* 3.25+(PCLIQ547)*4.25+(PCJVE547)*2.5+(INCTO347)*1.5+(PCOTR547)+ 2.5*(PCSUS547)+0.5*(PCRUC547)+3.25*(PCRUN547)+EXPOT347 | CI10: SUSPJ247+SUSPJ147 | CJ10: SENIJ147 | CK10: SENPE185 | CL10: SENPE285 | CM10: SENPE385 | CN10: 1175 | CO10: 0 | CP10: 1175,1088,1088 1175,1088,1001 1175,1088,935 1175,1088,870 | CQ10: (CASE WHEN SENPRT85>0 THEN SENPRT82/SENPRT85 ELSE 0 END)*(PCNUL547*6+(PCCON547+PCSAC547)*0.5+(PCNCO547+PCSCO547)*3.25+PCEFI547*1+(MEDTO347)*1+PCGUA547*0.5+PCGNC547*3.25+PCMOD547*0.5+PCMOC547*3.25+PCLIQ547*4.25+PCJVE547*2.5+(INCTO347)*1.5+PCOTR547*1+2.5*(PCSUS547)+0.5*(PCRUC547)+3.25*(PCRUN547)+EXPOT347) | CV10: SENPEN82 | CW10: DEMPEN47 | CX10: ULTSEN47 | CY10: AUTPE182 | CZ10: AUTPE282 | DA10: AUTPE382 | DB10: PCTOT247+PCTOT347+MEDTO247+INCTO247+EXPOT247 | DE10: EJECU347 | DG10: AUTPEN82 | DH10: SENPE182 | DI10: SENPE282 | DJ10: SENPE382 | DU10: PKTMAG86 | DV10: AUTPEN85 | DW10: AUTPE185 | DX10: AUTPE285 | DY10: AUTPE385 | EO10: PCTOT247 | EP10: PCTOT447+PCTOT547 | EQ10: PCTOT647 | ER10: 1600 | EV10: DEMREP47
A11: Sección de Familia, infancia y capacidad del TI | B11: PJ | C11: DT | D11: 04 | E11: 02 | F11: 32 | H11: ccodespe like 'F%' | I11: TCON1111+MOVCO111+INCID111+MECAU111+TCON2111+TDERE118+INTEV115+PROCO118+PROES118+MEDTO118+INCTO118+AUTME115+SOLRE115 | J11: TCONT211+TCON2211+MOVCO211+INCID211+MECAU211+TDERE218+TDERE318+INTEV215+PROCO218+PROCO318+PROES218+MEDTO218+INCTO218+SOLRE215+AUTME215 | K11: TCON1311+TCON2311+MOVCO511+MOVCO611+MOVCO711+INCID311+MECAU311+TDERE418+TDERE518+INTEV315+PROCO518+PROES318+MEDTO318+INCTO318+AUTME315+SOLRE315 | L11: TCON1411+TCON2411+TDERE618+INTEV415+PROCO618+PROES418+MOVCO811+INCID411+MECAU411+MEDTO418+INCTO418+AUTME415+SOLRE415 | M11: SENPT313+SENFT313+SENCOV13+SENCON13 | N11: AUTOST13 | O11: DECRET13 | P11: TCIVI215 | Q11: TCIVI515 | R11: TCIVI615 | Y11: TVOLU115+PRONO118 | Z11: TVOLU215+PRONO218 | AA11: TVOLU315+PRONO418+PRONO518 | AB11: TVOLU415+PRONO618 | AS11: TDERE218+MEDTO218+INCTO218+PROMO218+PROES218+SOLRE215+INTEV215*0.2+AUTMC215*0.2+AUTMP215+TCON2211+INCID211+MECAU211 | AU11: TDERE518+MEDTO318+INCTO318+PROMO318+PROES318+SOLRE315+INTEV315+AUTMC315+AUTMP315+TCON2311+INCID311+MECAU311 | AW11: TDERE618+PROMO418+PROES418+MEDTO418+INCTO418+INTEV415+AUTMC415+AUTMP415+SOLRE415+TCON2411+INCID411+MECAU411 | AY11: =IF(ISNUMBER(IF(Criterios!B13="SI",S11,S11+AG11)),IF(Criterios!B13="SI",S11,S11+AG11)," - ") -> 0 | AZ11: =IF(ISNUMBER(IF(Criterios!B13="SI",T11,T11+AH11)),IF(Criterios!B13="SI",T11,T11+AH11)," - ") -> 0 | BA11: =IF(ISNUMBER(IF(Criterios!B13="SI",U11,U11+AI11)),IF(Criterios!B13="SI",U11,U11+AI11)," - ") -> 0 | BB11: =IF(ISNUMBER(IF(Criterios!B13="SI",V11,V11+AJ11)),IF(Criterios!B13="SI",V11,V11+AJ11)," - ") -> 0 | BC11: =IF(ISNUMBER(X11),X11," - ") -> - | BD11: =IF(ISNUMBER(BA11/AZ11),BA11/AZ11," - ") -> - | BE11: =IF(ISNUMBER(BB11/BA11),BB11/BA11, " - ") -> - | BF11: =IF(ISNUMBER(BC11/BA11),BC11/BA11, " - ") -> - | BG11: =IF(ISNUMBER((AY11+AZ11)/BA11),(AY11+AZ11)/BA11," - ") -> - | BM11: 1000 | BV11: SENPEN13+SENCOT13 | BW11: ESCHAT15 | BX11: ESCMAT15 | BY11: 6*(NULID518)+0.5*(DIVOC518+SEPAM518)+3.25*(DIVON518+SEPAC518)+0.5*(GUCON518)+3.25*(GUNOC518)+0.5*(MECON518)+3.25*(MENOC518)+4.5*(JUORD518)+4.25*(LIREG518)+2.5*(JUVER518+PROMO318-PROCO518-PRONO518+PROCO518)+REPIN418+PROES318+1.5*(INCTO318)+OTRAP518+OTROC311+EFICA518+2.5*(SUSTR518)+0.5*(RUPTC518)+3.25*(RUPTN518)+AUTMP315+SOLRE315+2.5*OPRES518 | BZ11: 2.84*TCON1311+4.5*(ORDIN311)+4.25*(DIPAT311+MOVCO711)+2.5*(VERAR311+VERPO311+DEMAS311+VEROC311+TRAFA311+ARTLE311)+2*MECAU311+0.15*(MONIT311+MONIE311)+0.75*CAMBI311+1.5*(INCID311) | CA11: MONIE111+MONIT111 | CB11: MONIE211+MONIT211 | CC11: MONIE311+MONIT311 | CD11: MONIE411+MONIT411 | CI11: SUSPJ215+SUSPI215 | CJ11: SENIJ115 | CK11: SENPE113+SENCO113 | CL11: SENPE213+SENCO213 | CM11: SENPE313+SENCO313 | CN11: 1088 | CO11: 1000 | CP11: 1088 | CQ11: (CASE WHEN SENFT313>0 THEN SENFT314/SENFT313 ELSE 0 END)*(6*(NULID518)+0.5*(DIVOC518+SEPAM518)+3.25*(DIVON518+SEPAC518)+EFICA518+0.5*(GUCON518)+3.25*(GUNOC518)+0.5*(MECON518)+3.25*(MENOC518)+4.5*(JUORD518)+4.25*(LIREG518)+2.5*(JUVER518+PROMO318-PROCO518-PRONO518+PROES318)+OTRAP518+2.5*SUSTR518+0.5*RUPTC518+3.25*RUPTN518+AUTMP315+SOLRE315+OTROC311+1.5*(INCTO318)+PROCO518*2.5+REPIN418+2.5*OPRES518) | CR11: (CASE WHEN SENPT313+SENCOV13+SENCON13+SENFT313>0 THEN (SENPT314+SENICV14+SENINS14+SENFT314)/(SENPT313+SENCOV13+SENCON13+SENFT313) ELSE 0 END)*(2.84*TCON1311+4.5*(ORDIN311)+4.25*DIPAT311+2.5*(VERAR311+VERPO311+DEMAS311+VEROC311+TRAFA311+ARTLE311)+2*MECAU311+0.75*CAMBI311+1.5*(INCID311)+OTROC311) | CV11: SENPEN14+SENCOT14 | CW11: DEMPEN11 | CX11: ULTSEN15 | CY11: AUTPE114 | CZ11: AUTPE214 | DA11: AUTPE314 | DB11: TDERE218+TVOLU215+INCID211+MECAU211+MOVCO211+INTEV215*0.2+MEDTO218+INCTO218+NVL(CONCU219,0)*2.2+NVL(ICTOT219,0)*2.2+NVL(EXPAR219,0)*2.2+NVL(PCTOT219,0)*2.2+NVL(DILTO219,0)*2.2+NVL(MEDCA219,0)*2.2+NVL(ASTOT219,0)*2.2+TCONT211*1.25+TCON2211*1.25+PROMO218+PROES218+AUTME215+SOLRE215+NVL(MICTO219,0)*2.2 | DC11: TDERE218+TDERE318+TVOLU215+INTEV215+INCID211+MECAU211+MOVCO211+MEDTO218+INCTO218+NVL(CONCU219,0)+NVL(ICTOT219,0)+NVL(EXPAR219,0)+NVL(PCTOT219,0)+NVL(DILTO219,0)+NVL(MEDCA219,0)+NVL(ASTOT219,0)+TCONT211+TCON2211+PROMO218+PROES218+SOLRE215+AUTME215+NVL(MICTO219,0) | DE11: TCIVI315 | DG11: AUTPE414 | DH11: SENPE114+SENCO114 | DI11: SENPE214+SENCO214 | DJ11: SENPE314+SENCO314 | DU11: PKTMAG14 | DV11: AUTPE413 | DW11: AUTPE113 | DX11: AUTPE213 | DY11: AUTPE313 | EO11: TDERE218+MEDTO218+INCTO218+TVOLU215*0.6+INTEV215*0.32+AUTME215+(PROMO218-PROCO218-PRONO218+PROES218+PROCO218)*1.6+PRONO218*0.6+REPIN318+SOLRE215+TCIVI215+TCON2211*1.25+MOVCO211*1.875+INCID211*1.25+MECAU211*1.25+(NVL(CONCU219,0)+NVL(ICTOT219,0)+NVL(PCTOT219,0)+NVL(DILTO219,0)+NVL(MEDCA219,0)+NVL(EXPAR219,0)+NVL(MONIT219,0)+NVL(JURIS219,0)+NVL(MICTO219,0))*1.875+NVL(EJTOT219,0) | EP11: TDERE418+TDERE518+REPIN418+MEDTO318+INCTO318*0.6+TVOLU315*0.32+INTEV315+AUTME315+(PROMO318+PROES318)*1.6+SOLRE315+TCIVI515+TCON2311*1.25+MOVCO711*1.875+INCID311*1.25+MECAU311*1.25+(NVL(CONCU719,0)+NVL(ICTOT319,0)+NVL(PCTOT419,0)+NVL(DILTO319,0)+NVL(MEDCA319,0)+NVL(EXPAR319,0)+NVL(MONIT319,0)+NVL(JURIS419,0))*1.875+NVL(EJTOT319,0) | EQ11: TDERE618+MEDTO418+REPIN518+INCTO418+TVOLU415*0.6+INTEV415*0.32+AUTME415+(PROMO418+PROES418)*1.6+SOLRE415+TCIVI615+TCON2411*1.25+MOVCO811*1.875+INCID411*1.25+MECAU411*1.25+(NVL(CONCU819,0)+NVL(ICTOT419,0)+NVL(PCTOT519,0)+NVL(DILTO419,0)+NVL(MEDCA419,0)+NVL(EXPAR419,0)+NVL(MONIT419,0)+NVL(JURIS519,0))*1.875+NVL(EJTOT419,0) | ER11: 1323 | EV11: DEMREP11
